BEGIN:VCALENDAR
VERSION:2.0
PRODID:-//Jerusalem Baptist Church, Fairfax Station, VA - ECPv6.15.20//NONSGML v1.0//EN
CALSCALE:GREGORIAN
METHOD:PUBLISH
X-ORIGINAL-URL:https://jerusalembaptist.org
X-WR-CALDESC:Events for Jerusalem Baptist Church, Fairfax Station, VA
REFRESH-INTERVAL;VALUE=DURATION:PT1H
X-Robots-Tag:noindex
X-PUBLISHED-TTL:PT1H
BEGIN:VTIMEZONE
TZID:America/New_York
BEGIN:DAYLIGHT
TZOFFSETFROM:-0500
TZOFFSETTO:-0400
TZNAME:EDT
DTSTART:20290311T070000
END:DAYLIGHT
BEGIN:STANDARD
TZOFFSETFROM:-0400
TZOFFSETTO:-0500
TZNAME:EST
DTSTART:20291104T060000
END:STANDARD
BEGIN:DAYLIGHT
TZOFFSETFROM:-0500
TZOFFSETTO:-0400
TZNAME:EDT
DTSTART:20300310T070000
END:DAYLIGHT
BEGIN:STANDARD
TZOFFSETFROM:-0400
TZOFFSETTO:-0500
TZNAME:EST
DTSTART:20301103T060000
END:STANDARD
BEGIN:DAYLIGHT
TZOFFSETFROM:-0500
TZOFFSETTO:-0400
TZNAME:EDT
DTSTART:20310309T070000
END:DAYLIGHT
BEGIN:STANDARD
TZOFFSETFROM:-0400
TZOFFSETTO:-0500
TZNAME:EST
DTSTART:20311102T060000
END:STANDARD
END:VTIMEZONE
BEGIN:VEVENT
DTSTART;TZID=America/New_York:20300327T180000
DTEND;TZID=America/New_York:20300327T190000
DTSTAMP:20260423T235425
CREATED:20260219T172728Z
LAST-MODIFIED:20260219T173006Z
UID:10002767-1900864800-1900868400@jerusalembaptist.org
SUMMARY:Wednesday Night Prayer Gathering
DESCRIPTION:« All Events \nThis event has passed. \nWednesday Night Prayer Gathering\nJanuary 7\n@\n6:00 pm\n–\n7:00 pm \nJoin us for our weekly prayer gathering on Wednesday nights! \n \n\nJerusalem Baptist Church \n5424 Ox RdFairfax Station\,\nVA\n22039\nUnited States \n\n+ Google Map \n  \n\n\n\n\nAdd to calendar \n  \n\nGoogle Calendar\niCalendar\nOutlook 365\nOutlook Live\n\nCategories:\nGeneral Events \n\n\n\nAwana Clubs \n\nAwana Clubs
URL:https://jerusalembaptist.org/event/wednesday-night-prayer/2030-03-27/
LOCATION:Jerusalem Baptist Church\, 5424 Ox Rd\, Fairfax Station\, VA\, 22039\, United States
CATEGORIES:General Events
ATTACH;FMTTYPE=image/png:https://jerusalembaptist.org/wp-content/uploads/2026/02/WednesdayNightPrayerFinal2025-1.png
END:VEVENT
BEGIN:VEVENT
DTSTART;TZID=America/New_York:20300331T093000
DTEND;TZID=America/New_York:20300331T103000
DTSTAMP:20260423T235425
CREATED:20260128T175858Z
LAST-MODIFIED:20260128T175858Z
UID:10000231-1901179800-1901183400@jerusalembaptist.org
SUMMARY:JBC Kids Sunday Morning Bible Study
DESCRIPTION:
URL:https://jerusalembaptist.org/event/jbc-kids-sunday-morning-bible-study/2030-03-31/
LOCATION:Jerusalem Baptist Church\, 5424 Ox Rd\, Fairfax Station\, VA\, 22039\, United States
CATEGORIES:Kids Events
ATTACH;FMTTYPE=image/png:https://jerusalembaptist.org/wp-content/uploads/2025/10/4.png
ORGANIZER;CN="JBC Kids":MAILTO:jerusalembaptistchildren@gmail.com
END:VEVENT
BEGIN:VEVENT
DTSTART;TZID=America/New_York:20300331T110000
DTEND;TZID=America/New_York:20300331T121500
DTSTAMP:20260423T235425
CREATED:20260217T174642Z
LAST-MODIFIED:20260217T175139Z
UID:10002446-1901185200-1901189700@jerusalembaptist.org
SUMMARY:11 am Worship
DESCRIPTION:« All Events \nThis event has passed. \n11 am Worship\nFebruary 1\n@\n11:00 am\n–\n12:15 pm \nWorship with us on Sunday mornings! All are invited! For more details about the service\, check out our Plan Your Visit page! \n\nJerusalem Baptist Church \n5424 Ox RdFairfax Station\,\nVA\n22039\nUnited States \n\n+ Google Map \n  \n\n\n\n\nAdd to calendar \n  \n\nGoogle Calendar\niCalendar\nOutlook 365\nOutlook Live\n\nCategories:\nGeneral Events \n\n\n\nJBC Kids Sunday Morning Bible Study \n\nLocal Missions Saturday
URL:https://jerusalembaptist.org/event/sunday/2030-03-31/
LOCATION:Jerusalem Baptist Church\, 5424 Ox Rd\, Fairfax Station\, VA\, 22039\, United States
CATEGORIES:General Events
ATTACH;FMTTYPE=image/jpeg:https://jerusalembaptist.org/wp-content/uploads/2026/02/Worship-With-Us.jpg
END:VEVENT
BEGIN:VEVENT
DTSTART;TZID=America/New_York:20300403T180000
DTEND;TZID=America/New_York:20300403T190000
DTSTAMP:20260423T235425
CREATED:20260219T172728Z
LAST-MODIFIED:20260219T173006Z
UID:10002768-1901469600-1901473200@jerusalembaptist.org
SUMMARY:Wednesday Night Prayer Gathering
DESCRIPTION:« All Events \nThis event has passed. \nWednesday Night Prayer Gathering\nJanuary 7\n@\n6:00 pm\n–\n7:00 pm \nJoin us for our weekly prayer gathering on Wednesday nights! \n \n\nJerusalem Baptist Church \n5424 Ox RdFairfax Station\,\nVA\n22039\nUnited States \n\n+ Google Map \n  \n\n\n\n\nAdd to calendar \n  \n\nGoogle Calendar\niCalendar\nOutlook 365\nOutlook Live\n\nCategories:\nGeneral Events \n\n\n\nAwana Clubs \n\nAwana Clubs
URL:https://jerusalembaptist.org/event/wednesday-night-prayer/2030-04-03/
LOCATION:Jerusalem Baptist Church\, 5424 Ox Rd\, Fairfax Station\, VA\, 22039\, United States
CATEGORIES:General Events
ATTACH;FMTTYPE=image/png:https://jerusalembaptist.org/wp-content/uploads/2026/02/WednesdayNightPrayerFinal2025-1.png
END:VEVENT
BEGIN:VEVENT
DTSTART;TZID=America/New_York:20300407T093000
DTEND;TZID=America/New_York:20300407T103000
DTSTAMP:20260423T235425
CREATED:20260128T175858Z
LAST-MODIFIED:20260128T175858Z
UID:10000232-1901784600-1901788200@jerusalembaptist.org
SUMMARY:JBC Kids Sunday Morning Bible Study
DESCRIPTION:
URL:https://jerusalembaptist.org/event/jbc-kids-sunday-morning-bible-study/2030-04-07/
LOCATION:Jerusalem Baptist Church\, 5424 Ox Rd\, Fairfax Station\, VA\, 22039\, United States
CATEGORIES:Kids Events
ATTACH;FMTTYPE=image/png:https://jerusalembaptist.org/wp-content/uploads/2025/10/4.png
ORGANIZER;CN="JBC Kids":MAILTO:jerusalembaptistchildren@gmail.com
END:VEVENT
BEGIN:VEVENT
DTSTART;TZID=America/New_York:20300407T110000
DTEND;TZID=America/New_York:20300407T121500
DTSTAMP:20260423T235425
CREATED:20260217T174642Z
LAST-MODIFIED:20260217T175139Z
UID:10002447-1901790000-1901794500@jerusalembaptist.org
SUMMARY:11 am Worship
DESCRIPTION:« All Events \nThis event has passed. \n11 am Worship\nFebruary 1\n@\n11:00 am\n–\n12:15 pm \nWorship with us on Sunday mornings! All are invited! For more details about the service\, check out our Plan Your Visit page! \n\nJerusalem Baptist Church \n5424 Ox RdFairfax Station\,\nVA\n22039\nUnited States \n\n+ Google Map \n  \n\n\n\n\nAdd to calendar \n  \n\nGoogle Calendar\niCalendar\nOutlook 365\nOutlook Live\n\nCategories:\nGeneral Events \n\n\n\nJBC Kids Sunday Morning Bible Study \n\nLocal Missions Saturday
URL:https://jerusalembaptist.org/event/sunday/2030-04-07/
LOCATION:Jerusalem Baptist Church\, 5424 Ox Rd\, Fairfax Station\, VA\, 22039\, United States
CATEGORIES:General Events
ATTACH;FMTTYPE=image/jpeg:https://jerusalembaptist.org/wp-content/uploads/2026/02/Worship-With-Us.jpg
END:VEVENT
BEGIN:VEVENT
DTSTART;TZID=America/New_York:20300410T180000
DTEND;TZID=America/New_York:20300410T190000
DTSTAMP:20260423T235425
CREATED:20260219T172728Z
LAST-MODIFIED:20260219T173006Z
UID:10002769-1902074400-1902078000@jerusalembaptist.org
SUMMARY:Wednesday Night Prayer Gathering
DESCRIPTION:« All Events \nThis event has passed. \nWednesday Night Prayer Gathering\nJanuary 7\n@\n6:00 pm\n–\n7:00 pm \nJoin us for our weekly prayer gathering on Wednesday nights! \n \n\nJerusalem Baptist Church \n5424 Ox RdFairfax Station\,\nVA\n22039\nUnited States \n\n+ Google Map \n  \n\n\n\n\nAdd to calendar \n  \n\nGoogle Calendar\niCalendar\nOutlook 365\nOutlook Live\n\nCategories:\nGeneral Events \n\n\n\nAwana Clubs \n\nAwana Clubs
URL:https://jerusalembaptist.org/event/wednesday-night-prayer/2030-04-10/
LOCATION:Jerusalem Baptist Church\, 5424 Ox Rd\, Fairfax Station\, VA\, 22039\, United States
CATEGORIES:General Events
ATTACH;FMTTYPE=image/png:https://jerusalembaptist.org/wp-content/uploads/2026/02/WednesdayNightPrayerFinal2025-1.png
END:VEVENT
BEGIN:VEVENT
DTSTART;TZID=America/New_York:20300414T093000
DTEND;TZID=America/New_York:20300414T103000
DTSTAMP:20260423T235425
CREATED:20260128T175858Z
LAST-MODIFIED:20260128T175858Z
UID:10000233-1902389400-1902393000@jerusalembaptist.org
SUMMARY:JBC Kids Sunday Morning Bible Study
DESCRIPTION:
URL:https://jerusalembaptist.org/event/jbc-kids-sunday-morning-bible-study/2030-04-14/
LOCATION:Jerusalem Baptist Church\, 5424 Ox Rd\, Fairfax Station\, VA\, 22039\, United States
CATEGORIES:Kids Events
ATTACH;FMTTYPE=image/png:https://jerusalembaptist.org/wp-content/uploads/2025/10/4.png
ORGANIZER;CN="JBC Kids":MAILTO:jerusalembaptistchildren@gmail.com
END:VEVENT
BEGIN:VEVENT
DTSTART;TZID=America/New_York:20300414T110000
DTEND;TZID=America/New_York:20300414T121500
DTSTAMP:20260423T235425
CREATED:20260217T174642Z
LAST-MODIFIED:20260217T175139Z
UID:10002448-1902394800-1902399300@jerusalembaptist.org
SUMMARY:11 am Worship
DESCRIPTION:« All Events \nThis event has passed. \n11 am Worship\nFebruary 1\n@\n11:00 am\n–\n12:15 pm \nWorship with us on Sunday mornings! All are invited! For more details about the service\, check out our Plan Your Visit page! \n\nJerusalem Baptist Church \n5424 Ox RdFairfax Station\,\nVA\n22039\nUnited States \n\n+ Google Map \n  \n\n\n\n\nAdd to calendar \n  \n\nGoogle Calendar\niCalendar\nOutlook 365\nOutlook Live\n\nCategories:\nGeneral Events \n\n\n\nJBC Kids Sunday Morning Bible Study \n\nLocal Missions Saturday
URL:https://jerusalembaptist.org/event/sunday/2030-04-14/
LOCATION:Jerusalem Baptist Church\, 5424 Ox Rd\, Fairfax Station\, VA\, 22039\, United States
CATEGORIES:General Events
ATTACH;FMTTYPE=image/jpeg:https://jerusalembaptist.org/wp-content/uploads/2026/02/Worship-With-Us.jpg
END:VEVENT
BEGIN:VEVENT
DTSTART;TZID=America/New_York:20300417T180000
DTEND;TZID=America/New_York:20300417T190000
DTSTAMP:20260423T235425
CREATED:20260219T172728Z
LAST-MODIFIED:20260219T173006Z
UID:10002770-1902679200-1902682800@jerusalembaptist.org
SUMMARY:Wednesday Night Prayer Gathering
DESCRIPTION:« All Events \nThis event has passed. \nWednesday Night Prayer Gathering\nJanuary 7\n@\n6:00 pm\n–\n7:00 pm \nJoin us for our weekly prayer gathering on Wednesday nights! \n \n\nJerusalem Baptist Church \n5424 Ox RdFairfax Station\,\nVA\n22039\nUnited States \n\n+ Google Map \n  \n\n\n\n\nAdd to calendar \n  \n\nGoogle Calendar\niCalendar\nOutlook 365\nOutlook Live\n\nCategories:\nGeneral Events \n\n\n\nAwana Clubs \n\nAwana Clubs
URL:https://jerusalembaptist.org/event/wednesday-night-prayer/2030-04-17/
LOCATION:Jerusalem Baptist Church\, 5424 Ox Rd\, Fairfax Station\, VA\, 22039\, United States
CATEGORIES:General Events
ATTACH;FMTTYPE=image/png:https://jerusalembaptist.org/wp-content/uploads/2026/02/WednesdayNightPrayerFinal2025-1.png
END:VEVENT
BEGIN:VEVENT
DTSTART;TZID=America/New_York:20300421T093000
DTEND;TZID=America/New_York:20300421T103000
DTSTAMP:20260423T235425
CREATED:20260128T175858Z
LAST-MODIFIED:20260128T175858Z
UID:10000234-1902994200-1902997800@jerusalembaptist.org
SUMMARY:JBC Kids Sunday Morning Bible Study
DESCRIPTION:
URL:https://jerusalembaptist.org/event/jbc-kids-sunday-morning-bible-study/2030-04-21/
LOCATION:Jerusalem Baptist Church\, 5424 Ox Rd\, Fairfax Station\, VA\, 22039\, United States
CATEGORIES:Kids Events
ATTACH;FMTTYPE=image/png:https://jerusalembaptist.org/wp-content/uploads/2025/10/4.png
ORGANIZER;CN="JBC Kids":MAILTO:jerusalembaptistchildren@gmail.com
END:VEVENT
BEGIN:VEVENT
DTSTART;TZID=America/New_York:20300421T110000
DTEND;TZID=America/New_York:20300421T121500
DTSTAMP:20260423T235425
CREATED:20260217T174642Z
LAST-MODIFIED:20260217T175139Z
UID:10002449-1902999600-1903004100@jerusalembaptist.org
SUMMARY:11 am Worship
DESCRIPTION:« All Events \nThis event has passed. \n11 am Worship\nFebruary 1\n@\n11:00 am\n–\n12:15 pm \nWorship with us on Sunday mornings! All are invited! For more details about the service\, check out our Plan Your Visit page! \n\nJerusalem Baptist Church \n5424 Ox RdFairfax Station\,\nVA\n22039\nUnited States \n\n+ Google Map \n  \n\n\n\n\nAdd to calendar \n  \n\nGoogle Calendar\niCalendar\nOutlook 365\nOutlook Live\n\nCategories:\nGeneral Events \n\n\n\nJBC Kids Sunday Morning Bible Study \n\nLocal Missions Saturday
URL:https://jerusalembaptist.org/event/sunday/2030-04-21/
LOCATION:Jerusalem Baptist Church\, 5424 Ox Rd\, Fairfax Station\, VA\, 22039\, United States
CATEGORIES:General Events
ATTACH;FMTTYPE=image/jpeg:https://jerusalembaptist.org/wp-content/uploads/2026/02/Worship-With-Us.jpg
END:VEVENT
BEGIN:VEVENT
DTSTART;TZID=America/New_York:20300424T180000
DTEND;TZID=America/New_York:20300424T190000
DTSTAMP:20260423T235425
CREATED:20260219T172728Z
LAST-MODIFIED:20260219T173006Z
UID:10002771-1903284000-1903287600@jerusalembaptist.org
SUMMARY:Wednesday Night Prayer Gathering
DESCRIPTION:« All Events \nThis event has passed. \nWednesday Night Prayer Gathering\nJanuary 7\n@\n6:00 pm\n–\n7:00 pm \nJoin us for our weekly prayer gathering on Wednesday nights! \n \n\nJerusalem Baptist Church \n5424 Ox RdFairfax Station\,\nVA\n22039\nUnited States \n\n+ Google Map \n  \n\n\n\n\nAdd to calendar \n  \n\nGoogle Calendar\niCalendar\nOutlook 365\nOutlook Live\n\nCategories:\nGeneral Events \n\n\n\nAwana Clubs \n\nAwana Clubs
URL:https://jerusalembaptist.org/event/wednesday-night-prayer/2030-04-24/
LOCATION:Jerusalem Baptist Church\, 5424 Ox Rd\, Fairfax Station\, VA\, 22039\, United States
CATEGORIES:General Events
ATTACH;FMTTYPE=image/png:https://jerusalembaptist.org/wp-content/uploads/2026/02/WednesdayNightPrayerFinal2025-1.png
END:VEVENT
BEGIN:VEVENT
DTSTART;TZID=America/New_York:20300428T093000
DTEND;TZID=America/New_York:20300428T103000
DTSTAMP:20260423T235425
CREATED:20260128T175858Z
LAST-MODIFIED:20260128T175858Z
UID:10000235-1903599000-1903602600@jerusalembaptist.org
SUMMARY:JBC Kids Sunday Morning Bible Study
DESCRIPTION:
URL:https://jerusalembaptist.org/event/jbc-kids-sunday-morning-bible-study/2030-04-28/
LOCATION:Jerusalem Baptist Church\, 5424 Ox Rd\, Fairfax Station\, VA\, 22039\, United States
CATEGORIES:Kids Events
ATTACH;FMTTYPE=image/png:https://jerusalembaptist.org/wp-content/uploads/2025/10/4.png
ORGANIZER;CN="JBC Kids":MAILTO:jerusalembaptistchildren@gmail.com
END:VEVENT
BEGIN:VEVENT
DTSTART;TZID=America/New_York:20300428T110000
DTEND;TZID=America/New_York:20300428T121500
DTSTAMP:20260423T235425
CREATED:20260217T174642Z
LAST-MODIFIED:20260217T175139Z
UID:10002450-1903604400-1903608900@jerusalembaptist.org
SUMMARY:11 am Worship
DESCRIPTION:« All Events \nThis event has passed. \n11 am Worship\nFebruary 1\n@\n11:00 am\n–\n12:15 pm \nWorship with us on Sunday mornings! All are invited! For more details about the service\, check out our Plan Your Visit page! \n\nJerusalem Baptist Church \n5424 Ox RdFairfax Station\,\nVA\n22039\nUnited States \n\n+ Google Map \n  \n\n\n\n\nAdd to calendar \n  \n\nGoogle Calendar\niCalendar\nOutlook 365\nOutlook Live\n\nCategories:\nGeneral Events \n\n\n\nJBC Kids Sunday Morning Bible Study \n\nLocal Missions Saturday
URL:https://jerusalembaptist.org/event/sunday/2030-04-28/
LOCATION:Jerusalem Baptist Church\, 5424 Ox Rd\, Fairfax Station\, VA\, 22039\, United States
CATEGORIES:General Events
ATTACH;FMTTYPE=image/jpeg:https://jerusalembaptist.org/wp-content/uploads/2026/02/Worship-With-Us.jpg
END:VEVENT
BEGIN:VEVENT
DTSTART;TZID=America/New_York:20300501T180000
DTEND;TZID=America/New_York:20300501T190000
DTSTAMP:20260423T235425
CREATED:20260219T172728Z
LAST-MODIFIED:20260219T173006Z
UID:10002772-1903888800-1903892400@jerusalembaptist.org
SUMMARY:Wednesday Night Prayer Gathering
DESCRIPTION:« All Events \nThis event has passed. \nWednesday Night Prayer Gathering\nJanuary 7\n@\n6:00 pm\n–\n7:00 pm \nJoin us for our weekly prayer gathering on Wednesday nights! \n \n\nJerusalem Baptist Church \n5424 Ox RdFairfax Station\,\nVA\n22039\nUnited States \n\n+ Google Map \n  \n\n\n\n\nAdd to calendar \n  \n\nGoogle Calendar\niCalendar\nOutlook 365\nOutlook Live\n\nCategories:\nGeneral Events \n\n\n\nAwana Clubs \n\nAwana Clubs
URL:https://jerusalembaptist.org/event/wednesday-night-prayer/2030-05-01/
LOCATION:Jerusalem Baptist Church\, 5424 Ox Rd\, Fairfax Station\, VA\, 22039\, United States
CATEGORIES:General Events
ATTACH;FMTTYPE=image/png:https://jerusalembaptist.org/wp-content/uploads/2026/02/WednesdayNightPrayerFinal2025-1.png
END:VEVENT
BEGIN:VEVENT
DTSTART;TZID=America/New_York:20300505T093000
DTEND;TZID=America/New_York:20300505T103000
DTSTAMP:20260423T235425
CREATED:20260128T175858Z
LAST-MODIFIED:20260128T175858Z
UID:10000236-1904203800-1904207400@jerusalembaptist.org
SUMMARY:JBC Kids Sunday Morning Bible Study
DESCRIPTION:
URL:https://jerusalembaptist.org/event/jbc-kids-sunday-morning-bible-study/2030-05-05/
LOCATION:Jerusalem Baptist Church\, 5424 Ox Rd\, Fairfax Station\, VA\, 22039\, United States
CATEGORIES:Kids Events
ATTACH;FMTTYPE=image/png:https://jerusalembaptist.org/wp-content/uploads/2025/10/4.png
ORGANIZER;CN="JBC Kids":MAILTO:jerusalembaptistchildren@gmail.com
END:VEVENT
BEGIN:VEVENT
DTSTART;TZID=America/New_York:20300505T110000
DTEND;TZID=America/New_York:20300505T121500
DTSTAMP:20260423T235425
CREATED:20260217T174642Z
LAST-MODIFIED:20260217T175139Z
UID:10002451-1904209200-1904213700@jerusalembaptist.org
SUMMARY:11 am Worship
DESCRIPTION:« All Events \nThis event has passed. \n11 am Worship\nFebruary 1\n@\n11:00 am\n–\n12:15 pm \nWorship with us on Sunday mornings! All are invited! For more details about the service\, check out our Plan Your Visit page! \n\nJerusalem Baptist Church \n5424 Ox RdFairfax Station\,\nVA\n22039\nUnited States \n\n+ Google Map \n  \n\n\n\n\nAdd to calendar \n  \n\nGoogle Calendar\niCalendar\nOutlook 365\nOutlook Live\n\nCategories:\nGeneral Events \n\n\n\nJBC Kids Sunday Morning Bible Study \n\nLocal Missions Saturday
URL:https://jerusalembaptist.org/event/sunday/2030-05-05/
LOCATION:Jerusalem Baptist Church\, 5424 Ox Rd\, Fairfax Station\, VA\, 22039\, United States
CATEGORIES:General Events
ATTACH;FMTTYPE=image/jpeg:https://jerusalembaptist.org/wp-content/uploads/2026/02/Worship-With-Us.jpg
END:VEVENT
BEGIN:VEVENT
DTSTART;TZID=America/New_York:20300508T180000
DTEND;TZID=America/New_York:20300508T190000
DTSTAMP:20260423T235425
CREATED:20260219T172728Z
LAST-MODIFIED:20260219T173006Z
UID:10002773-1904493600-1904497200@jerusalembaptist.org
SUMMARY:Wednesday Night Prayer Gathering
DESCRIPTION:« All Events \nThis event has passed. \nWednesday Night Prayer Gathering\nJanuary 7\n@\n6:00 pm\n–\n7:00 pm \nJoin us for our weekly prayer gathering on Wednesday nights! \n \n\nJerusalem Baptist Church \n5424 Ox RdFairfax Station\,\nVA\n22039\nUnited States \n\n+ Google Map \n  \n\n\n\n\nAdd to calendar \n  \n\nGoogle Calendar\niCalendar\nOutlook 365\nOutlook Live\n\nCategories:\nGeneral Events \n\n\n\nAwana Clubs \n\nAwana Clubs
URL:https://jerusalembaptist.org/event/wednesday-night-prayer/2030-05-08/
LOCATION:Jerusalem Baptist Church\, 5424 Ox Rd\, Fairfax Station\, VA\, 22039\, United States
CATEGORIES:General Events
ATTACH;FMTTYPE=image/png:https://jerusalembaptist.org/wp-content/uploads/2026/02/WednesdayNightPrayerFinal2025-1.png
END:VEVENT
BEGIN:VEVENT
DTSTART;TZID=America/New_York:20300512T093000
DTEND;TZID=America/New_York:20300512T103000
DTSTAMP:20260423T235425
CREATED:20260128T175858Z
LAST-MODIFIED:20260128T175858Z
UID:10000237-1904808600-1904812200@jerusalembaptist.org
SUMMARY:JBC Kids Sunday Morning Bible Study
DESCRIPTION:
URL:https://jerusalembaptist.org/event/jbc-kids-sunday-morning-bible-study/2030-05-12/
LOCATION:Jerusalem Baptist Church\, 5424 Ox Rd\, Fairfax Station\, VA\, 22039\, United States
CATEGORIES:Kids Events
ATTACH;FMTTYPE=image/png:https://jerusalembaptist.org/wp-content/uploads/2025/10/4.png
ORGANIZER;CN="JBC Kids":MAILTO:jerusalembaptistchildren@gmail.com
END:VEVENT
BEGIN:VEVENT
DTSTART;TZID=America/New_York:20300512T110000
DTEND;TZID=America/New_York:20300512T121500
DTSTAMP:20260423T235425
CREATED:20260217T174642Z
LAST-MODIFIED:20260217T175139Z
UID:10002452-1904814000-1904818500@jerusalembaptist.org
SUMMARY:11 am Worship
DESCRIPTION:« All Events \nThis event has passed. \n11 am Worship\nFebruary 1\n@\n11:00 am\n–\n12:15 pm \nWorship with us on Sunday mornings! All are invited! For more details about the service\, check out our Plan Your Visit page! \n\nJerusalem Baptist Church \n5424 Ox RdFairfax Station\,\nVA\n22039\nUnited States \n\n+ Google Map \n  \n\n\n\n\nAdd to calendar \n  \n\nGoogle Calendar\niCalendar\nOutlook 365\nOutlook Live\n\nCategories:\nGeneral Events \n\n\n\nJBC Kids Sunday Morning Bible Study \n\nLocal Missions Saturday
URL:https://jerusalembaptist.org/event/sunday/2030-05-12/
LOCATION:Jerusalem Baptist Church\, 5424 Ox Rd\, Fairfax Station\, VA\, 22039\, United States
CATEGORIES:General Events
ATTACH;FMTTYPE=image/jpeg:https://jerusalembaptist.org/wp-content/uploads/2026/02/Worship-With-Us.jpg
END:VEVENT
BEGIN:VEVENT
DTSTART;TZID=America/New_York:20300515T180000
DTEND;TZID=America/New_York:20300515T190000
DTSTAMP:20260423T235425
CREATED:20260219T172728Z
LAST-MODIFIED:20260219T173006Z
UID:10002774-1905098400-1905102000@jerusalembaptist.org
SUMMARY:Wednesday Night Prayer Gathering
DESCRIPTION:« All Events \nThis event has passed. \nWednesday Night Prayer Gathering\nJanuary 7\n@\n6:00 pm\n–\n7:00 pm \nJoin us for our weekly prayer gathering on Wednesday nights! \n \n\nJerusalem Baptist Church \n5424 Ox RdFairfax Station\,\nVA\n22039\nUnited States \n\n+ Google Map \n  \n\n\n\n\nAdd to calendar \n  \n\nGoogle Calendar\niCalendar\nOutlook 365\nOutlook Live\n\nCategories:\nGeneral Events \n\n\n\nAwana Clubs \n\nAwana Clubs
URL:https://jerusalembaptist.org/event/wednesday-night-prayer/2030-05-15/
LOCATION:Jerusalem Baptist Church\, 5424 Ox Rd\, Fairfax Station\, VA\, 22039\, United States
CATEGORIES:General Events
ATTACH;FMTTYPE=image/png:https://jerusalembaptist.org/wp-content/uploads/2026/02/WednesdayNightPrayerFinal2025-1.png
END:VEVENT
BEGIN:VEVENT
DTSTART;TZID=America/New_York:20300519T093000
DTEND;TZID=America/New_York:20300519T103000
DTSTAMP:20260423T235425
CREATED:20260128T175858Z
LAST-MODIFIED:20260128T175858Z
UID:10000238-1905413400-1905417000@jerusalembaptist.org
SUMMARY:JBC Kids Sunday Morning Bible Study
DESCRIPTION:
URL:https://jerusalembaptist.org/event/jbc-kids-sunday-morning-bible-study/2030-05-19/
LOCATION:Jerusalem Baptist Church\, 5424 Ox Rd\, Fairfax Station\, VA\, 22039\, United States
CATEGORIES:Kids Events
ATTACH;FMTTYPE=image/png:https://jerusalembaptist.org/wp-content/uploads/2025/10/4.png
ORGANIZER;CN="JBC Kids":MAILTO:jerusalembaptistchildren@gmail.com
END:VEVENT
BEGIN:VEVENT
DTSTART;TZID=America/New_York:20300519T110000
DTEND;TZID=America/New_York:20300519T121500
DTSTAMP:20260423T235425
CREATED:20260217T174642Z
LAST-MODIFIED:20260217T175139Z
UID:10002453-1905418800-1905423300@jerusalembaptist.org
SUMMARY:11 am Worship
DESCRIPTION:« All Events \nThis event has passed. \n11 am Worship\nFebruary 1\n@\n11:00 am\n–\n12:15 pm \nWorship with us on Sunday mornings! All are invited! For more details about the service\, check out our Plan Your Visit page! \n\nJerusalem Baptist Church \n5424 Ox RdFairfax Station\,\nVA\n22039\nUnited States \n\n+ Google Map \n  \n\n\n\n\nAdd to calendar \n  \n\nGoogle Calendar\niCalendar\nOutlook 365\nOutlook Live\n\nCategories:\nGeneral Events \n\n\n\nJBC Kids Sunday Morning Bible Study \n\nLocal Missions Saturday
URL:https://jerusalembaptist.org/event/sunday/2030-05-19/
LOCATION:Jerusalem Baptist Church\, 5424 Ox Rd\, Fairfax Station\, VA\, 22039\, United States
CATEGORIES:General Events
ATTACH;FMTTYPE=image/jpeg:https://jerusalembaptist.org/wp-content/uploads/2026/02/Worship-With-Us.jpg
END:VEVENT
BEGIN:VEVENT
DTSTART;TZID=America/New_York:20300522T180000
DTEND;TZID=America/New_York:20300522T190000
DTSTAMP:20260423T235425
CREATED:20260219T172728Z
LAST-MODIFIED:20260219T173006Z
UID:10002775-1905703200-1905706800@jerusalembaptist.org
SUMMARY:Wednesday Night Prayer Gathering
DESCRIPTION:« All Events \nThis event has passed. \nWednesday Night Prayer Gathering\nJanuary 7\n@\n6:00 pm\n–\n7:00 pm \nJoin us for our weekly prayer gathering on Wednesday nights! \n \n\nJerusalem Baptist Church \n5424 Ox RdFairfax Station\,\nVA\n22039\nUnited States \n\n+ Google Map \n  \n\n\n\n\nAdd to calendar \n  \n\nGoogle Calendar\niCalendar\nOutlook 365\nOutlook Live\n\nCategories:\nGeneral Events \n\n\n\nAwana Clubs \n\nAwana Clubs
URL:https://jerusalembaptist.org/event/wednesday-night-prayer/2030-05-22/
LOCATION:Jerusalem Baptist Church\, 5424 Ox Rd\, Fairfax Station\, VA\, 22039\, United States
CATEGORIES:General Events
ATTACH;FMTTYPE=image/png:https://jerusalembaptist.org/wp-content/uploads/2026/02/WednesdayNightPrayerFinal2025-1.png
END:VEVENT
BEGIN:VEVENT
DTSTART;TZID=America/New_York:20300526T093000
DTEND;TZID=America/New_York:20300526T103000
DTSTAMP:20260423T235425
CREATED:20260128T175858Z
LAST-MODIFIED:20260128T175858Z
UID:10000239-1906018200-1906021800@jerusalembaptist.org
SUMMARY:JBC Kids Sunday Morning Bible Study
DESCRIPTION:
URL:https://jerusalembaptist.org/event/jbc-kids-sunday-morning-bible-study/2030-05-26/
LOCATION:Jerusalem Baptist Church\, 5424 Ox Rd\, Fairfax Station\, VA\, 22039\, United States
CATEGORIES:Kids Events
ATTACH;FMTTYPE=image/png:https://jerusalembaptist.org/wp-content/uploads/2025/10/4.png
ORGANIZER;CN="JBC Kids":MAILTO:jerusalembaptistchildren@gmail.com
END:VEVENT
BEGIN:VEVENT
DTSTART;TZID=America/New_York:20300526T110000
DTEND;TZID=America/New_York:20300526T121500
DTSTAMP:20260423T235425
CREATED:20260217T174642Z
LAST-MODIFIED:20260217T175139Z
UID:10002454-1906023600-1906028100@jerusalembaptist.org
SUMMARY:11 am Worship
DESCRIPTION:« All Events \nThis event has passed. \n11 am Worship\nFebruary 1\n@\n11:00 am\n–\n12:15 pm \nWorship with us on Sunday mornings! All are invited! For more details about the service\, check out our Plan Your Visit page! \n\nJerusalem Baptist Church \n5424 Ox RdFairfax Station\,\nVA\n22039\nUnited States \n\n+ Google Map \n  \n\n\n\n\nAdd to calendar \n  \n\nGoogle Calendar\niCalendar\nOutlook 365\nOutlook Live\n\nCategories:\nGeneral Events \n\n\n\nJBC Kids Sunday Morning Bible Study \n\nLocal Missions Saturday
URL:https://jerusalembaptist.org/event/sunday/2030-05-26/
LOCATION:Jerusalem Baptist Church\, 5424 Ox Rd\, Fairfax Station\, VA\, 22039\, United States
CATEGORIES:General Events
ATTACH;FMTTYPE=image/jpeg:https://jerusalembaptist.org/wp-content/uploads/2026/02/Worship-With-Us.jpg
END:VEVENT
BEGIN:VEVENT
DTSTART;TZID=America/New_York:20300529T180000
DTEND;TZID=America/New_York:20300529T190000
DTSTAMP:20260423T235425
CREATED:20260219T172728Z
LAST-MODIFIED:20260219T173006Z
UID:10002776-1906308000-1906311600@jerusalembaptist.org
SUMMARY:Wednesday Night Prayer Gathering
DESCRIPTION:« All Events \nThis event has passed. \nWednesday Night Prayer Gathering\nJanuary 7\n@\n6:00 pm\n–\n7:00 pm \nJoin us for our weekly prayer gathering on Wednesday nights! \n \n\nJerusalem Baptist Church \n5424 Ox RdFairfax Station\,\nVA\n22039\nUnited States \n\n+ Google Map \n  \n\n\n\n\nAdd to calendar \n  \n\nGoogle Calendar\niCalendar\nOutlook 365\nOutlook Live\n\nCategories:\nGeneral Events \n\n\n\nAwana Clubs \n\nAwana Clubs
URL:https://jerusalembaptist.org/event/wednesday-night-prayer/2030-05-29/
LOCATION:Jerusalem Baptist Church\, 5424 Ox Rd\, Fairfax Station\, VA\, 22039\, United States
CATEGORIES:General Events
ATTACH;FMTTYPE=image/png:https://jerusalembaptist.org/wp-content/uploads/2026/02/WednesdayNightPrayerFinal2025-1.png
END:VEVENT
BEGIN:VEVENT
DTSTART;TZID=America/New_York:20300602T093000
DTEND;TZID=America/New_York:20300602T103000
DTSTAMP:20260423T235425
CREATED:20260128T175858Z
LAST-MODIFIED:20260128T175858Z
UID:10000240-1906623000-1906626600@jerusalembaptist.org
SUMMARY:JBC Kids Sunday Morning Bible Study
DESCRIPTION:
URL:https://jerusalembaptist.org/event/jbc-kids-sunday-morning-bible-study/2030-06-02/
LOCATION:Jerusalem Baptist Church\, 5424 Ox Rd\, Fairfax Station\, VA\, 22039\, United States
CATEGORIES:Kids Events
ATTACH;FMTTYPE=image/png:https://jerusalembaptist.org/wp-content/uploads/2025/10/4.png
ORGANIZER;CN="JBC Kids":MAILTO:jerusalembaptistchildren@gmail.com
END:VEVENT
BEGIN:VEVENT
DTSTART;TZID=America/New_York:20300602T110000
DTEND;TZID=America/New_York:20300602T121500
DTSTAMP:20260423T235425
CREATED:20260217T174642Z
LAST-MODIFIED:20260217T175139Z
UID:10002455-1906628400-1906632900@jerusalembaptist.org
SUMMARY:11 am Worship
DESCRIPTION:« All Events \nThis event has passed. \n11 am Worship\nFebruary 1\n@\n11:00 am\n–\n12:15 pm \nWorship with us on Sunday mornings! All are invited! For more details about the service\, check out our Plan Your Visit page! \n\nJerusalem Baptist Church \n5424 Ox RdFairfax Station\,\nVA\n22039\nUnited States \n\n+ Google Map \n  \n\n\n\n\nAdd to calendar \n  \n\nGoogle Calendar\niCalendar\nOutlook 365\nOutlook Live\n\nCategories:\nGeneral Events \n\n\n\nJBC Kids Sunday Morning Bible Study \n\nLocal Missions Saturday
URL:https://jerusalembaptist.org/event/sunday/2030-06-02/
LOCATION:Jerusalem Baptist Church\, 5424 Ox Rd\, Fairfax Station\, VA\, 22039\, United States
CATEGORIES:General Events
ATTACH;FMTTYPE=image/jpeg:https://jerusalembaptist.org/wp-content/uploads/2026/02/Worship-With-Us.jpg
END:VEVENT
END:VCALENDAR