BEGIN:VCALENDAR
VERSION:2.0
PRODID:-//Jerusalem Baptist Church, Fairfax Station, VA - ECPv6.15.20//NONSGML v1.0//EN
CALSCALE:GREGORIAN
METHOD:PUBLISH
X-ORIGINAL-URL:https://jerusalembaptist.org
X-WR-CALDESC:Events for Jerusalem Baptist Church, Fairfax Station, VA
REFRESH-INTERVAL;VALUE=DURATION:PT1H
X-Robots-Tag:noindex
X-PUBLISHED-TTL:PT1H
BEGIN:VTIMEZONE
TZID:America/New_York
BEGIN:DAYLIGHT
TZOFFSETFROM:-0500
TZOFFSETTO:-0400
TZNAME:EDT
DTSTART:20280312T070000
END:DAYLIGHT
BEGIN:STANDARD
TZOFFSETFROM:-0400
TZOFFSETTO:-0500
TZNAME:EST
DTSTART:20281105T060000
END:STANDARD
BEGIN:DAYLIGHT
TZOFFSETFROM:-0500
TZOFFSETTO:-0400
TZNAME:EDT
DTSTART:20290311T070000
END:DAYLIGHT
BEGIN:STANDARD
TZOFFSETFROM:-0400
TZOFFSETTO:-0500
TZNAME:EST
DTSTART:20291104T060000
END:STANDARD
BEGIN:DAYLIGHT
TZOFFSETFROM:-0500
TZOFFSETTO:-0400
TZNAME:EDT
DTSTART:20300310T070000
END:DAYLIGHT
BEGIN:STANDARD
TZOFFSETFROM:-0400
TZOFFSETTO:-0500
TZNAME:EST
DTSTART:20301103T060000
END:STANDARD
END:VTIMEZONE
BEGIN:VEVENT
DTSTART;TZID=America/New_York:20290620T180000
DTEND;TZID=America/New_York:20290620T190000
DTSTAMP:20260423T071344
CREATED:20260219T172728Z
LAST-MODIFIED:20260219T173006Z
UID:10002727-1876672800-1876676400@jerusalembaptist.org
SUMMARY:Wednesday Night Prayer Gathering
DESCRIPTION:« All Events \nThis event has passed. \nWednesday Night Prayer Gathering\nJanuary 7\n@\n6:00 pm\n–\n7:00 pm \nJoin us for our weekly prayer gathering on Wednesday nights! \n \n\nJerusalem Baptist Church \n5424 Ox RdFairfax Station\,\nVA\n22039\nUnited States \n\n+ Google Map \n  \n\n\n\n\nAdd to calendar \n  \n\nGoogle Calendar\niCalendar\nOutlook 365\nOutlook Live\n\nCategories:\nGeneral Events \n\n\n\nAwana Clubs \n\nAwana Clubs
URL:https://jerusalembaptist.org/event/wednesday-night-prayer/2029-06-20/
LOCATION:Jerusalem Baptist Church\, 5424 Ox Rd\, Fairfax Station\, VA\, 22039\, United States
CATEGORIES:General Events
ATTACH;FMTTYPE=image/png:https://jerusalembaptist.org/wp-content/uploads/2026/02/WednesdayNightPrayerFinal2025-1.png
END:VEVENT
BEGIN:VEVENT
DTSTART;TZID=America/New_York:20290624T093000
DTEND;TZID=America/New_York:20290624T103000
DTSTAMP:20260423T071344
CREATED:20260128T175858Z
LAST-MODIFIED:20260128T175858Z
UID:10000191-1876987800-1876991400@jerusalembaptist.org
SUMMARY:JBC Kids Sunday Morning Bible Study
DESCRIPTION:
URL:https://jerusalembaptist.org/event/jbc-kids-sunday-morning-bible-study/2029-06-24/
LOCATION:Jerusalem Baptist Church\, 5424 Ox Rd\, Fairfax Station\, VA\, 22039\, United States
CATEGORIES:Kids Events
ATTACH;FMTTYPE=image/png:https://jerusalembaptist.org/wp-content/uploads/2025/10/4.png
ORGANIZER;CN="JBC Kids":MAILTO:jerusalembaptistchildren@gmail.com
END:VEVENT
BEGIN:VEVENT
DTSTART;TZID=America/New_York:20290624T110000
DTEND;TZID=America/New_York:20290624T121500
DTSTAMP:20260423T071344
CREATED:20260217T174642Z
LAST-MODIFIED:20260217T175139Z
UID:10002406-1876993200-1876997700@jerusalembaptist.org
SUMMARY:11 am Worship
DESCRIPTION:« All Events \nThis event has passed. \n11 am Worship\nFebruary 1\n@\n11:00 am\n–\n12:15 pm \nWorship with us on Sunday mornings! All are invited! For more details about the service\, check out our Plan Your Visit page! \n\nJerusalem Baptist Church \n5424 Ox RdFairfax Station\,\nVA\n22039\nUnited States \n\n+ Google Map \n  \n\n\n\n\nAdd to calendar \n  \n\nGoogle Calendar\niCalendar\nOutlook 365\nOutlook Live\n\nCategories:\nGeneral Events \n\n\n\nJBC Kids Sunday Morning Bible Study \n\nLocal Missions Saturday
URL:https://jerusalembaptist.org/event/sunday/2029-06-24/
LOCATION:Jerusalem Baptist Church\, 5424 Ox Rd\, Fairfax Station\, VA\, 22039\, United States
CATEGORIES:General Events
ATTACH;FMTTYPE=image/jpeg:https://jerusalembaptist.org/wp-content/uploads/2026/02/Worship-With-Us.jpg
END:VEVENT
BEGIN:VEVENT
DTSTART;TZID=America/New_York:20290627T180000
DTEND;TZID=America/New_York:20290627T190000
DTSTAMP:20260423T071344
CREATED:20260219T172728Z
LAST-MODIFIED:20260219T173006Z
UID:10002728-1877277600-1877281200@jerusalembaptist.org
SUMMARY:Wednesday Night Prayer Gathering
DESCRIPTION:« All Events \nThis event has passed. \nWednesday Night Prayer Gathering\nJanuary 7\n@\n6:00 pm\n–\n7:00 pm \nJoin us for our weekly prayer gathering on Wednesday nights! \n \n\nJerusalem Baptist Church \n5424 Ox RdFairfax Station\,\nVA\n22039\nUnited States \n\n+ Google Map \n  \n\n\n\n\nAdd to calendar \n  \n\nGoogle Calendar\niCalendar\nOutlook 365\nOutlook Live\n\nCategories:\nGeneral Events \n\n\n\nAwana Clubs \n\nAwana Clubs
URL:https://jerusalembaptist.org/event/wednesday-night-prayer/2029-06-27/
LOCATION:Jerusalem Baptist Church\, 5424 Ox Rd\, Fairfax Station\, VA\, 22039\, United States
CATEGORIES:General Events
ATTACH;FMTTYPE=image/png:https://jerusalembaptist.org/wp-content/uploads/2026/02/WednesdayNightPrayerFinal2025-1.png
END:VEVENT
BEGIN:VEVENT
DTSTART;TZID=America/New_York:20290701T093000
DTEND;TZID=America/New_York:20290701T103000
DTSTAMP:20260423T071344
CREATED:20260128T175858Z
LAST-MODIFIED:20260128T175858Z
UID:10000192-1877592600-1877596200@jerusalembaptist.org
SUMMARY:JBC Kids Sunday Morning Bible Study
DESCRIPTION:
URL:https://jerusalembaptist.org/event/jbc-kids-sunday-morning-bible-study/2029-07-01/
LOCATION:Jerusalem Baptist Church\, 5424 Ox Rd\, Fairfax Station\, VA\, 22039\, United States
CATEGORIES:Kids Events
ATTACH;FMTTYPE=image/png:https://jerusalembaptist.org/wp-content/uploads/2025/10/4.png
ORGANIZER;CN="JBC Kids":MAILTO:jerusalembaptistchildren@gmail.com
END:VEVENT
BEGIN:VEVENT
DTSTART;TZID=America/New_York:20290701T110000
DTEND;TZID=America/New_York:20290701T121500
DTSTAMP:20260423T071344
CREATED:20260217T174642Z
LAST-MODIFIED:20260217T175139Z
UID:10002407-1877598000-1877602500@jerusalembaptist.org
SUMMARY:11 am Worship
DESCRIPTION:« All Events \nThis event has passed. \n11 am Worship\nFebruary 1\n@\n11:00 am\n–\n12:15 pm \nWorship with us on Sunday mornings! All are invited! For more details about the service\, check out our Plan Your Visit page! \n\nJerusalem Baptist Church \n5424 Ox RdFairfax Station\,\nVA\n22039\nUnited States \n\n+ Google Map \n  \n\n\n\n\nAdd to calendar \n  \n\nGoogle Calendar\niCalendar\nOutlook 365\nOutlook Live\n\nCategories:\nGeneral Events \n\n\n\nJBC Kids Sunday Morning Bible Study \n\nLocal Missions Saturday
URL:https://jerusalembaptist.org/event/sunday/2029-07-01/
LOCATION:Jerusalem Baptist Church\, 5424 Ox Rd\, Fairfax Station\, VA\, 22039\, United States
CATEGORIES:General Events
ATTACH;FMTTYPE=image/jpeg:https://jerusalembaptist.org/wp-content/uploads/2026/02/Worship-With-Us.jpg
END:VEVENT
BEGIN:VEVENT
DTSTART;TZID=America/New_York:20290704T180000
DTEND;TZID=America/New_York:20290704T190000
DTSTAMP:20260423T071344
CREATED:20260219T172728Z
LAST-MODIFIED:20260219T173006Z
UID:10002729-1877882400-1877886000@jerusalembaptist.org
SUMMARY:Wednesday Night Prayer Gathering
DESCRIPTION:« All Events \nThis event has passed. \nWednesday Night Prayer Gathering\nJanuary 7\n@\n6:00 pm\n–\n7:00 pm \nJoin us for our weekly prayer gathering on Wednesday nights! \n \n\nJerusalem Baptist Church \n5424 Ox RdFairfax Station\,\nVA\n22039\nUnited States \n\n+ Google Map \n  \n\n\n\n\nAdd to calendar \n  \n\nGoogle Calendar\niCalendar\nOutlook 365\nOutlook Live\n\nCategories:\nGeneral Events \n\n\n\nAwana Clubs \n\nAwana Clubs
URL:https://jerusalembaptist.org/event/wednesday-night-prayer/2029-07-04/
LOCATION:Jerusalem Baptist Church\, 5424 Ox Rd\, Fairfax Station\, VA\, 22039\, United States
CATEGORIES:General Events
ATTACH;FMTTYPE=image/png:https://jerusalembaptist.org/wp-content/uploads/2026/02/WednesdayNightPrayerFinal2025-1.png
END:VEVENT
BEGIN:VEVENT
DTSTART;TZID=America/New_York:20290708T093000
DTEND;TZID=America/New_York:20290708T103000
DTSTAMP:20260423T071344
CREATED:20260128T175858Z
LAST-MODIFIED:20260128T175858Z
UID:10000193-1878197400-1878201000@jerusalembaptist.org
SUMMARY:JBC Kids Sunday Morning Bible Study
DESCRIPTION:
URL:https://jerusalembaptist.org/event/jbc-kids-sunday-morning-bible-study/2029-07-08/
LOCATION:Jerusalem Baptist Church\, 5424 Ox Rd\, Fairfax Station\, VA\, 22039\, United States
CATEGORIES:Kids Events
ATTACH;FMTTYPE=image/png:https://jerusalembaptist.org/wp-content/uploads/2025/10/4.png
ORGANIZER;CN="JBC Kids":MAILTO:jerusalembaptistchildren@gmail.com
END:VEVENT
BEGIN:VEVENT
DTSTART;TZID=America/New_York:20290708T110000
DTEND;TZID=America/New_York:20290708T121500
DTSTAMP:20260423T071344
CREATED:20260217T174642Z
LAST-MODIFIED:20260217T175139Z
UID:10002408-1878202800-1878207300@jerusalembaptist.org
SUMMARY:11 am Worship
DESCRIPTION:« All Events \nThis event has passed. \n11 am Worship\nFebruary 1\n@\n11:00 am\n–\n12:15 pm \nWorship with us on Sunday mornings! All are invited! For more details about the service\, check out our Plan Your Visit page! \n\nJerusalem Baptist Church \n5424 Ox RdFairfax Station\,\nVA\n22039\nUnited States \n\n+ Google Map \n  \n\n\n\n\nAdd to calendar \n  \n\nGoogle Calendar\niCalendar\nOutlook 365\nOutlook Live\n\nCategories:\nGeneral Events \n\n\n\nJBC Kids Sunday Morning Bible Study \n\nLocal Missions Saturday
URL:https://jerusalembaptist.org/event/sunday/2029-07-08/
LOCATION:Jerusalem Baptist Church\, 5424 Ox Rd\, Fairfax Station\, VA\, 22039\, United States
CATEGORIES:General Events
ATTACH;FMTTYPE=image/jpeg:https://jerusalembaptist.org/wp-content/uploads/2026/02/Worship-With-Us.jpg
END:VEVENT
BEGIN:VEVENT
DTSTART;TZID=America/New_York:20290711T180000
DTEND;TZID=America/New_York:20290711T190000
DTSTAMP:20260423T071344
CREATED:20260219T172728Z
LAST-MODIFIED:20260219T173006Z
UID:10002730-1878487200-1878490800@jerusalembaptist.org
SUMMARY:Wednesday Night Prayer Gathering
DESCRIPTION:« All Events \nThis event has passed. \nWednesday Night Prayer Gathering\nJanuary 7\n@\n6:00 pm\n–\n7:00 pm \nJoin us for our weekly prayer gathering on Wednesday nights! \n \n\nJerusalem Baptist Church \n5424 Ox RdFairfax Station\,\nVA\n22039\nUnited States \n\n+ Google Map \n  \n\n\n\n\nAdd to calendar \n  \n\nGoogle Calendar\niCalendar\nOutlook 365\nOutlook Live\n\nCategories:\nGeneral Events \n\n\n\nAwana Clubs \n\nAwana Clubs
URL:https://jerusalembaptist.org/event/wednesday-night-prayer/2029-07-11/
LOCATION:Jerusalem Baptist Church\, 5424 Ox Rd\, Fairfax Station\, VA\, 22039\, United States
CATEGORIES:General Events
ATTACH;FMTTYPE=image/png:https://jerusalembaptist.org/wp-content/uploads/2026/02/WednesdayNightPrayerFinal2025-1.png
END:VEVENT
BEGIN:VEVENT
DTSTART;TZID=America/New_York:20290715T093000
DTEND;TZID=America/New_York:20290715T103000
DTSTAMP:20260423T071344
CREATED:20260128T175858Z
LAST-MODIFIED:20260128T175858Z
UID:10000194-1878802200-1878805800@jerusalembaptist.org
SUMMARY:JBC Kids Sunday Morning Bible Study
DESCRIPTION:
URL:https://jerusalembaptist.org/event/jbc-kids-sunday-morning-bible-study/2029-07-15/
LOCATION:Jerusalem Baptist Church\, 5424 Ox Rd\, Fairfax Station\, VA\, 22039\, United States
CATEGORIES:Kids Events
ATTACH;FMTTYPE=image/png:https://jerusalembaptist.org/wp-content/uploads/2025/10/4.png
ORGANIZER;CN="JBC Kids":MAILTO:jerusalembaptistchildren@gmail.com
END:VEVENT
BEGIN:VEVENT
DTSTART;TZID=America/New_York:20290715T110000
DTEND;TZID=America/New_York:20290715T121500
DTSTAMP:20260423T071344
CREATED:20260217T174642Z
LAST-MODIFIED:20260217T175139Z
UID:10002409-1878807600-1878812100@jerusalembaptist.org
SUMMARY:11 am Worship
DESCRIPTION:« All Events \nThis event has passed. \n11 am Worship\nFebruary 1\n@\n11:00 am\n–\n12:15 pm \nWorship with us on Sunday mornings! All are invited! For more details about the service\, check out our Plan Your Visit page! \n\nJerusalem Baptist Church \n5424 Ox RdFairfax Station\,\nVA\n22039\nUnited States \n\n+ Google Map \n  \n\n\n\n\nAdd to calendar \n  \n\nGoogle Calendar\niCalendar\nOutlook 365\nOutlook Live\n\nCategories:\nGeneral Events \n\n\n\nJBC Kids Sunday Morning Bible Study \n\nLocal Missions Saturday
URL:https://jerusalembaptist.org/event/sunday/2029-07-15/
LOCATION:Jerusalem Baptist Church\, 5424 Ox Rd\, Fairfax Station\, VA\, 22039\, United States
CATEGORIES:General Events
ATTACH;FMTTYPE=image/jpeg:https://jerusalembaptist.org/wp-content/uploads/2026/02/Worship-With-Us.jpg
END:VEVENT
BEGIN:VEVENT
DTSTART;TZID=America/New_York:20290718T180000
DTEND;TZID=America/New_York:20290718T190000
DTSTAMP:20260423T071344
CREATED:20260219T172728Z
LAST-MODIFIED:20260219T173006Z
UID:10002731-1879092000-1879095600@jerusalembaptist.org
SUMMARY:Wednesday Night Prayer Gathering
DESCRIPTION:« All Events \nThis event has passed. \nWednesday Night Prayer Gathering\nJanuary 7\n@\n6:00 pm\n–\n7:00 pm \nJoin us for our weekly prayer gathering on Wednesday nights! \n \n\nJerusalem Baptist Church \n5424 Ox RdFairfax Station\,\nVA\n22039\nUnited States \n\n+ Google Map \n  \n\n\n\n\nAdd to calendar \n  \n\nGoogle Calendar\niCalendar\nOutlook 365\nOutlook Live\n\nCategories:\nGeneral Events \n\n\n\nAwana Clubs \n\nAwana Clubs
URL:https://jerusalembaptist.org/event/wednesday-night-prayer/2029-07-18/
LOCATION:Jerusalem Baptist Church\, 5424 Ox Rd\, Fairfax Station\, VA\, 22039\, United States
CATEGORIES:General Events
ATTACH;FMTTYPE=image/png:https://jerusalembaptist.org/wp-content/uploads/2026/02/WednesdayNightPrayerFinal2025-1.png
END:VEVENT
BEGIN:VEVENT
DTSTART;TZID=America/New_York:20290722T093000
DTEND;TZID=America/New_York:20290722T103000
DTSTAMP:20260423T071344
CREATED:20260128T175858Z
LAST-MODIFIED:20260128T175858Z
UID:10000195-1879407000-1879410600@jerusalembaptist.org
SUMMARY:JBC Kids Sunday Morning Bible Study
DESCRIPTION:
URL:https://jerusalembaptist.org/event/jbc-kids-sunday-morning-bible-study/2029-07-22/
LOCATION:Jerusalem Baptist Church\, 5424 Ox Rd\, Fairfax Station\, VA\, 22039\, United States
CATEGORIES:Kids Events
ATTACH;FMTTYPE=image/png:https://jerusalembaptist.org/wp-content/uploads/2025/10/4.png
ORGANIZER;CN="JBC Kids":MAILTO:jerusalembaptistchildren@gmail.com
END:VEVENT
BEGIN:VEVENT
DTSTART;TZID=America/New_York:20290722T110000
DTEND;TZID=America/New_York:20290722T121500
DTSTAMP:20260423T071344
CREATED:20260217T174642Z
LAST-MODIFIED:20260217T175139Z
UID:10002410-1879412400-1879416900@jerusalembaptist.org
SUMMARY:11 am Worship
DESCRIPTION:« All Events \nThis event has passed. \n11 am Worship\nFebruary 1\n@\n11:00 am\n–\n12:15 pm \nWorship with us on Sunday mornings! All are invited! For more details about the service\, check out our Plan Your Visit page! \n\nJerusalem Baptist Church \n5424 Ox RdFairfax Station\,\nVA\n22039\nUnited States \n\n+ Google Map \n  \n\n\n\n\nAdd to calendar \n  \n\nGoogle Calendar\niCalendar\nOutlook 365\nOutlook Live\n\nCategories:\nGeneral Events \n\n\n\nJBC Kids Sunday Morning Bible Study \n\nLocal Missions Saturday
URL:https://jerusalembaptist.org/event/sunday/2029-07-22/
LOCATION:Jerusalem Baptist Church\, 5424 Ox Rd\, Fairfax Station\, VA\, 22039\, United States
CATEGORIES:General Events
ATTACH;FMTTYPE=image/jpeg:https://jerusalembaptist.org/wp-content/uploads/2026/02/Worship-With-Us.jpg
END:VEVENT
BEGIN:VEVENT
DTSTART;TZID=America/New_York:20290725T180000
DTEND;TZID=America/New_York:20290725T190000
DTSTAMP:20260423T071344
CREATED:20260219T172728Z
LAST-MODIFIED:20260219T173006Z
UID:10002732-1879696800-1879700400@jerusalembaptist.org
SUMMARY:Wednesday Night Prayer Gathering
DESCRIPTION:« All Events \nThis event has passed. \nWednesday Night Prayer Gathering\nJanuary 7\n@\n6:00 pm\n–\n7:00 pm \nJoin us for our weekly prayer gathering on Wednesday nights! \n \n\nJerusalem Baptist Church \n5424 Ox RdFairfax Station\,\nVA\n22039\nUnited States \n\n+ Google Map \n  \n\n\n\n\nAdd to calendar \n  \n\nGoogle Calendar\niCalendar\nOutlook 365\nOutlook Live\n\nCategories:\nGeneral Events \n\n\n\nAwana Clubs \n\nAwana Clubs
URL:https://jerusalembaptist.org/event/wednesday-night-prayer/2029-07-25/
LOCATION:Jerusalem Baptist Church\, 5424 Ox Rd\, Fairfax Station\, VA\, 22039\, United States
CATEGORIES:General Events
ATTACH;FMTTYPE=image/png:https://jerusalembaptist.org/wp-content/uploads/2026/02/WednesdayNightPrayerFinal2025-1.png
END:VEVENT
BEGIN:VEVENT
DTSTART;TZID=America/New_York:20290729T093000
DTEND;TZID=America/New_York:20290729T103000
DTSTAMP:20260423T071344
CREATED:20260128T175858Z
LAST-MODIFIED:20260128T175858Z
UID:10000196-1880011800-1880015400@jerusalembaptist.org
SUMMARY:JBC Kids Sunday Morning Bible Study
DESCRIPTION:
URL:https://jerusalembaptist.org/event/jbc-kids-sunday-morning-bible-study/2029-07-29/
LOCATION:Jerusalem Baptist Church\, 5424 Ox Rd\, Fairfax Station\, VA\, 22039\, United States
CATEGORIES:Kids Events
ATTACH;FMTTYPE=image/png:https://jerusalembaptist.org/wp-content/uploads/2025/10/4.png
ORGANIZER;CN="JBC Kids":MAILTO:jerusalembaptistchildren@gmail.com
END:VEVENT
BEGIN:VEVENT
DTSTART;TZID=America/New_York:20290729T110000
DTEND;TZID=America/New_York:20290729T121500
DTSTAMP:20260423T071344
CREATED:20260217T174642Z
LAST-MODIFIED:20260217T175139Z
UID:10002411-1880017200-1880021700@jerusalembaptist.org
SUMMARY:11 am Worship
DESCRIPTION:« All Events \nThis event has passed. \n11 am Worship\nFebruary 1\n@\n11:00 am\n–\n12:15 pm \nWorship with us on Sunday mornings! All are invited! For more details about the service\, check out our Plan Your Visit page! \n\nJerusalem Baptist Church \n5424 Ox RdFairfax Station\,\nVA\n22039\nUnited States \n\n+ Google Map \n  \n\n\n\n\nAdd to calendar \n  \n\nGoogle Calendar\niCalendar\nOutlook 365\nOutlook Live\n\nCategories:\nGeneral Events \n\n\n\nJBC Kids Sunday Morning Bible Study \n\nLocal Missions Saturday
URL:https://jerusalembaptist.org/event/sunday/2029-07-29/
LOCATION:Jerusalem Baptist Church\, 5424 Ox Rd\, Fairfax Station\, VA\, 22039\, United States
CATEGORIES:General Events
ATTACH;FMTTYPE=image/jpeg:https://jerusalembaptist.org/wp-content/uploads/2026/02/Worship-With-Us.jpg
END:VEVENT
BEGIN:VEVENT
DTSTART;TZID=America/New_York:20290801T180000
DTEND;TZID=America/New_York:20290801T190000
DTSTAMP:20260423T071344
CREATED:20260219T172728Z
LAST-MODIFIED:20260219T173006Z
UID:10002733-1880301600-1880305200@jerusalembaptist.org
SUMMARY:Wednesday Night Prayer Gathering
DESCRIPTION:« All Events \nThis event has passed. \nWednesday Night Prayer Gathering\nJanuary 7\n@\n6:00 pm\n–\n7:00 pm \nJoin us for our weekly prayer gathering on Wednesday nights! \n \n\nJerusalem Baptist Church \n5424 Ox RdFairfax Station\,\nVA\n22039\nUnited States \n\n+ Google Map \n  \n\n\n\n\nAdd to calendar \n  \n\nGoogle Calendar\niCalendar\nOutlook 365\nOutlook Live\n\nCategories:\nGeneral Events \n\n\n\nAwana Clubs \n\nAwana Clubs
URL:https://jerusalembaptist.org/event/wednesday-night-prayer/2029-08-01/
LOCATION:Jerusalem Baptist Church\, 5424 Ox Rd\, Fairfax Station\, VA\, 22039\, United States
CATEGORIES:General Events
ATTACH;FMTTYPE=image/png:https://jerusalembaptist.org/wp-content/uploads/2026/02/WednesdayNightPrayerFinal2025-1.png
END:VEVENT
BEGIN:VEVENT
DTSTART;TZID=America/New_York:20290805T093000
DTEND;TZID=America/New_York:20290805T103000
DTSTAMP:20260423T071344
CREATED:20260128T175858Z
LAST-MODIFIED:20260128T175858Z
UID:10000197-1880616600-1880620200@jerusalembaptist.org
SUMMARY:JBC Kids Sunday Morning Bible Study
DESCRIPTION:
URL:https://jerusalembaptist.org/event/jbc-kids-sunday-morning-bible-study/2029-08-05/
LOCATION:Jerusalem Baptist Church\, 5424 Ox Rd\, Fairfax Station\, VA\, 22039\, United States
CATEGORIES:Kids Events
ATTACH;FMTTYPE=image/png:https://jerusalembaptist.org/wp-content/uploads/2025/10/4.png
ORGANIZER;CN="JBC Kids":MAILTO:jerusalembaptistchildren@gmail.com
END:VEVENT
BEGIN:VEVENT
DTSTART;TZID=America/New_York:20290805T110000
DTEND;TZID=America/New_York:20290805T121500
DTSTAMP:20260423T071344
CREATED:20260217T174642Z
LAST-MODIFIED:20260217T175139Z
UID:10002412-1880622000-1880626500@jerusalembaptist.org
SUMMARY:11 am Worship
DESCRIPTION:« All Events \nThis event has passed. \n11 am Worship\nFebruary 1\n@\n11:00 am\n–\n12:15 pm \nWorship with us on Sunday mornings! All are invited! For more details about the service\, check out our Plan Your Visit page! \n\nJerusalem Baptist Church \n5424 Ox RdFairfax Station\,\nVA\n22039\nUnited States \n\n+ Google Map \n  \n\n\n\n\nAdd to calendar \n  \n\nGoogle Calendar\niCalendar\nOutlook 365\nOutlook Live\n\nCategories:\nGeneral Events \n\n\n\nJBC Kids Sunday Morning Bible Study \n\nLocal Missions Saturday
URL:https://jerusalembaptist.org/event/sunday/2029-08-05/
LOCATION:Jerusalem Baptist Church\, 5424 Ox Rd\, Fairfax Station\, VA\, 22039\, United States
CATEGORIES:General Events
ATTACH;FMTTYPE=image/jpeg:https://jerusalembaptist.org/wp-content/uploads/2026/02/Worship-With-Us.jpg
END:VEVENT
BEGIN:VEVENT
DTSTART;TZID=America/New_York:20290808T180000
DTEND;TZID=America/New_York:20290808T190000
DTSTAMP:20260423T071344
CREATED:20260219T172728Z
LAST-MODIFIED:20260219T173006Z
UID:10002734-1880906400-1880910000@jerusalembaptist.org
SUMMARY:Wednesday Night Prayer Gathering
DESCRIPTION:« All Events \nThis event has passed. \nWednesday Night Prayer Gathering\nJanuary 7\n@\n6:00 pm\n–\n7:00 pm \nJoin us for our weekly prayer gathering on Wednesday nights! \n \n\nJerusalem Baptist Church \n5424 Ox RdFairfax Station\,\nVA\n22039\nUnited States \n\n+ Google Map \n  \n\n\n\n\nAdd to calendar \n  \n\nGoogle Calendar\niCalendar\nOutlook 365\nOutlook Live\n\nCategories:\nGeneral Events \n\n\n\nAwana Clubs \n\nAwana Clubs
URL:https://jerusalembaptist.org/event/wednesday-night-prayer/2029-08-08/
LOCATION:Jerusalem Baptist Church\, 5424 Ox Rd\, Fairfax Station\, VA\, 22039\, United States
CATEGORIES:General Events
ATTACH;FMTTYPE=image/png:https://jerusalembaptist.org/wp-content/uploads/2026/02/WednesdayNightPrayerFinal2025-1.png
END:VEVENT
BEGIN:VEVENT
DTSTART;TZID=America/New_York:20290812T093000
DTEND;TZID=America/New_York:20290812T103000
DTSTAMP:20260423T071344
CREATED:20260128T175858Z
LAST-MODIFIED:20260128T175858Z
UID:10000198-1881221400-1881225000@jerusalembaptist.org
SUMMARY:JBC Kids Sunday Morning Bible Study
DESCRIPTION:
URL:https://jerusalembaptist.org/event/jbc-kids-sunday-morning-bible-study/2029-08-12/
LOCATION:Jerusalem Baptist Church\, 5424 Ox Rd\, Fairfax Station\, VA\, 22039\, United States
CATEGORIES:Kids Events
ATTACH;FMTTYPE=image/png:https://jerusalembaptist.org/wp-content/uploads/2025/10/4.png
ORGANIZER;CN="JBC Kids":MAILTO:jerusalembaptistchildren@gmail.com
END:VEVENT
BEGIN:VEVENT
DTSTART;TZID=America/New_York:20290812T110000
DTEND;TZID=America/New_York:20290812T121500
DTSTAMP:20260423T071344
CREATED:20260217T174642Z
LAST-MODIFIED:20260217T175139Z
UID:10002413-1881226800-1881231300@jerusalembaptist.org
SUMMARY:11 am Worship
DESCRIPTION:« All Events \nThis event has passed. \n11 am Worship\nFebruary 1\n@\n11:00 am\n–\n12:15 pm \nWorship with us on Sunday mornings! All are invited! For more details about the service\, check out our Plan Your Visit page! \n\nJerusalem Baptist Church \n5424 Ox RdFairfax Station\,\nVA\n22039\nUnited States \n\n+ Google Map \n  \n\n\n\n\nAdd to calendar \n  \n\nGoogle Calendar\niCalendar\nOutlook 365\nOutlook Live\n\nCategories:\nGeneral Events \n\n\n\nJBC Kids Sunday Morning Bible Study \n\nLocal Missions Saturday
URL:https://jerusalembaptist.org/event/sunday/2029-08-12/
LOCATION:Jerusalem Baptist Church\, 5424 Ox Rd\, Fairfax Station\, VA\, 22039\, United States
CATEGORIES:General Events
ATTACH;FMTTYPE=image/jpeg:https://jerusalembaptist.org/wp-content/uploads/2026/02/Worship-With-Us.jpg
END:VEVENT
BEGIN:VEVENT
DTSTART;TZID=America/New_York:20290815T180000
DTEND;TZID=America/New_York:20290815T190000
DTSTAMP:20260423T071344
CREATED:20260219T172728Z
LAST-MODIFIED:20260219T173006Z
UID:10002735-1881511200-1881514800@jerusalembaptist.org
SUMMARY:Wednesday Night Prayer Gathering
DESCRIPTION:« All Events \nThis event has passed. \nWednesday Night Prayer Gathering\nJanuary 7\n@\n6:00 pm\n–\n7:00 pm \nJoin us for our weekly prayer gathering on Wednesday nights! \n \n\nJerusalem Baptist Church \n5424 Ox RdFairfax Station\,\nVA\n22039\nUnited States \n\n+ Google Map \n  \n\n\n\n\nAdd to calendar \n  \n\nGoogle Calendar\niCalendar\nOutlook 365\nOutlook Live\n\nCategories:\nGeneral Events \n\n\n\nAwana Clubs \n\nAwana Clubs
URL:https://jerusalembaptist.org/event/wednesday-night-prayer/2029-08-15/
LOCATION:Jerusalem Baptist Church\, 5424 Ox Rd\, Fairfax Station\, VA\, 22039\, United States
CATEGORIES:General Events
ATTACH;FMTTYPE=image/png:https://jerusalembaptist.org/wp-content/uploads/2026/02/WednesdayNightPrayerFinal2025-1.png
END:VEVENT
BEGIN:VEVENT
DTSTART;TZID=America/New_York:20290819T093000
DTEND;TZID=America/New_York:20290819T103000
DTSTAMP:20260423T071344
CREATED:20260128T175858Z
LAST-MODIFIED:20260128T175858Z
UID:10000199-1881826200-1881829800@jerusalembaptist.org
SUMMARY:JBC Kids Sunday Morning Bible Study
DESCRIPTION:
URL:https://jerusalembaptist.org/event/jbc-kids-sunday-morning-bible-study/2029-08-19/
LOCATION:Jerusalem Baptist Church\, 5424 Ox Rd\, Fairfax Station\, VA\, 22039\, United States
CATEGORIES:Kids Events
ATTACH;FMTTYPE=image/png:https://jerusalembaptist.org/wp-content/uploads/2025/10/4.png
ORGANIZER;CN="JBC Kids":MAILTO:jerusalembaptistchildren@gmail.com
END:VEVENT
BEGIN:VEVENT
DTSTART;TZID=America/New_York:20290819T110000
DTEND;TZID=America/New_York:20290819T121500
DTSTAMP:20260423T071344
CREATED:20260217T174642Z
LAST-MODIFIED:20260217T175139Z
UID:10002414-1881831600-1881836100@jerusalembaptist.org
SUMMARY:11 am Worship
DESCRIPTION:« All Events \nThis event has passed. \n11 am Worship\nFebruary 1\n@\n11:00 am\n–\n12:15 pm \nWorship with us on Sunday mornings! All are invited! For more details about the service\, check out our Plan Your Visit page! \n\nJerusalem Baptist Church \n5424 Ox RdFairfax Station\,\nVA\n22039\nUnited States \n\n+ Google Map \n  \n\n\n\n\nAdd to calendar \n  \n\nGoogle Calendar\niCalendar\nOutlook 365\nOutlook Live\n\nCategories:\nGeneral Events \n\n\n\nJBC Kids Sunday Morning Bible Study \n\nLocal Missions Saturday
URL:https://jerusalembaptist.org/event/sunday/2029-08-19/
LOCATION:Jerusalem Baptist Church\, 5424 Ox Rd\, Fairfax Station\, VA\, 22039\, United States
CATEGORIES:General Events
ATTACH;FMTTYPE=image/jpeg:https://jerusalembaptist.org/wp-content/uploads/2026/02/Worship-With-Us.jpg
END:VEVENT
BEGIN:VEVENT
DTSTART;TZID=America/New_York:20290822T180000
DTEND;TZID=America/New_York:20290822T190000
DTSTAMP:20260423T071344
CREATED:20260219T172728Z
LAST-MODIFIED:20260219T173006Z
UID:10002736-1882116000-1882119600@jerusalembaptist.org
SUMMARY:Wednesday Night Prayer Gathering
DESCRIPTION:« All Events \nThis event has passed. \nWednesday Night Prayer Gathering\nJanuary 7\n@\n6:00 pm\n–\n7:00 pm \nJoin us for our weekly prayer gathering on Wednesday nights! \n \n\nJerusalem Baptist Church \n5424 Ox RdFairfax Station\,\nVA\n22039\nUnited States \n\n+ Google Map \n  \n\n\n\n\nAdd to calendar \n  \n\nGoogle Calendar\niCalendar\nOutlook 365\nOutlook Live\n\nCategories:\nGeneral Events \n\n\n\nAwana Clubs \n\nAwana Clubs
URL:https://jerusalembaptist.org/event/wednesday-night-prayer/2029-08-22/
LOCATION:Jerusalem Baptist Church\, 5424 Ox Rd\, Fairfax Station\, VA\, 22039\, United States
CATEGORIES:General Events
ATTACH;FMTTYPE=image/png:https://jerusalembaptist.org/wp-content/uploads/2026/02/WednesdayNightPrayerFinal2025-1.png
END:VEVENT
BEGIN:VEVENT
DTSTART;TZID=America/New_York:20290826T093000
DTEND;TZID=America/New_York:20290826T103000
DTSTAMP:20260423T071344
CREATED:20260128T175858Z
LAST-MODIFIED:20260128T175858Z
UID:10000200-1882431000-1882434600@jerusalembaptist.org
SUMMARY:JBC Kids Sunday Morning Bible Study
DESCRIPTION:
URL:https://jerusalembaptist.org/event/jbc-kids-sunday-morning-bible-study/2029-08-26/
LOCATION:Jerusalem Baptist Church\, 5424 Ox Rd\, Fairfax Station\, VA\, 22039\, United States
CATEGORIES:Kids Events
ATTACH;FMTTYPE=image/png:https://jerusalembaptist.org/wp-content/uploads/2025/10/4.png
ORGANIZER;CN="JBC Kids":MAILTO:jerusalembaptistchildren@gmail.com
END:VEVENT
BEGIN:VEVENT
DTSTART;TZID=America/New_York:20290826T110000
DTEND;TZID=America/New_York:20290826T121500
DTSTAMP:20260423T071344
CREATED:20260217T174642Z
LAST-MODIFIED:20260217T175139Z
UID:10002415-1882436400-1882440900@jerusalembaptist.org
SUMMARY:11 am Worship
DESCRIPTION:« All Events \nThis event has passed. \n11 am Worship\nFebruary 1\n@\n11:00 am\n–\n12:15 pm \nWorship with us on Sunday mornings! All are invited! For more details about the service\, check out our Plan Your Visit page! \n\nJerusalem Baptist Church \n5424 Ox RdFairfax Station\,\nVA\n22039\nUnited States \n\n+ Google Map \n  \n\n\n\n\nAdd to calendar \n  \n\nGoogle Calendar\niCalendar\nOutlook 365\nOutlook Live\n\nCategories:\nGeneral Events \n\n\n\nJBC Kids Sunday Morning Bible Study \n\nLocal Missions Saturday
URL:https://jerusalembaptist.org/event/sunday/2029-08-26/
LOCATION:Jerusalem Baptist Church\, 5424 Ox Rd\, Fairfax Station\, VA\, 22039\, United States
CATEGORIES:General Events
ATTACH;FMTTYPE=image/jpeg:https://jerusalembaptist.org/wp-content/uploads/2026/02/Worship-With-Us.jpg
END:VEVENT
END:VCALENDAR