BEGIN:VCALENDAR
VERSION:2.0
PRODID:-//Jerusalem Baptist Church, Fairfax Station, VA - ECPv6.15.20//NONSGML v1.0//EN
CALSCALE:GREGORIAN
METHOD:PUBLISH
X-ORIGINAL-URL:https://jerusalembaptist.org
X-WR-CALDESC:Events for Jerusalem Baptist Church, Fairfax Station, VA
REFRESH-INTERVAL;VALUE=DURATION:PT1H
X-Robots-Tag:noindex
X-PUBLISHED-TTL:PT1H
BEGIN:VTIMEZONE
TZID:America/New_York
BEGIN:DAYLIGHT
TZOFFSETFROM:-0500
TZOFFSETTO:-0400
TZNAME:EDT
DTSTART:20280312T070000
END:DAYLIGHT
BEGIN:STANDARD
TZOFFSETFROM:-0400
TZOFFSETTO:-0500
TZNAME:EST
DTSTART:20281105T060000
END:STANDARD
BEGIN:DAYLIGHT
TZOFFSETFROM:-0500
TZOFFSETTO:-0400
TZNAME:EDT
DTSTART:20290311T070000
END:DAYLIGHT
BEGIN:STANDARD
TZOFFSETFROM:-0400
TZOFFSETTO:-0500
TZNAME:EST
DTSTART:20291104T060000
END:STANDARD
BEGIN:DAYLIGHT
TZOFFSETFROM:-0500
TZOFFSETTO:-0400
TZNAME:EDT
DTSTART:20300310T070000
END:DAYLIGHT
BEGIN:STANDARD
TZOFFSETFROM:-0400
TZOFFSETTO:-0500
TZNAME:EST
DTSTART:20301103T060000
END:STANDARD
END:VTIMEZONE
BEGIN:VEVENT
DTSTART;TZID=America/New_York:20290425T180000
DTEND;TZID=America/New_York:20290425T190000
DTSTAMP:20260423T034545
CREATED:20260219T172728Z
LAST-MODIFIED:20260219T173006Z
UID:10002719-1871834400-1871838000@jerusalembaptist.org
SUMMARY:Wednesday Night Prayer Gathering
DESCRIPTION:« All Events \nThis event has passed. \nWednesday Night Prayer Gathering\nJanuary 7\n@\n6:00 pm\n–\n7:00 pm \nJoin us for our weekly prayer gathering on Wednesday nights! \n \n\nJerusalem Baptist Church \n5424 Ox RdFairfax Station\,\nVA\n22039\nUnited States \n\n+ Google Map \n  \n\n\n\n\nAdd to calendar \n  \n\nGoogle Calendar\niCalendar\nOutlook 365\nOutlook Live\n\nCategories:\nGeneral Events \n\n\n\nAwana Clubs \n\nAwana Clubs
URL:https://jerusalembaptist.org/event/wednesday-night-prayer/2029-04-25/
LOCATION:Jerusalem Baptist Church\, 5424 Ox Rd\, Fairfax Station\, VA\, 22039\, United States
CATEGORIES:General Events
ATTACH;FMTTYPE=image/png:https://jerusalembaptist.org/wp-content/uploads/2026/02/WednesdayNightPrayerFinal2025-1.png
END:VEVENT
BEGIN:VEVENT
DTSTART;TZID=America/New_York:20290429T093000
DTEND;TZID=America/New_York:20290429T103000
DTSTAMP:20260423T034545
CREATED:20260128T175858Z
LAST-MODIFIED:20260128T175858Z
UID:10000183-1872149400-1872153000@jerusalembaptist.org
SUMMARY:JBC Kids Sunday Morning Bible Study
DESCRIPTION:
URL:https://jerusalembaptist.org/event/jbc-kids-sunday-morning-bible-study/2029-04-29/
LOCATION:Jerusalem Baptist Church\, 5424 Ox Rd\, Fairfax Station\, VA\, 22039\, United States
CATEGORIES:Kids Events
ATTACH;FMTTYPE=image/png:https://jerusalembaptist.org/wp-content/uploads/2025/10/4.png
ORGANIZER;CN="JBC Kids":MAILTO:jerusalembaptistchildren@gmail.com
END:VEVENT
BEGIN:VEVENT
DTSTART;TZID=America/New_York:20290429T110000
DTEND;TZID=America/New_York:20290429T121500
DTSTAMP:20260423T034545
CREATED:20260217T174642Z
LAST-MODIFIED:20260217T175139Z
UID:10002398-1872154800-1872159300@jerusalembaptist.org
SUMMARY:11 am Worship
DESCRIPTION:« All Events \nThis event has passed. \n11 am Worship\nFebruary 1\n@\n11:00 am\n–\n12:15 pm \nWorship with us on Sunday mornings! All are invited! For more details about the service\, check out our Plan Your Visit page! \n\nJerusalem Baptist Church \n5424 Ox RdFairfax Station\,\nVA\n22039\nUnited States \n\n+ Google Map \n  \n\n\n\n\nAdd to calendar \n  \n\nGoogle Calendar\niCalendar\nOutlook 365\nOutlook Live\n\nCategories:\nGeneral Events \n\n\n\nJBC Kids Sunday Morning Bible Study \n\nLocal Missions Saturday
URL:https://jerusalembaptist.org/event/sunday/2029-04-29/
LOCATION:Jerusalem Baptist Church\, 5424 Ox Rd\, Fairfax Station\, VA\, 22039\, United States
CATEGORIES:General Events
ATTACH;FMTTYPE=image/jpeg:https://jerusalembaptist.org/wp-content/uploads/2026/02/Worship-With-Us.jpg
END:VEVENT
BEGIN:VEVENT
DTSTART;TZID=America/New_York:20290502T180000
DTEND;TZID=America/New_York:20290502T190000
DTSTAMP:20260423T034545
CREATED:20260219T172728Z
LAST-MODIFIED:20260219T173006Z
UID:10002720-1872439200-1872442800@jerusalembaptist.org
SUMMARY:Wednesday Night Prayer Gathering
DESCRIPTION:« All Events \nThis event has passed. \nWednesday Night Prayer Gathering\nJanuary 7\n@\n6:00 pm\n–\n7:00 pm \nJoin us for our weekly prayer gathering on Wednesday nights! \n \n\nJerusalem Baptist Church \n5424 Ox RdFairfax Station\,\nVA\n22039\nUnited States \n\n+ Google Map \n  \n\n\n\n\nAdd to calendar \n  \n\nGoogle Calendar\niCalendar\nOutlook 365\nOutlook Live\n\nCategories:\nGeneral Events \n\n\n\nAwana Clubs \n\nAwana Clubs
URL:https://jerusalembaptist.org/event/wednesday-night-prayer/2029-05-02/
LOCATION:Jerusalem Baptist Church\, 5424 Ox Rd\, Fairfax Station\, VA\, 22039\, United States
CATEGORIES:General Events
ATTACH;FMTTYPE=image/png:https://jerusalembaptist.org/wp-content/uploads/2026/02/WednesdayNightPrayerFinal2025-1.png
END:VEVENT
BEGIN:VEVENT
DTSTART;TZID=America/New_York:20290506T093000
DTEND;TZID=America/New_York:20290506T103000
DTSTAMP:20260423T034545
CREATED:20260128T175858Z
LAST-MODIFIED:20260128T175858Z
UID:10000184-1872754200-1872757800@jerusalembaptist.org
SUMMARY:JBC Kids Sunday Morning Bible Study
DESCRIPTION:
URL:https://jerusalembaptist.org/event/jbc-kids-sunday-morning-bible-study/2029-05-06/
LOCATION:Jerusalem Baptist Church\, 5424 Ox Rd\, Fairfax Station\, VA\, 22039\, United States
CATEGORIES:Kids Events
ATTACH;FMTTYPE=image/png:https://jerusalembaptist.org/wp-content/uploads/2025/10/4.png
ORGANIZER;CN="JBC Kids":MAILTO:jerusalembaptistchildren@gmail.com
END:VEVENT
BEGIN:VEVENT
DTSTART;TZID=America/New_York:20290506T110000
DTEND;TZID=America/New_York:20290506T121500
DTSTAMP:20260423T034545
CREATED:20260217T174642Z
LAST-MODIFIED:20260217T175139Z
UID:10002399-1872759600-1872764100@jerusalembaptist.org
SUMMARY:11 am Worship
DESCRIPTION:« All Events \nThis event has passed. \n11 am Worship\nFebruary 1\n@\n11:00 am\n–\n12:15 pm \nWorship with us on Sunday mornings! All are invited! For more details about the service\, check out our Plan Your Visit page! \n\nJerusalem Baptist Church \n5424 Ox RdFairfax Station\,\nVA\n22039\nUnited States \n\n+ Google Map \n  \n\n\n\n\nAdd to calendar \n  \n\nGoogle Calendar\niCalendar\nOutlook 365\nOutlook Live\n\nCategories:\nGeneral Events \n\n\n\nJBC Kids Sunday Morning Bible Study \n\nLocal Missions Saturday
URL:https://jerusalembaptist.org/event/sunday/2029-05-06/
LOCATION:Jerusalem Baptist Church\, 5424 Ox Rd\, Fairfax Station\, VA\, 22039\, United States
CATEGORIES:General Events
ATTACH;FMTTYPE=image/jpeg:https://jerusalembaptist.org/wp-content/uploads/2026/02/Worship-With-Us.jpg
END:VEVENT
BEGIN:VEVENT
DTSTART;TZID=America/New_York:20290509T180000
DTEND;TZID=America/New_York:20290509T190000
DTSTAMP:20260423T034545
CREATED:20260219T172728Z
LAST-MODIFIED:20260219T173006Z
UID:10002721-1873044000-1873047600@jerusalembaptist.org
SUMMARY:Wednesday Night Prayer Gathering
DESCRIPTION:« All Events \nThis event has passed. \nWednesday Night Prayer Gathering\nJanuary 7\n@\n6:00 pm\n–\n7:00 pm \nJoin us for our weekly prayer gathering on Wednesday nights! \n \n\nJerusalem Baptist Church \n5424 Ox RdFairfax Station\,\nVA\n22039\nUnited States \n\n+ Google Map \n  \n\n\n\n\nAdd to calendar \n  \n\nGoogle Calendar\niCalendar\nOutlook 365\nOutlook Live\n\nCategories:\nGeneral Events \n\n\n\nAwana Clubs \n\nAwana Clubs
URL:https://jerusalembaptist.org/event/wednesday-night-prayer/2029-05-09/
LOCATION:Jerusalem Baptist Church\, 5424 Ox Rd\, Fairfax Station\, VA\, 22039\, United States
CATEGORIES:General Events
ATTACH;FMTTYPE=image/png:https://jerusalembaptist.org/wp-content/uploads/2026/02/WednesdayNightPrayerFinal2025-1.png
END:VEVENT
BEGIN:VEVENT
DTSTART;TZID=America/New_York:20290513T093000
DTEND;TZID=America/New_York:20290513T103000
DTSTAMP:20260423T034545
CREATED:20260128T175858Z
LAST-MODIFIED:20260128T175858Z
UID:10000185-1873359000-1873362600@jerusalembaptist.org
SUMMARY:JBC Kids Sunday Morning Bible Study
DESCRIPTION:
URL:https://jerusalembaptist.org/event/jbc-kids-sunday-morning-bible-study/2029-05-13/
LOCATION:Jerusalem Baptist Church\, 5424 Ox Rd\, Fairfax Station\, VA\, 22039\, United States
CATEGORIES:Kids Events
ATTACH;FMTTYPE=image/png:https://jerusalembaptist.org/wp-content/uploads/2025/10/4.png
ORGANIZER;CN="JBC Kids":MAILTO:jerusalembaptistchildren@gmail.com
END:VEVENT
BEGIN:VEVENT
DTSTART;TZID=America/New_York:20290513T110000
DTEND;TZID=America/New_York:20290513T121500
DTSTAMP:20260423T034545
CREATED:20260217T174642Z
LAST-MODIFIED:20260217T175139Z
UID:10002400-1873364400-1873368900@jerusalembaptist.org
SUMMARY:11 am Worship
DESCRIPTION:« All Events \nThis event has passed. \n11 am Worship\nFebruary 1\n@\n11:00 am\n–\n12:15 pm \nWorship with us on Sunday mornings! All are invited! For more details about the service\, check out our Plan Your Visit page! \n\nJerusalem Baptist Church \n5424 Ox RdFairfax Station\,\nVA\n22039\nUnited States \n\n+ Google Map \n  \n\n\n\n\nAdd to calendar \n  \n\nGoogle Calendar\niCalendar\nOutlook 365\nOutlook Live\n\nCategories:\nGeneral Events \n\n\n\nJBC Kids Sunday Morning Bible Study \n\nLocal Missions Saturday
URL:https://jerusalembaptist.org/event/sunday/2029-05-13/
LOCATION:Jerusalem Baptist Church\, 5424 Ox Rd\, Fairfax Station\, VA\, 22039\, United States
CATEGORIES:General Events
ATTACH;FMTTYPE=image/jpeg:https://jerusalembaptist.org/wp-content/uploads/2026/02/Worship-With-Us.jpg
END:VEVENT
BEGIN:VEVENT
DTSTART;TZID=America/New_York:20290516T180000
DTEND;TZID=America/New_York:20290516T190000
DTSTAMP:20260423T034545
CREATED:20260219T172728Z
LAST-MODIFIED:20260219T173006Z
UID:10002722-1873648800-1873652400@jerusalembaptist.org
SUMMARY:Wednesday Night Prayer Gathering
DESCRIPTION:« All Events \nThis event has passed. \nWednesday Night Prayer Gathering\nJanuary 7\n@\n6:00 pm\n–\n7:00 pm \nJoin us for our weekly prayer gathering on Wednesday nights! \n \n\nJerusalem Baptist Church \n5424 Ox RdFairfax Station\,\nVA\n22039\nUnited States \n\n+ Google Map \n  \n\n\n\n\nAdd to calendar \n  \n\nGoogle Calendar\niCalendar\nOutlook 365\nOutlook Live\n\nCategories:\nGeneral Events \n\n\n\nAwana Clubs \n\nAwana Clubs
URL:https://jerusalembaptist.org/event/wednesday-night-prayer/2029-05-16/
LOCATION:Jerusalem Baptist Church\, 5424 Ox Rd\, Fairfax Station\, VA\, 22039\, United States
CATEGORIES:General Events
ATTACH;FMTTYPE=image/png:https://jerusalembaptist.org/wp-content/uploads/2026/02/WednesdayNightPrayerFinal2025-1.png
END:VEVENT
BEGIN:VEVENT
DTSTART;TZID=America/New_York:20290520T093000
DTEND;TZID=America/New_York:20290520T103000
DTSTAMP:20260423T034545
CREATED:20260128T175858Z
LAST-MODIFIED:20260128T175858Z
UID:10000186-1873963800-1873967400@jerusalembaptist.org
SUMMARY:JBC Kids Sunday Morning Bible Study
DESCRIPTION:
URL:https://jerusalembaptist.org/event/jbc-kids-sunday-morning-bible-study/2029-05-20/
LOCATION:Jerusalem Baptist Church\, 5424 Ox Rd\, Fairfax Station\, VA\, 22039\, United States
CATEGORIES:Kids Events
ATTACH;FMTTYPE=image/png:https://jerusalembaptist.org/wp-content/uploads/2025/10/4.png
ORGANIZER;CN="JBC Kids":MAILTO:jerusalembaptistchildren@gmail.com
END:VEVENT
BEGIN:VEVENT
DTSTART;TZID=America/New_York:20290520T110000
DTEND;TZID=America/New_York:20290520T121500
DTSTAMP:20260423T034545
CREATED:20260217T174642Z
LAST-MODIFIED:20260217T175139Z
UID:10002401-1873969200-1873973700@jerusalembaptist.org
SUMMARY:11 am Worship
DESCRIPTION:« All Events \nThis event has passed. \n11 am Worship\nFebruary 1\n@\n11:00 am\n–\n12:15 pm \nWorship with us on Sunday mornings! All are invited! For more details about the service\, check out our Plan Your Visit page! \n\nJerusalem Baptist Church \n5424 Ox RdFairfax Station\,\nVA\n22039\nUnited States \n\n+ Google Map \n  \n\n\n\n\nAdd to calendar \n  \n\nGoogle Calendar\niCalendar\nOutlook 365\nOutlook Live\n\nCategories:\nGeneral Events \n\n\n\nJBC Kids Sunday Morning Bible Study \n\nLocal Missions Saturday
URL:https://jerusalembaptist.org/event/sunday/2029-05-20/
LOCATION:Jerusalem Baptist Church\, 5424 Ox Rd\, Fairfax Station\, VA\, 22039\, United States
CATEGORIES:General Events
ATTACH;FMTTYPE=image/jpeg:https://jerusalembaptist.org/wp-content/uploads/2026/02/Worship-With-Us.jpg
END:VEVENT
BEGIN:VEVENT
DTSTART;TZID=America/New_York:20290523T180000
DTEND;TZID=America/New_York:20290523T190000
DTSTAMP:20260423T034545
CREATED:20260219T172728Z
LAST-MODIFIED:20260219T173006Z
UID:10002723-1874253600-1874257200@jerusalembaptist.org
SUMMARY:Wednesday Night Prayer Gathering
DESCRIPTION:« All Events \nThis event has passed. \nWednesday Night Prayer Gathering\nJanuary 7\n@\n6:00 pm\n–\n7:00 pm \nJoin us for our weekly prayer gathering on Wednesday nights! \n \n\nJerusalem Baptist Church \n5424 Ox RdFairfax Station\,\nVA\n22039\nUnited States \n\n+ Google Map \n  \n\n\n\n\nAdd to calendar \n  \n\nGoogle Calendar\niCalendar\nOutlook 365\nOutlook Live\n\nCategories:\nGeneral Events \n\n\n\nAwana Clubs \n\nAwana Clubs
URL:https://jerusalembaptist.org/event/wednesday-night-prayer/2029-05-23/
LOCATION:Jerusalem Baptist Church\, 5424 Ox Rd\, Fairfax Station\, VA\, 22039\, United States
CATEGORIES:General Events
ATTACH;FMTTYPE=image/png:https://jerusalembaptist.org/wp-content/uploads/2026/02/WednesdayNightPrayerFinal2025-1.png
END:VEVENT
BEGIN:VEVENT
DTSTART;TZID=America/New_York:20290527T093000
DTEND;TZID=America/New_York:20290527T103000
DTSTAMP:20260423T034545
CREATED:20260128T175858Z
LAST-MODIFIED:20260128T175858Z
UID:10000187-1874568600-1874572200@jerusalembaptist.org
SUMMARY:JBC Kids Sunday Morning Bible Study
DESCRIPTION:
URL:https://jerusalembaptist.org/event/jbc-kids-sunday-morning-bible-study/2029-05-27/
LOCATION:Jerusalem Baptist Church\, 5424 Ox Rd\, Fairfax Station\, VA\, 22039\, United States
CATEGORIES:Kids Events
ATTACH;FMTTYPE=image/png:https://jerusalembaptist.org/wp-content/uploads/2025/10/4.png
ORGANIZER;CN="JBC Kids":MAILTO:jerusalembaptistchildren@gmail.com
END:VEVENT
BEGIN:VEVENT
DTSTART;TZID=America/New_York:20290527T110000
DTEND;TZID=America/New_York:20290527T121500
DTSTAMP:20260423T034545
CREATED:20260217T174642Z
LAST-MODIFIED:20260217T175139Z
UID:10002402-1874574000-1874578500@jerusalembaptist.org
SUMMARY:11 am Worship
DESCRIPTION:« All Events \nThis event has passed. \n11 am Worship\nFebruary 1\n@\n11:00 am\n–\n12:15 pm \nWorship with us on Sunday mornings! All are invited! For more details about the service\, check out our Plan Your Visit page! \n\nJerusalem Baptist Church \n5424 Ox RdFairfax Station\,\nVA\n22039\nUnited States \n\n+ Google Map \n  \n\n\n\n\nAdd to calendar \n  \n\nGoogle Calendar\niCalendar\nOutlook 365\nOutlook Live\n\nCategories:\nGeneral Events \n\n\n\nJBC Kids Sunday Morning Bible Study \n\nLocal Missions Saturday
URL:https://jerusalembaptist.org/event/sunday/2029-05-27/
LOCATION:Jerusalem Baptist Church\, 5424 Ox Rd\, Fairfax Station\, VA\, 22039\, United States
CATEGORIES:General Events
ATTACH;FMTTYPE=image/jpeg:https://jerusalembaptist.org/wp-content/uploads/2026/02/Worship-With-Us.jpg
END:VEVENT
BEGIN:VEVENT
DTSTART;TZID=America/New_York:20290530T180000
DTEND;TZID=America/New_York:20290530T190000
DTSTAMP:20260423T034545
CREATED:20260219T172728Z
LAST-MODIFIED:20260219T173006Z
UID:10002724-1874858400-1874862000@jerusalembaptist.org
SUMMARY:Wednesday Night Prayer Gathering
DESCRIPTION:« All Events \nThis event has passed. \nWednesday Night Prayer Gathering\nJanuary 7\n@\n6:00 pm\n–\n7:00 pm \nJoin us for our weekly prayer gathering on Wednesday nights! \n \n\nJerusalem Baptist Church \n5424 Ox RdFairfax Station\,\nVA\n22039\nUnited States \n\n+ Google Map \n  \n\n\n\n\nAdd to calendar \n  \n\nGoogle Calendar\niCalendar\nOutlook 365\nOutlook Live\n\nCategories:\nGeneral Events \n\n\n\nAwana Clubs \n\nAwana Clubs
URL:https://jerusalembaptist.org/event/wednesday-night-prayer/2029-05-30/
LOCATION:Jerusalem Baptist Church\, 5424 Ox Rd\, Fairfax Station\, VA\, 22039\, United States
CATEGORIES:General Events
ATTACH;FMTTYPE=image/png:https://jerusalembaptist.org/wp-content/uploads/2026/02/WednesdayNightPrayerFinal2025-1.png
END:VEVENT
BEGIN:VEVENT
DTSTART;TZID=America/New_York:20290603T093000
DTEND;TZID=America/New_York:20290603T103000
DTSTAMP:20260423T034545
CREATED:20260128T175858Z
LAST-MODIFIED:20260128T175858Z
UID:10000188-1875173400-1875177000@jerusalembaptist.org
SUMMARY:JBC Kids Sunday Morning Bible Study
DESCRIPTION:
URL:https://jerusalembaptist.org/event/jbc-kids-sunday-morning-bible-study/2029-06-03/
LOCATION:Jerusalem Baptist Church\, 5424 Ox Rd\, Fairfax Station\, VA\, 22039\, United States
CATEGORIES:Kids Events
ATTACH;FMTTYPE=image/png:https://jerusalembaptist.org/wp-content/uploads/2025/10/4.png
ORGANIZER;CN="JBC Kids":MAILTO:jerusalembaptistchildren@gmail.com
END:VEVENT
BEGIN:VEVENT
DTSTART;TZID=America/New_York:20290603T110000
DTEND;TZID=America/New_York:20290603T121500
DTSTAMP:20260423T034545
CREATED:20260217T174642Z
LAST-MODIFIED:20260217T175139Z
UID:10002403-1875178800-1875183300@jerusalembaptist.org
SUMMARY:11 am Worship
DESCRIPTION:« All Events \nThis event has passed. \n11 am Worship\nFebruary 1\n@\n11:00 am\n–\n12:15 pm \nWorship with us on Sunday mornings! All are invited! For more details about the service\, check out our Plan Your Visit page! \n\nJerusalem Baptist Church \n5424 Ox RdFairfax Station\,\nVA\n22039\nUnited States \n\n+ Google Map \n  \n\n\n\n\nAdd to calendar \n  \n\nGoogle Calendar\niCalendar\nOutlook 365\nOutlook Live\n\nCategories:\nGeneral Events \n\n\n\nJBC Kids Sunday Morning Bible Study \n\nLocal Missions Saturday
URL:https://jerusalembaptist.org/event/sunday/2029-06-03/
LOCATION:Jerusalem Baptist Church\, 5424 Ox Rd\, Fairfax Station\, VA\, 22039\, United States
CATEGORIES:General Events
ATTACH;FMTTYPE=image/jpeg:https://jerusalembaptist.org/wp-content/uploads/2026/02/Worship-With-Us.jpg
END:VEVENT
BEGIN:VEVENT
DTSTART;TZID=America/New_York:20290606T180000
DTEND;TZID=America/New_York:20290606T190000
DTSTAMP:20260423T034545
CREATED:20260219T172728Z
LAST-MODIFIED:20260219T173006Z
UID:10002725-1875463200-1875466800@jerusalembaptist.org
SUMMARY:Wednesday Night Prayer Gathering
DESCRIPTION:« All Events \nThis event has passed. \nWednesday Night Prayer Gathering\nJanuary 7\n@\n6:00 pm\n–\n7:00 pm \nJoin us for our weekly prayer gathering on Wednesday nights! \n \n\nJerusalem Baptist Church \n5424 Ox RdFairfax Station\,\nVA\n22039\nUnited States \n\n+ Google Map \n  \n\n\n\n\nAdd to calendar \n  \n\nGoogle Calendar\niCalendar\nOutlook 365\nOutlook Live\n\nCategories:\nGeneral Events \n\n\n\nAwana Clubs \n\nAwana Clubs
URL:https://jerusalembaptist.org/event/wednesday-night-prayer/2029-06-06/
LOCATION:Jerusalem Baptist Church\, 5424 Ox Rd\, Fairfax Station\, VA\, 22039\, United States
CATEGORIES:General Events
ATTACH;FMTTYPE=image/png:https://jerusalembaptist.org/wp-content/uploads/2026/02/WednesdayNightPrayerFinal2025-1.png
END:VEVENT
BEGIN:VEVENT
DTSTART;TZID=America/New_York:20290610T093000
DTEND;TZID=America/New_York:20290610T103000
DTSTAMP:20260423T034545
CREATED:20260128T175858Z
LAST-MODIFIED:20260128T175858Z
UID:10000189-1875778200-1875781800@jerusalembaptist.org
SUMMARY:JBC Kids Sunday Morning Bible Study
DESCRIPTION:
URL:https://jerusalembaptist.org/event/jbc-kids-sunday-morning-bible-study/2029-06-10/
LOCATION:Jerusalem Baptist Church\, 5424 Ox Rd\, Fairfax Station\, VA\, 22039\, United States
CATEGORIES:Kids Events
ATTACH;FMTTYPE=image/png:https://jerusalembaptist.org/wp-content/uploads/2025/10/4.png
ORGANIZER;CN="JBC Kids":MAILTO:jerusalembaptistchildren@gmail.com
END:VEVENT
BEGIN:VEVENT
DTSTART;TZID=America/New_York:20290610T110000
DTEND;TZID=America/New_York:20290610T121500
DTSTAMP:20260423T034545
CREATED:20260217T174642Z
LAST-MODIFIED:20260217T175139Z
UID:10002404-1875783600-1875788100@jerusalembaptist.org
SUMMARY:11 am Worship
DESCRIPTION:« All Events \nThis event has passed. \n11 am Worship\nFebruary 1\n@\n11:00 am\n–\n12:15 pm \nWorship with us on Sunday mornings! All are invited! For more details about the service\, check out our Plan Your Visit page! \n\nJerusalem Baptist Church \n5424 Ox RdFairfax Station\,\nVA\n22039\nUnited States \n\n+ Google Map \n  \n\n\n\n\nAdd to calendar \n  \n\nGoogle Calendar\niCalendar\nOutlook 365\nOutlook Live\n\nCategories:\nGeneral Events \n\n\n\nJBC Kids Sunday Morning Bible Study \n\nLocal Missions Saturday
URL:https://jerusalembaptist.org/event/sunday/2029-06-10/
LOCATION:Jerusalem Baptist Church\, 5424 Ox Rd\, Fairfax Station\, VA\, 22039\, United States
CATEGORIES:General Events
ATTACH;FMTTYPE=image/jpeg:https://jerusalembaptist.org/wp-content/uploads/2026/02/Worship-With-Us.jpg
END:VEVENT
BEGIN:VEVENT
DTSTART;TZID=America/New_York:20290613T180000
DTEND;TZID=America/New_York:20290613T190000
DTSTAMP:20260423T034545
CREATED:20260219T172728Z
LAST-MODIFIED:20260219T173006Z
UID:10002726-1876068000-1876071600@jerusalembaptist.org
SUMMARY:Wednesday Night Prayer Gathering
DESCRIPTION:« All Events \nThis event has passed. \nWednesday Night Prayer Gathering\nJanuary 7\n@\n6:00 pm\n–\n7:00 pm \nJoin us for our weekly prayer gathering on Wednesday nights! \n \n\nJerusalem Baptist Church \n5424 Ox RdFairfax Station\,\nVA\n22039\nUnited States \n\n+ Google Map \n  \n\n\n\n\nAdd to calendar \n  \n\nGoogle Calendar\niCalendar\nOutlook 365\nOutlook Live\n\nCategories:\nGeneral Events \n\n\n\nAwana Clubs \n\nAwana Clubs
URL:https://jerusalembaptist.org/event/wednesday-night-prayer/2029-06-13/
LOCATION:Jerusalem Baptist Church\, 5424 Ox Rd\, Fairfax Station\, VA\, 22039\, United States
CATEGORIES:General Events
ATTACH;FMTTYPE=image/png:https://jerusalembaptist.org/wp-content/uploads/2026/02/WednesdayNightPrayerFinal2025-1.png
END:VEVENT
BEGIN:VEVENT
DTSTART;TZID=America/New_York:20290617T093000
DTEND;TZID=America/New_York:20290617T103000
DTSTAMP:20260423T034545
CREATED:20260128T175858Z
LAST-MODIFIED:20260128T175858Z
UID:10000190-1876383000-1876386600@jerusalembaptist.org
SUMMARY:JBC Kids Sunday Morning Bible Study
DESCRIPTION:
URL:https://jerusalembaptist.org/event/jbc-kids-sunday-morning-bible-study/2029-06-17/
LOCATION:Jerusalem Baptist Church\, 5424 Ox Rd\, Fairfax Station\, VA\, 22039\, United States
CATEGORIES:Kids Events
ATTACH;FMTTYPE=image/png:https://jerusalembaptist.org/wp-content/uploads/2025/10/4.png
ORGANIZER;CN="JBC Kids":MAILTO:jerusalembaptistchildren@gmail.com
END:VEVENT
BEGIN:VEVENT
DTSTART;TZID=America/New_York:20290617T110000
DTEND;TZID=America/New_York:20290617T121500
DTSTAMP:20260423T034545
CREATED:20260217T174642Z
LAST-MODIFIED:20260217T175139Z
UID:10002405-1876388400-1876392900@jerusalembaptist.org
SUMMARY:11 am Worship
DESCRIPTION:« All Events \nThis event has passed. \n11 am Worship\nFebruary 1\n@\n11:00 am\n–\n12:15 pm \nWorship with us on Sunday mornings! All are invited! For more details about the service\, check out our Plan Your Visit page! \n\nJerusalem Baptist Church \n5424 Ox RdFairfax Station\,\nVA\n22039\nUnited States \n\n+ Google Map \n  \n\n\n\n\nAdd to calendar \n  \n\nGoogle Calendar\niCalendar\nOutlook 365\nOutlook Live\n\nCategories:\nGeneral Events \n\n\n\nJBC Kids Sunday Morning Bible Study \n\nLocal Missions Saturday
URL:https://jerusalembaptist.org/event/sunday/2029-06-17/
LOCATION:Jerusalem Baptist Church\, 5424 Ox Rd\, Fairfax Station\, VA\, 22039\, United States
CATEGORIES:General Events
ATTACH;FMTTYPE=image/jpeg:https://jerusalembaptist.org/wp-content/uploads/2026/02/Worship-With-Us.jpg
END:VEVENT
BEGIN:VEVENT
DTSTART;TZID=America/New_York:20290620T180000
DTEND;TZID=America/New_York:20290620T190000
DTSTAMP:20260423T034545
CREATED:20260219T172728Z
LAST-MODIFIED:20260219T173006Z
UID:10002727-1876672800-1876676400@jerusalembaptist.org
SUMMARY:Wednesday Night Prayer Gathering
DESCRIPTION:« All Events \nThis event has passed. \nWednesday Night Prayer Gathering\nJanuary 7\n@\n6:00 pm\n–\n7:00 pm \nJoin us for our weekly prayer gathering on Wednesday nights! \n \n\nJerusalem Baptist Church \n5424 Ox RdFairfax Station\,\nVA\n22039\nUnited States \n\n+ Google Map \n  \n\n\n\n\nAdd to calendar \n  \n\nGoogle Calendar\niCalendar\nOutlook 365\nOutlook Live\n\nCategories:\nGeneral Events \n\n\n\nAwana Clubs \n\nAwana Clubs
URL:https://jerusalembaptist.org/event/wednesday-night-prayer/2029-06-20/
LOCATION:Jerusalem Baptist Church\, 5424 Ox Rd\, Fairfax Station\, VA\, 22039\, United States
CATEGORIES:General Events
ATTACH;FMTTYPE=image/png:https://jerusalembaptist.org/wp-content/uploads/2026/02/WednesdayNightPrayerFinal2025-1.png
END:VEVENT
BEGIN:VEVENT
DTSTART;TZID=America/New_York:20290624T093000
DTEND;TZID=America/New_York:20290624T103000
DTSTAMP:20260423T034545
CREATED:20260128T175858Z
LAST-MODIFIED:20260128T175858Z
UID:10000191-1876987800-1876991400@jerusalembaptist.org
SUMMARY:JBC Kids Sunday Morning Bible Study
DESCRIPTION:
URL:https://jerusalembaptist.org/event/jbc-kids-sunday-morning-bible-study/2029-06-24/
LOCATION:Jerusalem Baptist Church\, 5424 Ox Rd\, Fairfax Station\, VA\, 22039\, United States
CATEGORIES:Kids Events
ATTACH;FMTTYPE=image/png:https://jerusalembaptist.org/wp-content/uploads/2025/10/4.png
ORGANIZER;CN="JBC Kids":MAILTO:jerusalembaptistchildren@gmail.com
END:VEVENT
BEGIN:VEVENT
DTSTART;TZID=America/New_York:20290624T110000
DTEND;TZID=America/New_York:20290624T121500
DTSTAMP:20260423T034545
CREATED:20260217T174642Z
LAST-MODIFIED:20260217T175139Z
UID:10002406-1876993200-1876997700@jerusalembaptist.org
SUMMARY:11 am Worship
DESCRIPTION:« All Events \nThis event has passed. \n11 am Worship\nFebruary 1\n@\n11:00 am\n–\n12:15 pm \nWorship with us on Sunday mornings! All are invited! For more details about the service\, check out our Plan Your Visit page! \n\nJerusalem Baptist Church \n5424 Ox RdFairfax Station\,\nVA\n22039\nUnited States \n\n+ Google Map \n  \n\n\n\n\nAdd to calendar \n  \n\nGoogle Calendar\niCalendar\nOutlook 365\nOutlook Live\n\nCategories:\nGeneral Events \n\n\n\nJBC Kids Sunday Morning Bible Study \n\nLocal Missions Saturday
URL:https://jerusalembaptist.org/event/sunday/2029-06-24/
LOCATION:Jerusalem Baptist Church\, 5424 Ox Rd\, Fairfax Station\, VA\, 22039\, United States
CATEGORIES:General Events
ATTACH;FMTTYPE=image/jpeg:https://jerusalembaptist.org/wp-content/uploads/2026/02/Worship-With-Us.jpg
END:VEVENT
BEGIN:VEVENT
DTSTART;TZID=America/New_York:20290627T180000
DTEND;TZID=America/New_York:20290627T190000
DTSTAMP:20260423T034545
CREATED:20260219T172728Z
LAST-MODIFIED:20260219T173006Z
UID:10002728-1877277600-1877281200@jerusalembaptist.org
SUMMARY:Wednesday Night Prayer Gathering
DESCRIPTION:« All Events \nThis event has passed. \nWednesday Night Prayer Gathering\nJanuary 7\n@\n6:00 pm\n–\n7:00 pm \nJoin us for our weekly prayer gathering on Wednesday nights! \n \n\nJerusalem Baptist Church \n5424 Ox RdFairfax Station\,\nVA\n22039\nUnited States \n\n+ Google Map \n  \n\n\n\n\nAdd to calendar \n  \n\nGoogle Calendar\niCalendar\nOutlook 365\nOutlook Live\n\nCategories:\nGeneral Events \n\n\n\nAwana Clubs \n\nAwana Clubs
URL:https://jerusalembaptist.org/event/wednesday-night-prayer/2029-06-27/
LOCATION:Jerusalem Baptist Church\, 5424 Ox Rd\, Fairfax Station\, VA\, 22039\, United States
CATEGORIES:General Events
ATTACH;FMTTYPE=image/png:https://jerusalembaptist.org/wp-content/uploads/2026/02/WednesdayNightPrayerFinal2025-1.png
END:VEVENT
BEGIN:VEVENT
DTSTART;TZID=America/New_York:20290701T093000
DTEND;TZID=America/New_York:20290701T103000
DTSTAMP:20260423T034545
CREATED:20260128T175858Z
LAST-MODIFIED:20260128T175858Z
UID:10000192-1877592600-1877596200@jerusalembaptist.org
SUMMARY:JBC Kids Sunday Morning Bible Study
DESCRIPTION:
URL:https://jerusalembaptist.org/event/jbc-kids-sunday-morning-bible-study/2029-07-01/
LOCATION:Jerusalem Baptist Church\, 5424 Ox Rd\, Fairfax Station\, VA\, 22039\, United States
CATEGORIES:Kids Events
ATTACH;FMTTYPE=image/png:https://jerusalembaptist.org/wp-content/uploads/2025/10/4.png
ORGANIZER;CN="JBC Kids":MAILTO:jerusalembaptistchildren@gmail.com
END:VEVENT
BEGIN:VEVENT
DTSTART;TZID=America/New_York:20290701T110000
DTEND;TZID=America/New_York:20290701T121500
DTSTAMP:20260423T034545
CREATED:20260217T174642Z
LAST-MODIFIED:20260217T175139Z
UID:10002407-1877598000-1877602500@jerusalembaptist.org
SUMMARY:11 am Worship
DESCRIPTION:« All Events \nThis event has passed. \n11 am Worship\nFebruary 1\n@\n11:00 am\n–\n12:15 pm \nWorship with us on Sunday mornings! All are invited! For more details about the service\, check out our Plan Your Visit page! \n\nJerusalem Baptist Church \n5424 Ox RdFairfax Station\,\nVA\n22039\nUnited States \n\n+ Google Map \n  \n\n\n\n\nAdd to calendar \n  \n\nGoogle Calendar\niCalendar\nOutlook 365\nOutlook Live\n\nCategories:\nGeneral Events \n\n\n\nJBC Kids Sunday Morning Bible Study \n\nLocal Missions Saturday
URL:https://jerusalembaptist.org/event/sunday/2029-07-01/
LOCATION:Jerusalem Baptist Church\, 5424 Ox Rd\, Fairfax Station\, VA\, 22039\, United States
CATEGORIES:General Events
ATTACH;FMTTYPE=image/jpeg:https://jerusalembaptist.org/wp-content/uploads/2026/02/Worship-With-Us.jpg
END:VEVENT
END:VCALENDAR