BEGIN:VCALENDAR
VERSION:2.0
PRODID:-//Jerusalem Baptist Church, Fairfax Station, VA - ECPv6.15.20//NONSGML v1.0//EN
CALSCALE:GREGORIAN
METHOD:PUBLISH
X-WR-CALNAME:Jerusalem Baptist Church, Fairfax Station, VA
X-ORIGINAL-URL:https://jerusalembaptist.org
X-WR-CALDESC:Events for Jerusalem Baptist Church, Fairfax Station, VA
REFRESH-INTERVAL;VALUE=DURATION:PT1H
X-Robots-Tag:noindex
X-PUBLISHED-TTL:PT1H
BEGIN:VTIMEZONE
TZID:America/New_York
BEGIN:DAYLIGHT
TZOFFSETFROM:-0500
TZOFFSETTO:-0400
TZNAME:EDT
DTSTART:20270314T070000
END:DAYLIGHT
BEGIN:STANDARD
TZOFFSETFROM:-0400
TZOFFSETTO:-0500
TZNAME:EST
DTSTART:20271107T060000
END:STANDARD
BEGIN:DAYLIGHT
TZOFFSETFROM:-0500
TZOFFSETTO:-0400
TZNAME:EDT
DTSTART:20280312T070000
END:DAYLIGHT
BEGIN:STANDARD
TZOFFSETFROM:-0400
TZOFFSETTO:-0500
TZNAME:EST
DTSTART:20281105T060000
END:STANDARD
BEGIN:DAYLIGHT
TZOFFSETFROM:-0500
TZOFFSETTO:-0400
TZNAME:EDT
DTSTART:20290311T070000
END:DAYLIGHT
BEGIN:STANDARD
TZOFFSETFROM:-0400
TZOFFSETTO:-0500
TZNAME:EST
DTSTART:20291104T060000
END:STANDARD
BEGIN:DAYLIGHT
TZOFFSETFROM:-0500
TZOFFSETTO:-0400
TZNAME:EDT
DTSTART:20300310T070000
END:DAYLIGHT
BEGIN:STANDARD
TZOFFSETFROM:-0400
TZOFFSETTO:-0500
TZNAME:EST
DTSTART:20301103T060000
END:STANDARD
END:VTIMEZONE
BEGIN:VEVENT
DTSTART;TZID=America/New_York:20281101T180000
DTEND;TZID=America/New_York:20281101T190000
DTSTAMP:20260422T175120
CREATED:20260219T172728Z
LAST-MODIFIED:20260219T173006Z
UID:10002694-1856714400-1856718000@jerusalembaptist.org
SUMMARY:Wednesday Night Prayer Gathering
DESCRIPTION:« All Events \nThis event has passed. \nWednesday Night Prayer Gathering\nJanuary 7\n@\n6:00 pm\n–\n7:00 pm \nJoin us for our weekly prayer gathering on Wednesday nights! \n \n\nJerusalem Baptist Church \n5424 Ox RdFairfax Station\,\nVA\n22039\nUnited States \n\n+ Google Map \n  \n\n\n\n\nAdd to calendar \n  \n\nGoogle Calendar\niCalendar\nOutlook 365\nOutlook Live\n\nCategories:\nGeneral Events \n\n\n\nAwana Clubs \n\nAwana Clubs
URL:https://jerusalembaptist.org/event/wednesday-night-prayer/2028-11-01/
LOCATION:Jerusalem Baptist Church\, 5424 Ox Rd\, Fairfax Station\, VA\, 22039\, United States
CATEGORIES:General Events
ATTACH;FMTTYPE=image/png:https://jerusalembaptist.org/wp-content/uploads/2026/02/WednesdayNightPrayerFinal2025-1.png
END:VEVENT
BEGIN:VEVENT
DTSTART;TZID=America/New_York:20281105T093000
DTEND;TZID=America/New_York:20281105T103000
DTSTAMP:20260422T175120
CREATED:20260128T175858Z
LAST-MODIFIED:20260128T175858Z
UID:10000158-1857029400-1857033000@jerusalembaptist.org
SUMMARY:JBC Kids Sunday Morning Bible Study
DESCRIPTION:
URL:https://jerusalembaptist.org/event/jbc-kids-sunday-morning-bible-study/2028-11-05/
LOCATION:Jerusalem Baptist Church\, 5424 Ox Rd\, Fairfax Station\, VA\, 22039\, United States
CATEGORIES:Kids Events
ATTACH;FMTTYPE=image/png:https://jerusalembaptist.org/wp-content/uploads/2025/10/4.png
ORGANIZER;CN="JBC Kids":MAILTO:jerusalembaptistchildren@gmail.com
END:VEVENT
BEGIN:VEVENT
DTSTART;TZID=America/New_York:20281105T110000
DTEND;TZID=America/New_York:20281105T121500
DTSTAMP:20260422T175120
CREATED:20260217T174642Z
LAST-MODIFIED:20260217T175139Z
UID:10002373-1857034800-1857039300@jerusalembaptist.org
SUMMARY:11 am Worship
DESCRIPTION:« All Events \nThis event has passed. \n11 am Worship\nFebruary 1\n@\n11:00 am\n–\n12:15 pm \nWorship with us on Sunday mornings! All are invited! For more details about the service\, check out our Plan Your Visit page! \n\nJerusalem Baptist Church \n5424 Ox RdFairfax Station\,\nVA\n22039\nUnited States \n\n+ Google Map \n  \n\n\n\n\nAdd to calendar \n  \n\nGoogle Calendar\niCalendar\nOutlook 365\nOutlook Live\n\nCategories:\nGeneral Events \n\n\n\nJBC Kids Sunday Morning Bible Study \n\nLocal Missions Saturday
URL:https://jerusalembaptist.org/event/sunday/2028-11-05/
LOCATION:Jerusalem Baptist Church\, 5424 Ox Rd\, Fairfax Station\, VA\, 22039\, United States
CATEGORIES:General Events
ATTACH;FMTTYPE=image/jpeg:https://jerusalembaptist.org/wp-content/uploads/2026/02/Worship-With-Us.jpg
END:VEVENT
BEGIN:VEVENT
DTSTART;TZID=America/New_York:20281108T180000
DTEND;TZID=America/New_York:20281108T190000
DTSTAMP:20260422T175120
CREATED:20260219T172728Z
LAST-MODIFIED:20260219T173006Z
UID:10002695-1857319200-1857322800@jerusalembaptist.org
SUMMARY:Wednesday Night Prayer Gathering
DESCRIPTION:« All Events \nThis event has passed. \nWednesday Night Prayer Gathering\nJanuary 7\n@\n6:00 pm\n–\n7:00 pm \nJoin us for our weekly prayer gathering on Wednesday nights! \n \n\nJerusalem Baptist Church \n5424 Ox RdFairfax Station\,\nVA\n22039\nUnited States \n\n+ Google Map \n  \n\n\n\n\nAdd to calendar \n  \n\nGoogle Calendar\niCalendar\nOutlook 365\nOutlook Live\n\nCategories:\nGeneral Events \n\n\n\nAwana Clubs \n\nAwana Clubs
URL:https://jerusalembaptist.org/event/wednesday-night-prayer/2028-11-08/
LOCATION:Jerusalem Baptist Church\, 5424 Ox Rd\, Fairfax Station\, VA\, 22039\, United States
CATEGORIES:General Events
ATTACH;FMTTYPE=image/png:https://jerusalembaptist.org/wp-content/uploads/2026/02/WednesdayNightPrayerFinal2025-1.png
END:VEVENT
BEGIN:VEVENT
DTSTART;TZID=America/New_York:20281112T093000
DTEND;TZID=America/New_York:20281112T103000
DTSTAMP:20260422T175120
CREATED:20260128T175858Z
LAST-MODIFIED:20260128T175858Z
UID:10000159-1857634200-1857637800@jerusalembaptist.org
SUMMARY:JBC Kids Sunday Morning Bible Study
DESCRIPTION:
URL:https://jerusalembaptist.org/event/jbc-kids-sunday-morning-bible-study/2028-11-12/
LOCATION:Jerusalem Baptist Church\, 5424 Ox Rd\, Fairfax Station\, VA\, 22039\, United States
CATEGORIES:Kids Events
ATTACH;FMTTYPE=image/png:https://jerusalembaptist.org/wp-content/uploads/2025/10/4.png
ORGANIZER;CN="JBC Kids":MAILTO:jerusalembaptistchildren@gmail.com
END:VEVENT
BEGIN:VEVENT
DTSTART;TZID=America/New_York:20281112T110000
DTEND;TZID=America/New_York:20281112T121500
DTSTAMP:20260422T175120
CREATED:20260217T174642Z
LAST-MODIFIED:20260217T175139Z
UID:10002374-1857639600-1857644100@jerusalembaptist.org
SUMMARY:11 am Worship
DESCRIPTION:« All Events \nThis event has passed. \n11 am Worship\nFebruary 1\n@\n11:00 am\n–\n12:15 pm \nWorship with us on Sunday mornings! All are invited! For more details about the service\, check out our Plan Your Visit page! \n\nJerusalem Baptist Church \n5424 Ox RdFairfax Station\,\nVA\n22039\nUnited States \n\n+ Google Map \n  \n\n\n\n\nAdd to calendar \n  \n\nGoogle Calendar\niCalendar\nOutlook 365\nOutlook Live\n\nCategories:\nGeneral Events \n\n\n\nJBC Kids Sunday Morning Bible Study \n\nLocal Missions Saturday
URL:https://jerusalembaptist.org/event/sunday/2028-11-12/
LOCATION:Jerusalem Baptist Church\, 5424 Ox Rd\, Fairfax Station\, VA\, 22039\, United States
CATEGORIES:General Events
ATTACH;FMTTYPE=image/jpeg:https://jerusalembaptist.org/wp-content/uploads/2026/02/Worship-With-Us.jpg
END:VEVENT
BEGIN:VEVENT
DTSTART;TZID=America/New_York:20281115T180000
DTEND;TZID=America/New_York:20281115T190000
DTSTAMP:20260422T175120
CREATED:20260219T172728Z
LAST-MODIFIED:20260219T173006Z
UID:10002696-1857924000-1857927600@jerusalembaptist.org
SUMMARY:Wednesday Night Prayer Gathering
DESCRIPTION:« All Events \nThis event has passed. \nWednesday Night Prayer Gathering\nJanuary 7\n@\n6:00 pm\n–\n7:00 pm \nJoin us for our weekly prayer gathering on Wednesday nights! \n \n\nJerusalem Baptist Church \n5424 Ox RdFairfax Station\,\nVA\n22039\nUnited States \n\n+ Google Map \n  \n\n\n\n\nAdd to calendar \n  \n\nGoogle Calendar\niCalendar\nOutlook 365\nOutlook Live\n\nCategories:\nGeneral Events \n\n\n\nAwana Clubs \n\nAwana Clubs
URL:https://jerusalembaptist.org/event/wednesday-night-prayer/2028-11-15/
LOCATION:Jerusalem Baptist Church\, 5424 Ox Rd\, Fairfax Station\, VA\, 22039\, United States
CATEGORIES:General Events
ATTACH;FMTTYPE=image/png:https://jerusalembaptist.org/wp-content/uploads/2026/02/WednesdayNightPrayerFinal2025-1.png
END:VEVENT
BEGIN:VEVENT
DTSTART;TZID=America/New_York:20281119T093000
DTEND;TZID=America/New_York:20281119T103000
DTSTAMP:20260422T175120
CREATED:20260128T175858Z
LAST-MODIFIED:20260128T175858Z
UID:10000160-1858239000-1858242600@jerusalembaptist.org
SUMMARY:JBC Kids Sunday Morning Bible Study
DESCRIPTION:
URL:https://jerusalembaptist.org/event/jbc-kids-sunday-morning-bible-study/2028-11-19/
LOCATION:Jerusalem Baptist Church\, 5424 Ox Rd\, Fairfax Station\, VA\, 22039\, United States
CATEGORIES:Kids Events
ATTACH;FMTTYPE=image/png:https://jerusalembaptist.org/wp-content/uploads/2025/10/4.png
ORGANIZER;CN="JBC Kids":MAILTO:jerusalembaptistchildren@gmail.com
END:VEVENT
BEGIN:VEVENT
DTSTART;TZID=America/New_York:20281119T110000
DTEND;TZID=America/New_York:20281119T121500
DTSTAMP:20260422T175120
CREATED:20260217T174642Z
LAST-MODIFIED:20260217T175139Z
UID:10002375-1858244400-1858248900@jerusalembaptist.org
SUMMARY:11 am Worship
DESCRIPTION:« All Events \nThis event has passed. \n11 am Worship\nFebruary 1\n@\n11:00 am\n–\n12:15 pm \nWorship with us on Sunday mornings! All are invited! For more details about the service\, check out our Plan Your Visit page! \n\nJerusalem Baptist Church \n5424 Ox RdFairfax Station\,\nVA\n22039\nUnited States \n\n+ Google Map \n  \n\n\n\n\nAdd to calendar \n  \n\nGoogle Calendar\niCalendar\nOutlook 365\nOutlook Live\n\nCategories:\nGeneral Events \n\n\n\nJBC Kids Sunday Morning Bible Study \n\nLocal Missions Saturday
URL:https://jerusalembaptist.org/event/sunday/2028-11-19/
LOCATION:Jerusalem Baptist Church\, 5424 Ox Rd\, Fairfax Station\, VA\, 22039\, United States
CATEGORIES:General Events
ATTACH;FMTTYPE=image/jpeg:https://jerusalembaptist.org/wp-content/uploads/2026/02/Worship-With-Us.jpg
END:VEVENT
BEGIN:VEVENT
DTSTART;TZID=America/New_York:20281122T180000
DTEND;TZID=America/New_York:20281122T190000
DTSTAMP:20260422T175120
CREATED:20260219T172728Z
LAST-MODIFIED:20260219T173006Z
UID:10002697-1858528800-1858532400@jerusalembaptist.org
SUMMARY:Wednesday Night Prayer Gathering
DESCRIPTION:« All Events \nThis event has passed. \nWednesday Night Prayer Gathering\nJanuary 7\n@\n6:00 pm\n–\n7:00 pm \nJoin us for our weekly prayer gathering on Wednesday nights! \n \n\nJerusalem Baptist Church \n5424 Ox RdFairfax Station\,\nVA\n22039\nUnited States \n\n+ Google Map \n  \n\n\n\n\nAdd to calendar \n  \n\nGoogle Calendar\niCalendar\nOutlook 365\nOutlook Live\n\nCategories:\nGeneral Events \n\n\n\nAwana Clubs \n\nAwana Clubs
URL:https://jerusalembaptist.org/event/wednesday-night-prayer/2028-11-22/
LOCATION:Jerusalem Baptist Church\, 5424 Ox Rd\, Fairfax Station\, VA\, 22039\, United States
CATEGORIES:General Events
ATTACH;FMTTYPE=image/png:https://jerusalembaptist.org/wp-content/uploads/2026/02/WednesdayNightPrayerFinal2025-1.png
END:VEVENT
BEGIN:VEVENT
DTSTART;TZID=America/New_York:20281126T093000
DTEND;TZID=America/New_York:20281126T103000
DTSTAMP:20260422T175120
CREATED:20260128T175858Z
LAST-MODIFIED:20260128T175858Z
UID:10000161-1858843800-1858847400@jerusalembaptist.org
SUMMARY:JBC Kids Sunday Morning Bible Study
DESCRIPTION:
URL:https://jerusalembaptist.org/event/jbc-kids-sunday-morning-bible-study/2028-11-26/
LOCATION:Jerusalem Baptist Church\, 5424 Ox Rd\, Fairfax Station\, VA\, 22039\, United States
CATEGORIES:Kids Events
ATTACH;FMTTYPE=image/png:https://jerusalembaptist.org/wp-content/uploads/2025/10/4.png
ORGANIZER;CN="JBC Kids":MAILTO:jerusalembaptistchildren@gmail.com
END:VEVENT
BEGIN:VEVENT
DTSTART;TZID=America/New_York:20281126T110000
DTEND;TZID=America/New_York:20281126T121500
DTSTAMP:20260422T175120
CREATED:20260217T174642Z
LAST-MODIFIED:20260217T175139Z
UID:10002376-1858849200-1858853700@jerusalembaptist.org
SUMMARY:11 am Worship
DESCRIPTION:« All Events \nThis event has passed. \n11 am Worship\nFebruary 1\n@\n11:00 am\n–\n12:15 pm \nWorship with us on Sunday mornings! All are invited! For more details about the service\, check out our Plan Your Visit page! \n\nJerusalem Baptist Church \n5424 Ox RdFairfax Station\,\nVA\n22039\nUnited States \n\n+ Google Map \n  \n\n\n\n\nAdd to calendar \n  \n\nGoogle Calendar\niCalendar\nOutlook 365\nOutlook Live\n\nCategories:\nGeneral Events \n\n\n\nJBC Kids Sunday Morning Bible Study \n\nLocal Missions Saturday
URL:https://jerusalembaptist.org/event/sunday/2028-11-26/
LOCATION:Jerusalem Baptist Church\, 5424 Ox Rd\, Fairfax Station\, VA\, 22039\, United States
CATEGORIES:General Events
ATTACH;FMTTYPE=image/jpeg:https://jerusalembaptist.org/wp-content/uploads/2026/02/Worship-With-Us.jpg
END:VEVENT
BEGIN:VEVENT
DTSTART;TZID=America/New_York:20281129T180000
DTEND;TZID=America/New_York:20281129T190000
DTSTAMP:20260422T175120
CREATED:20260219T172728Z
LAST-MODIFIED:20260219T173006Z
UID:10002698-1859133600-1859137200@jerusalembaptist.org
SUMMARY:Wednesday Night Prayer Gathering
DESCRIPTION:« All Events \nThis event has passed. \nWednesday Night Prayer Gathering\nJanuary 7\n@\n6:00 pm\n–\n7:00 pm \nJoin us for our weekly prayer gathering on Wednesday nights! \n \n\nJerusalem Baptist Church \n5424 Ox RdFairfax Station\,\nVA\n22039\nUnited States \n\n+ Google Map \n  \n\n\n\n\nAdd to calendar \n  \n\nGoogle Calendar\niCalendar\nOutlook 365\nOutlook Live\n\nCategories:\nGeneral Events \n\n\n\nAwana Clubs \n\nAwana Clubs
URL:https://jerusalembaptist.org/event/wednesday-night-prayer/2028-11-29/
LOCATION:Jerusalem Baptist Church\, 5424 Ox Rd\, Fairfax Station\, VA\, 22039\, United States
CATEGORIES:General Events
ATTACH;FMTTYPE=image/png:https://jerusalembaptist.org/wp-content/uploads/2026/02/WednesdayNightPrayerFinal2025-1.png
END:VEVENT
BEGIN:VEVENT
DTSTART;TZID=America/New_York:20281203T093000
DTEND;TZID=America/New_York:20281203T103000
DTSTAMP:20260422T175120
CREATED:20260128T175858Z
LAST-MODIFIED:20260128T175858Z
UID:10000162-1859448600-1859452200@jerusalembaptist.org
SUMMARY:JBC Kids Sunday Morning Bible Study
DESCRIPTION:
URL:https://jerusalembaptist.org/event/jbc-kids-sunday-morning-bible-study/2028-12-03/
LOCATION:Jerusalem Baptist Church\, 5424 Ox Rd\, Fairfax Station\, VA\, 22039\, United States
CATEGORIES:Kids Events
ATTACH;FMTTYPE=image/png:https://jerusalembaptist.org/wp-content/uploads/2025/10/4.png
ORGANIZER;CN="JBC Kids":MAILTO:jerusalembaptistchildren@gmail.com
END:VEVENT
BEGIN:VEVENT
DTSTART;TZID=America/New_York:20281203T110000
DTEND;TZID=America/New_York:20281203T121500
DTSTAMP:20260422T175120
CREATED:20260217T174642Z
LAST-MODIFIED:20260217T175139Z
UID:10002377-1859454000-1859458500@jerusalembaptist.org
SUMMARY:11 am Worship
DESCRIPTION:« All Events \nThis event has passed. \n11 am Worship\nFebruary 1\n@\n11:00 am\n–\n12:15 pm \nWorship with us on Sunday mornings! All are invited! For more details about the service\, check out our Plan Your Visit page! \n\nJerusalem Baptist Church \n5424 Ox RdFairfax Station\,\nVA\n22039\nUnited States \n\n+ Google Map \n  \n\n\n\n\nAdd to calendar \n  \n\nGoogle Calendar\niCalendar\nOutlook 365\nOutlook Live\n\nCategories:\nGeneral Events \n\n\n\nJBC Kids Sunday Morning Bible Study \n\nLocal Missions Saturday
URL:https://jerusalembaptist.org/event/sunday/2028-12-03/
LOCATION:Jerusalem Baptist Church\, 5424 Ox Rd\, Fairfax Station\, VA\, 22039\, United States
CATEGORIES:General Events
ATTACH;FMTTYPE=image/jpeg:https://jerusalembaptist.org/wp-content/uploads/2026/02/Worship-With-Us.jpg
END:VEVENT
BEGIN:VEVENT
DTSTART;TZID=America/New_York:20281206T180000
DTEND;TZID=America/New_York:20281206T190000
DTSTAMP:20260422T175120
CREATED:20260219T172728Z
LAST-MODIFIED:20260219T173006Z
UID:10002699-1859738400-1859742000@jerusalembaptist.org
SUMMARY:Wednesday Night Prayer Gathering
DESCRIPTION:« All Events \nThis event has passed. \nWednesday Night Prayer Gathering\nJanuary 7\n@\n6:00 pm\n–\n7:00 pm \nJoin us for our weekly prayer gathering on Wednesday nights! \n \n\nJerusalem Baptist Church \n5424 Ox RdFairfax Station\,\nVA\n22039\nUnited States \n\n+ Google Map \n  \n\n\n\n\nAdd to calendar \n  \n\nGoogle Calendar\niCalendar\nOutlook 365\nOutlook Live\n\nCategories:\nGeneral Events \n\n\n\nAwana Clubs \n\nAwana Clubs
URL:https://jerusalembaptist.org/event/wednesday-night-prayer/2028-12-06/
LOCATION:Jerusalem Baptist Church\, 5424 Ox Rd\, Fairfax Station\, VA\, 22039\, United States
CATEGORIES:General Events
ATTACH;FMTTYPE=image/png:https://jerusalembaptist.org/wp-content/uploads/2026/02/WednesdayNightPrayerFinal2025-1.png
END:VEVENT
BEGIN:VEVENT
DTSTART;TZID=America/New_York:20281210T093000
DTEND;TZID=America/New_York:20281210T103000
DTSTAMP:20260422T175120
CREATED:20260128T175858Z
LAST-MODIFIED:20260128T175858Z
UID:10000163-1860053400-1860057000@jerusalembaptist.org
SUMMARY:JBC Kids Sunday Morning Bible Study
DESCRIPTION:
URL:https://jerusalembaptist.org/event/jbc-kids-sunday-morning-bible-study/2028-12-10/
LOCATION:Jerusalem Baptist Church\, 5424 Ox Rd\, Fairfax Station\, VA\, 22039\, United States
CATEGORIES:Kids Events
ATTACH;FMTTYPE=image/png:https://jerusalembaptist.org/wp-content/uploads/2025/10/4.png
ORGANIZER;CN="JBC Kids":MAILTO:jerusalembaptistchildren@gmail.com
END:VEVENT
BEGIN:VEVENT
DTSTART;TZID=America/New_York:20281210T110000
DTEND;TZID=America/New_York:20281210T121500
DTSTAMP:20260422T175120
CREATED:20260217T174642Z
LAST-MODIFIED:20260217T175139Z
UID:10002378-1860058800-1860063300@jerusalembaptist.org
SUMMARY:11 am Worship
DESCRIPTION:« All Events \nThis event has passed. \n11 am Worship\nFebruary 1\n@\n11:00 am\n–\n12:15 pm \nWorship with us on Sunday mornings! All are invited! For more details about the service\, check out our Plan Your Visit page! \n\nJerusalem Baptist Church \n5424 Ox RdFairfax Station\,\nVA\n22039\nUnited States \n\n+ Google Map \n  \n\n\n\n\nAdd to calendar \n  \n\nGoogle Calendar\niCalendar\nOutlook 365\nOutlook Live\n\nCategories:\nGeneral Events \n\n\n\nJBC Kids Sunday Morning Bible Study \n\nLocal Missions Saturday
URL:https://jerusalembaptist.org/event/sunday/2028-12-10/
LOCATION:Jerusalem Baptist Church\, 5424 Ox Rd\, Fairfax Station\, VA\, 22039\, United States
CATEGORIES:General Events
ATTACH;FMTTYPE=image/jpeg:https://jerusalembaptist.org/wp-content/uploads/2026/02/Worship-With-Us.jpg
END:VEVENT
BEGIN:VEVENT
DTSTART;TZID=America/New_York:20281213T180000
DTEND;TZID=America/New_York:20281213T190000
DTSTAMP:20260422T175120
CREATED:20260219T172728Z
LAST-MODIFIED:20260219T173006Z
UID:10002700-1860343200-1860346800@jerusalembaptist.org
SUMMARY:Wednesday Night Prayer Gathering
DESCRIPTION:« All Events \nThis event has passed. \nWednesday Night Prayer Gathering\nJanuary 7\n@\n6:00 pm\n–\n7:00 pm \nJoin us for our weekly prayer gathering on Wednesday nights! \n \n\nJerusalem Baptist Church \n5424 Ox RdFairfax Station\,\nVA\n22039\nUnited States \n\n+ Google Map \n  \n\n\n\n\nAdd to calendar \n  \n\nGoogle Calendar\niCalendar\nOutlook 365\nOutlook Live\n\nCategories:\nGeneral Events \n\n\n\nAwana Clubs \n\nAwana Clubs
URL:https://jerusalembaptist.org/event/wednesday-night-prayer/2028-12-13/
LOCATION:Jerusalem Baptist Church\, 5424 Ox Rd\, Fairfax Station\, VA\, 22039\, United States
CATEGORIES:General Events
ATTACH;FMTTYPE=image/png:https://jerusalembaptist.org/wp-content/uploads/2026/02/WednesdayNightPrayerFinal2025-1.png
END:VEVENT
BEGIN:VEVENT
DTSTART;TZID=America/New_York:20281217T093000
DTEND;TZID=America/New_York:20281217T103000
DTSTAMP:20260422T175120
CREATED:20260128T175858Z
LAST-MODIFIED:20260128T175858Z
UID:10000164-1860658200-1860661800@jerusalembaptist.org
SUMMARY:JBC Kids Sunday Morning Bible Study
DESCRIPTION:
URL:https://jerusalembaptist.org/event/jbc-kids-sunday-morning-bible-study/2028-12-17/
LOCATION:Jerusalem Baptist Church\, 5424 Ox Rd\, Fairfax Station\, VA\, 22039\, United States
CATEGORIES:Kids Events
ATTACH;FMTTYPE=image/png:https://jerusalembaptist.org/wp-content/uploads/2025/10/4.png
ORGANIZER;CN="JBC Kids":MAILTO:jerusalembaptistchildren@gmail.com
END:VEVENT
BEGIN:VEVENT
DTSTART;TZID=America/New_York:20281217T110000
DTEND;TZID=America/New_York:20281217T121500
DTSTAMP:20260422T175121
CREATED:20260217T174642Z
LAST-MODIFIED:20260217T175139Z
UID:10002379-1860663600-1860668100@jerusalembaptist.org
SUMMARY:11 am Worship
DESCRIPTION:« All Events \nThis event has passed. \n11 am Worship\nFebruary 1\n@\n11:00 am\n–\n12:15 pm \nWorship with us on Sunday mornings! All are invited! For more details about the service\, check out our Plan Your Visit page! \n\nJerusalem Baptist Church \n5424 Ox RdFairfax Station\,\nVA\n22039\nUnited States \n\n+ Google Map \n  \n\n\n\n\nAdd to calendar \n  \n\nGoogle Calendar\niCalendar\nOutlook 365\nOutlook Live\n\nCategories:\nGeneral Events \n\n\n\nJBC Kids Sunday Morning Bible Study \n\nLocal Missions Saturday
URL:https://jerusalembaptist.org/event/sunday/2028-12-17/
LOCATION:Jerusalem Baptist Church\, 5424 Ox Rd\, Fairfax Station\, VA\, 22039\, United States
CATEGORIES:General Events
ATTACH;FMTTYPE=image/jpeg:https://jerusalembaptist.org/wp-content/uploads/2026/02/Worship-With-Us.jpg
END:VEVENT
BEGIN:VEVENT
DTSTART;TZID=America/New_York:20281220T180000
DTEND;TZID=America/New_York:20281220T190000
DTSTAMP:20260422T175121
CREATED:20260219T172728Z
LAST-MODIFIED:20260219T173006Z
UID:10002701-1860948000-1860951600@jerusalembaptist.org
SUMMARY:Wednesday Night Prayer Gathering
DESCRIPTION:« All Events \nThis event has passed. \nWednesday Night Prayer Gathering\nJanuary 7\n@\n6:00 pm\n–\n7:00 pm \nJoin us for our weekly prayer gathering on Wednesday nights! \n \n\nJerusalem Baptist Church \n5424 Ox RdFairfax Station\,\nVA\n22039\nUnited States \n\n+ Google Map \n  \n\n\n\n\nAdd to calendar \n  \n\nGoogle Calendar\niCalendar\nOutlook 365\nOutlook Live\n\nCategories:\nGeneral Events \n\n\n\nAwana Clubs \n\nAwana Clubs
URL:https://jerusalembaptist.org/event/wednesday-night-prayer/2028-12-20/
LOCATION:Jerusalem Baptist Church\, 5424 Ox Rd\, Fairfax Station\, VA\, 22039\, United States
CATEGORIES:General Events
ATTACH;FMTTYPE=image/png:https://jerusalembaptist.org/wp-content/uploads/2026/02/WednesdayNightPrayerFinal2025-1.png
END:VEVENT
BEGIN:VEVENT
DTSTART;TZID=America/New_York:20281224T093000
DTEND;TZID=America/New_York:20281224T103000
DTSTAMP:20260422T175121
CREATED:20260128T175858Z
LAST-MODIFIED:20260128T175858Z
UID:10000165-1861263000-1861266600@jerusalembaptist.org
SUMMARY:JBC Kids Sunday Morning Bible Study
DESCRIPTION:
URL:https://jerusalembaptist.org/event/jbc-kids-sunday-morning-bible-study/2028-12-24/
LOCATION:Jerusalem Baptist Church\, 5424 Ox Rd\, Fairfax Station\, VA\, 22039\, United States
CATEGORIES:Kids Events
ATTACH;FMTTYPE=image/png:https://jerusalembaptist.org/wp-content/uploads/2025/10/4.png
ORGANIZER;CN="JBC Kids":MAILTO:jerusalembaptistchildren@gmail.com
END:VEVENT
BEGIN:VEVENT
DTSTART;TZID=America/New_York:20281224T110000
DTEND;TZID=America/New_York:20281224T121500
DTSTAMP:20260422T175121
CREATED:20260217T174642Z
LAST-MODIFIED:20260217T175139Z
UID:10002380-1861268400-1861272900@jerusalembaptist.org
SUMMARY:11 am Worship
DESCRIPTION:« All Events \nThis event has passed. \n11 am Worship\nFebruary 1\n@\n11:00 am\n–\n12:15 pm \nWorship with us on Sunday mornings! All are invited! For more details about the service\, check out our Plan Your Visit page! \n\nJerusalem Baptist Church \n5424 Ox RdFairfax Station\,\nVA\n22039\nUnited States \n\n+ Google Map \n  \n\n\n\n\nAdd to calendar \n  \n\nGoogle Calendar\niCalendar\nOutlook 365\nOutlook Live\n\nCategories:\nGeneral Events \n\n\n\nJBC Kids Sunday Morning Bible Study \n\nLocal Missions Saturday
URL:https://jerusalembaptist.org/event/sunday/2028-12-24/
LOCATION:Jerusalem Baptist Church\, 5424 Ox Rd\, Fairfax Station\, VA\, 22039\, United States
CATEGORIES:General Events
ATTACH;FMTTYPE=image/jpeg:https://jerusalembaptist.org/wp-content/uploads/2026/02/Worship-With-Us.jpg
END:VEVENT
BEGIN:VEVENT
DTSTART;TZID=America/New_York:20281227T180000
DTEND;TZID=America/New_York:20281227T190000
DTSTAMP:20260422T175121
CREATED:20260219T172728Z
LAST-MODIFIED:20260219T173006Z
UID:10002702-1861552800-1861556400@jerusalembaptist.org
SUMMARY:Wednesday Night Prayer Gathering
DESCRIPTION:« All Events \nThis event has passed. \nWednesday Night Prayer Gathering\nJanuary 7\n@\n6:00 pm\n–\n7:00 pm \nJoin us for our weekly prayer gathering on Wednesday nights! \n \n\nJerusalem Baptist Church \n5424 Ox RdFairfax Station\,\nVA\n22039\nUnited States \n\n+ Google Map \n  \n\n\n\n\nAdd to calendar \n  \n\nGoogle Calendar\niCalendar\nOutlook 365\nOutlook Live\n\nCategories:\nGeneral Events \n\n\n\nAwana Clubs \n\nAwana Clubs
URL:https://jerusalembaptist.org/event/wednesday-night-prayer/2028-12-27/
LOCATION:Jerusalem Baptist Church\, 5424 Ox Rd\, Fairfax Station\, VA\, 22039\, United States
CATEGORIES:General Events
ATTACH;FMTTYPE=image/png:https://jerusalembaptist.org/wp-content/uploads/2026/02/WednesdayNightPrayerFinal2025-1.png
END:VEVENT
BEGIN:VEVENT
DTSTART;TZID=America/New_York:20281231T093000
DTEND;TZID=America/New_York:20281231T103000
DTSTAMP:20260422T175121
CREATED:20260128T175858Z
LAST-MODIFIED:20260128T175858Z
UID:10000166-1861867800-1861871400@jerusalembaptist.org
SUMMARY:JBC Kids Sunday Morning Bible Study
DESCRIPTION:
URL:https://jerusalembaptist.org/event/jbc-kids-sunday-morning-bible-study/2028-12-31/
LOCATION:Jerusalem Baptist Church\, 5424 Ox Rd\, Fairfax Station\, VA\, 22039\, United States
CATEGORIES:Kids Events
ATTACH;FMTTYPE=image/png:https://jerusalembaptist.org/wp-content/uploads/2025/10/4.png
ORGANIZER;CN="JBC Kids":MAILTO:jerusalembaptistchildren@gmail.com
END:VEVENT
BEGIN:VEVENT
DTSTART;TZID=America/New_York:20281231T110000
DTEND;TZID=America/New_York:20281231T121500
DTSTAMP:20260422T175121
CREATED:20260217T174642Z
LAST-MODIFIED:20260217T175139Z
UID:10002381-1861873200-1861877700@jerusalembaptist.org
SUMMARY:11 am Worship
DESCRIPTION:« All Events \nThis event has passed. \n11 am Worship\nFebruary 1\n@\n11:00 am\n–\n12:15 pm \nWorship with us on Sunday mornings! All are invited! For more details about the service\, check out our Plan Your Visit page! \n\nJerusalem Baptist Church \n5424 Ox RdFairfax Station\,\nVA\n22039\nUnited States \n\n+ Google Map \n  \n\n\n\n\nAdd to calendar \n  \n\nGoogle Calendar\niCalendar\nOutlook 365\nOutlook Live\n\nCategories:\nGeneral Events \n\n\n\nJBC Kids Sunday Morning Bible Study \n\nLocal Missions Saturday
URL:https://jerusalembaptist.org/event/sunday/2028-12-31/
LOCATION:Jerusalem Baptist Church\, 5424 Ox Rd\, Fairfax Station\, VA\, 22039\, United States
CATEGORIES:General Events
ATTACH;FMTTYPE=image/jpeg:https://jerusalembaptist.org/wp-content/uploads/2026/02/Worship-With-Us.jpg
END:VEVENT
BEGIN:VEVENT
DTSTART;TZID=America/New_York:20290103T180000
DTEND;TZID=America/New_York:20290103T190000
DTSTAMP:20260422T175121
CREATED:20260219T172728Z
LAST-MODIFIED:20260219T173006Z
UID:10002703-1862157600-1862161200@jerusalembaptist.org
SUMMARY:Wednesday Night Prayer Gathering
DESCRIPTION:« All Events \nThis event has passed. \nWednesday Night Prayer Gathering\nJanuary 7\n@\n6:00 pm\n–\n7:00 pm \nJoin us for our weekly prayer gathering on Wednesday nights! \n \n\nJerusalem Baptist Church \n5424 Ox RdFairfax Station\,\nVA\n22039\nUnited States \n\n+ Google Map \n  \n\n\n\n\nAdd to calendar \n  \n\nGoogle Calendar\niCalendar\nOutlook 365\nOutlook Live\n\nCategories:\nGeneral Events \n\n\n\nAwana Clubs \n\nAwana Clubs
URL:https://jerusalembaptist.org/event/wednesday-night-prayer/2029-01-03/
LOCATION:Jerusalem Baptist Church\, 5424 Ox Rd\, Fairfax Station\, VA\, 22039\, United States
CATEGORIES:General Events
ATTACH;FMTTYPE=image/png:https://jerusalembaptist.org/wp-content/uploads/2026/02/WednesdayNightPrayerFinal2025-1.png
END:VEVENT
BEGIN:VEVENT
DTSTART;TZID=America/New_York:20290107T093000
DTEND;TZID=America/New_York:20290107T103000
DTSTAMP:20260422T175121
CREATED:20260128T175858Z
LAST-MODIFIED:20260128T175858Z
UID:10000167-1862472600-1862476200@jerusalembaptist.org
SUMMARY:JBC Kids Sunday Morning Bible Study
DESCRIPTION:
URL:https://jerusalembaptist.org/event/jbc-kids-sunday-morning-bible-study/2029-01-07/
LOCATION:Jerusalem Baptist Church\, 5424 Ox Rd\, Fairfax Station\, VA\, 22039\, United States
CATEGORIES:Kids Events
ATTACH;FMTTYPE=image/png:https://jerusalembaptist.org/wp-content/uploads/2025/10/4.png
ORGANIZER;CN="JBC Kids":MAILTO:jerusalembaptistchildren@gmail.com
END:VEVENT
BEGIN:VEVENT
DTSTART;TZID=America/New_York:20290107T110000
DTEND;TZID=America/New_York:20290107T121500
DTSTAMP:20260422T175121
CREATED:20260217T174642Z
LAST-MODIFIED:20260217T175139Z
UID:10002382-1862478000-1862482500@jerusalembaptist.org
SUMMARY:11 am Worship
DESCRIPTION:« All Events \nThis event has passed. \n11 am Worship\nFebruary 1\n@\n11:00 am\n–\n12:15 pm \nWorship with us on Sunday mornings! All are invited! For more details about the service\, check out our Plan Your Visit page! \n\nJerusalem Baptist Church \n5424 Ox RdFairfax Station\,\nVA\n22039\nUnited States \n\n+ Google Map \n  \n\n\n\n\nAdd to calendar \n  \n\nGoogle Calendar\niCalendar\nOutlook 365\nOutlook Live\n\nCategories:\nGeneral Events \n\n\n\nJBC Kids Sunday Morning Bible Study \n\nLocal Missions Saturday
URL:https://jerusalembaptist.org/event/sunday/2029-01-07/
LOCATION:Jerusalem Baptist Church\, 5424 Ox Rd\, Fairfax Station\, VA\, 22039\, United States
CATEGORIES:General Events
ATTACH;FMTTYPE=image/jpeg:https://jerusalembaptist.org/wp-content/uploads/2026/02/Worship-With-Us.jpg
END:VEVENT
END:VCALENDAR