BEGIN:VCALENDAR
VERSION:2.0
PRODID:-//Jerusalem Baptist Church, Fairfax Station, VA - ECPv6.15.20//NONSGML v1.0//EN
CALSCALE:GREGORIAN
METHOD:PUBLISH
X-ORIGINAL-URL:https://jerusalembaptist.org
X-WR-CALDESC:Events for Jerusalem Baptist Church, Fairfax Station, VA
REFRESH-INTERVAL;VALUE=DURATION:PT1H
X-Robots-Tag:noindex
X-PUBLISHED-TTL:PT1H
BEGIN:VTIMEZONE
TZID:America/New_York
BEGIN:DAYLIGHT
TZOFFSETFROM:-0500
TZOFFSETTO:-0400
TZNAME:EDT
DTSTART:20260308T070000
END:DAYLIGHT
BEGIN:STANDARD
TZOFFSETFROM:-0400
TZOFFSETTO:-0500
TZNAME:EST
DTSTART:20261101T060000
END:STANDARD
BEGIN:DAYLIGHT
TZOFFSETFROM:-0500
TZOFFSETTO:-0400
TZNAME:EDT
DTSTART:20270314T070000
END:DAYLIGHT
BEGIN:STANDARD
TZOFFSETFROM:-0400
TZOFFSETTO:-0500
TZNAME:EST
DTSTART:20271107T060000
END:STANDARD
BEGIN:DAYLIGHT
TZOFFSETFROM:-0500
TZOFFSETTO:-0400
TZNAME:EDT
DTSTART:20280312T070000
END:DAYLIGHT
BEGIN:STANDARD
TZOFFSETFROM:-0400
TZOFFSETTO:-0500
TZNAME:EST
DTSTART:20281105T060000
END:STANDARD
END:VTIMEZONE
BEGIN:VEVENT
DTSTART;TZID=America/New_York:20270321T110000
DTEND;TZID=America/New_York:20270321T121500
DTSTAMP:20260421T062303
CREATED:20260217T174642Z
LAST-MODIFIED:20260217T175139Z
UID:10002288-1805626800-1805631300@jerusalembaptist.org
SUMMARY:11 am Worship
DESCRIPTION:« All Events \nThis event has passed. \n11 am Worship\nFebruary 1\n@\n11:00 am\n–\n12:15 pm \nWorship with us on Sunday mornings! All are invited! For more details about the service\, check out our Plan Your Visit page! \n\nJerusalem Baptist Church \n5424 Ox RdFairfax Station\,\nVA\n22039\nUnited States \n\n+ Google Map \n  \n\n\n\n\nAdd to calendar \n  \n\nGoogle Calendar\niCalendar\nOutlook 365\nOutlook Live\n\nCategories:\nGeneral Events \n\n\n\nJBC Kids Sunday Morning Bible Study \n\nLocal Missions Saturday
URL:https://jerusalembaptist.org/event/sunday/2027-03-21/
LOCATION:Jerusalem Baptist Church\, 5424 Ox Rd\, Fairfax Station\, VA\, 22039\, United States
CATEGORIES:General Events
ATTACH;FMTTYPE=image/jpeg:https://jerusalembaptist.org/wp-content/uploads/2026/02/Worship-With-Us.jpg
END:VEVENT
BEGIN:VEVENT
DTSTART;TZID=America/New_York:20270324T180000
DTEND;TZID=America/New_York:20270324T190000
DTSTAMP:20260421T062303
CREATED:20260219T172728Z
LAST-MODIFIED:20260219T173006Z
UID:10002610-1805911200-1805914800@jerusalembaptist.org
SUMMARY:Wednesday Night Prayer Gathering
DESCRIPTION:« All Events \nThis event has passed. \nWednesday Night Prayer Gathering\nJanuary 7\n@\n6:00 pm\n–\n7:00 pm \nJoin us for our weekly prayer gathering on Wednesday nights! \n \n\nJerusalem Baptist Church \n5424 Ox RdFairfax Station\,\nVA\n22039\nUnited States \n\n+ Google Map \n  \n\n\n\n\nAdd to calendar \n  \n\nGoogle Calendar\niCalendar\nOutlook 365\nOutlook Live\n\nCategories:\nGeneral Events \n\n\n\nAwana Clubs \n\nAwana Clubs
URL:https://jerusalembaptist.org/event/wednesday-night-prayer/2027-03-24/
LOCATION:Jerusalem Baptist Church\, 5424 Ox Rd\, Fairfax Station\, VA\, 22039\, United States
CATEGORIES:General Events
ATTACH;FMTTYPE=image/png:https://jerusalembaptist.org/wp-content/uploads/2026/02/WednesdayNightPrayerFinal2025-1.png
END:VEVENT
BEGIN:VEVENT
DTSTART;TZID=America/New_York:20270328T093000
DTEND;TZID=America/New_York:20270328T103000
DTSTAMP:20260421T062303
CREATED:20260128T175858Z
LAST-MODIFIED:20260128T175858Z
UID:10000074-1806226200-1806229800@jerusalembaptist.org
SUMMARY:JBC Kids Sunday Morning Bible Study
DESCRIPTION:
URL:https://jerusalembaptist.org/event/jbc-kids-sunday-morning-bible-study/2027-03-28/
LOCATION:Jerusalem Baptist Church\, 5424 Ox Rd\, Fairfax Station\, VA\, 22039\, United States
CATEGORIES:Kids Events
ATTACH;FMTTYPE=image/png:https://jerusalembaptist.org/wp-content/uploads/2025/10/4.png
ORGANIZER;CN="JBC Kids":MAILTO:jerusalembaptistchildren@gmail.com
END:VEVENT
BEGIN:VEVENT
DTSTART;TZID=America/New_York:20270328T110000
DTEND;TZID=America/New_York:20270328T121500
DTSTAMP:20260421T062303
CREATED:20260217T174642Z
LAST-MODIFIED:20260217T175139Z
UID:10002289-1806231600-1806236100@jerusalembaptist.org
SUMMARY:11 am Worship
DESCRIPTION:« All Events \nThis event has passed. \n11 am Worship\nFebruary 1\n@\n11:00 am\n–\n12:15 pm \nWorship with us on Sunday mornings! All are invited! For more details about the service\, check out our Plan Your Visit page! \n\nJerusalem Baptist Church \n5424 Ox RdFairfax Station\,\nVA\n22039\nUnited States \n\n+ Google Map \n  \n\n\n\n\nAdd to calendar \n  \n\nGoogle Calendar\niCalendar\nOutlook 365\nOutlook Live\n\nCategories:\nGeneral Events \n\n\n\nJBC Kids Sunday Morning Bible Study \n\nLocal Missions Saturday
URL:https://jerusalembaptist.org/event/sunday/2027-03-28/
LOCATION:Jerusalem Baptist Church\, 5424 Ox Rd\, Fairfax Station\, VA\, 22039\, United States
CATEGORIES:General Events
ATTACH;FMTTYPE=image/jpeg:https://jerusalembaptist.org/wp-content/uploads/2026/02/Worship-With-Us.jpg
END:VEVENT
BEGIN:VEVENT
DTSTART;TZID=America/New_York:20270331T180000
DTEND;TZID=America/New_York:20270331T190000
DTSTAMP:20260421T062303
CREATED:20260219T172728Z
LAST-MODIFIED:20260219T173006Z
UID:10002611-1806516000-1806519600@jerusalembaptist.org
SUMMARY:Wednesday Night Prayer Gathering
DESCRIPTION:« All Events \nThis event has passed. \nWednesday Night Prayer Gathering\nJanuary 7\n@\n6:00 pm\n–\n7:00 pm \nJoin us for our weekly prayer gathering on Wednesday nights! \n \n\nJerusalem Baptist Church \n5424 Ox RdFairfax Station\,\nVA\n22039\nUnited States \n\n+ Google Map \n  \n\n\n\n\nAdd to calendar \n  \n\nGoogle Calendar\niCalendar\nOutlook 365\nOutlook Live\n\nCategories:\nGeneral Events \n\n\n\nAwana Clubs \n\nAwana Clubs
URL:https://jerusalembaptist.org/event/wednesday-night-prayer/2027-03-31/
LOCATION:Jerusalem Baptist Church\, 5424 Ox Rd\, Fairfax Station\, VA\, 22039\, United States
CATEGORIES:General Events
ATTACH;FMTTYPE=image/png:https://jerusalembaptist.org/wp-content/uploads/2026/02/WednesdayNightPrayerFinal2025-1.png
END:VEVENT
BEGIN:VEVENT
DTSTART;TZID=America/New_York:20270404T093000
DTEND;TZID=America/New_York:20270404T103000
DTSTAMP:20260421T062303
CREATED:20260128T175858Z
LAST-MODIFIED:20260128T175858Z
UID:10000075-1806831000-1806834600@jerusalembaptist.org
SUMMARY:JBC Kids Sunday Morning Bible Study
DESCRIPTION:
URL:https://jerusalembaptist.org/event/jbc-kids-sunday-morning-bible-study/2027-04-04/
LOCATION:Jerusalem Baptist Church\, 5424 Ox Rd\, Fairfax Station\, VA\, 22039\, United States
CATEGORIES:Kids Events
ATTACH;FMTTYPE=image/png:https://jerusalembaptist.org/wp-content/uploads/2025/10/4.png
ORGANIZER;CN="JBC Kids":MAILTO:jerusalembaptistchildren@gmail.com
END:VEVENT
BEGIN:VEVENT
DTSTART;TZID=America/New_York:20270404T110000
DTEND;TZID=America/New_York:20270404T121500
DTSTAMP:20260421T062303
CREATED:20260217T174642Z
LAST-MODIFIED:20260217T175139Z
UID:10002290-1806836400-1806840900@jerusalembaptist.org
SUMMARY:11 am Worship
DESCRIPTION:« All Events \nThis event has passed. \n11 am Worship\nFebruary 1\n@\n11:00 am\n–\n12:15 pm \nWorship with us on Sunday mornings! All are invited! For more details about the service\, check out our Plan Your Visit page! \n\nJerusalem Baptist Church \n5424 Ox RdFairfax Station\,\nVA\n22039\nUnited States \n\n+ Google Map \n  \n\n\n\n\nAdd to calendar \n  \n\nGoogle Calendar\niCalendar\nOutlook 365\nOutlook Live\n\nCategories:\nGeneral Events \n\n\n\nJBC Kids Sunday Morning Bible Study \n\nLocal Missions Saturday
URL:https://jerusalembaptist.org/event/sunday/2027-04-04/
LOCATION:Jerusalem Baptist Church\, 5424 Ox Rd\, Fairfax Station\, VA\, 22039\, United States
CATEGORIES:General Events
ATTACH;FMTTYPE=image/jpeg:https://jerusalembaptist.org/wp-content/uploads/2026/02/Worship-With-Us.jpg
END:VEVENT
BEGIN:VEVENT
DTSTART;TZID=America/New_York:20270407T180000
DTEND;TZID=America/New_York:20270407T190000
DTSTAMP:20260421T062303
CREATED:20260219T172728Z
LAST-MODIFIED:20260219T173006Z
UID:10002612-1807120800-1807124400@jerusalembaptist.org
SUMMARY:Wednesday Night Prayer Gathering
DESCRIPTION:« All Events \nThis event has passed. \nWednesday Night Prayer Gathering\nJanuary 7\n@\n6:00 pm\n–\n7:00 pm \nJoin us for our weekly prayer gathering on Wednesday nights! \n \n\nJerusalem Baptist Church \n5424 Ox RdFairfax Station\,\nVA\n22039\nUnited States \n\n+ Google Map \n  \n\n\n\n\nAdd to calendar \n  \n\nGoogle Calendar\niCalendar\nOutlook 365\nOutlook Live\n\nCategories:\nGeneral Events \n\n\n\nAwana Clubs \n\nAwana Clubs
URL:https://jerusalembaptist.org/event/wednesday-night-prayer/2027-04-07/
LOCATION:Jerusalem Baptist Church\, 5424 Ox Rd\, Fairfax Station\, VA\, 22039\, United States
CATEGORIES:General Events
ATTACH;FMTTYPE=image/png:https://jerusalembaptist.org/wp-content/uploads/2026/02/WednesdayNightPrayerFinal2025-1.png
END:VEVENT
BEGIN:VEVENT
DTSTART;TZID=America/New_York:20270411T093000
DTEND;TZID=America/New_York:20270411T103000
DTSTAMP:20260421T062303
CREATED:20260128T175858Z
LAST-MODIFIED:20260128T175858Z
UID:10000076-1807435800-1807439400@jerusalembaptist.org
SUMMARY:JBC Kids Sunday Morning Bible Study
DESCRIPTION:
URL:https://jerusalembaptist.org/event/jbc-kids-sunday-morning-bible-study/2027-04-11/
LOCATION:Jerusalem Baptist Church\, 5424 Ox Rd\, Fairfax Station\, VA\, 22039\, United States
CATEGORIES:Kids Events
ATTACH;FMTTYPE=image/png:https://jerusalembaptist.org/wp-content/uploads/2025/10/4.png
ORGANIZER;CN="JBC Kids":MAILTO:jerusalembaptistchildren@gmail.com
END:VEVENT
BEGIN:VEVENT
DTSTART;TZID=America/New_York:20270411T110000
DTEND;TZID=America/New_York:20270411T121500
DTSTAMP:20260421T062303
CREATED:20260217T174642Z
LAST-MODIFIED:20260217T175139Z
UID:10002291-1807441200-1807445700@jerusalembaptist.org
SUMMARY:11 am Worship
DESCRIPTION:« All Events \nThis event has passed. \n11 am Worship\nFebruary 1\n@\n11:00 am\n–\n12:15 pm \nWorship with us on Sunday mornings! All are invited! For more details about the service\, check out our Plan Your Visit page! \n\nJerusalem Baptist Church \n5424 Ox RdFairfax Station\,\nVA\n22039\nUnited States \n\n+ Google Map \n  \n\n\n\n\nAdd to calendar \n  \n\nGoogle Calendar\niCalendar\nOutlook 365\nOutlook Live\n\nCategories:\nGeneral Events \n\n\n\nJBC Kids Sunday Morning Bible Study \n\nLocal Missions Saturday
URL:https://jerusalembaptist.org/event/sunday/2027-04-11/
LOCATION:Jerusalem Baptist Church\, 5424 Ox Rd\, Fairfax Station\, VA\, 22039\, United States
CATEGORIES:General Events
ATTACH;FMTTYPE=image/jpeg:https://jerusalembaptist.org/wp-content/uploads/2026/02/Worship-With-Us.jpg
END:VEVENT
BEGIN:VEVENT
DTSTART;TZID=America/New_York:20270414T180000
DTEND;TZID=America/New_York:20270414T190000
DTSTAMP:20260421T062303
CREATED:20260219T172728Z
LAST-MODIFIED:20260219T173006Z
UID:10002613-1807725600-1807729200@jerusalembaptist.org
SUMMARY:Wednesday Night Prayer Gathering
DESCRIPTION:« All Events \nThis event has passed. \nWednesday Night Prayer Gathering\nJanuary 7\n@\n6:00 pm\n–\n7:00 pm \nJoin us for our weekly prayer gathering on Wednesday nights! \n \n\nJerusalem Baptist Church \n5424 Ox RdFairfax Station\,\nVA\n22039\nUnited States \n\n+ Google Map \n  \n\n\n\n\nAdd to calendar \n  \n\nGoogle Calendar\niCalendar\nOutlook 365\nOutlook Live\n\nCategories:\nGeneral Events \n\n\n\nAwana Clubs \n\nAwana Clubs
URL:https://jerusalembaptist.org/event/wednesday-night-prayer/2027-04-14/
LOCATION:Jerusalem Baptist Church\, 5424 Ox Rd\, Fairfax Station\, VA\, 22039\, United States
CATEGORIES:General Events
ATTACH;FMTTYPE=image/png:https://jerusalembaptist.org/wp-content/uploads/2026/02/WednesdayNightPrayerFinal2025-1.png
END:VEVENT
BEGIN:VEVENT
DTSTART;TZID=America/New_York:20270418T093000
DTEND;TZID=America/New_York:20270418T103000
DTSTAMP:20260421T062303
CREATED:20260128T175858Z
LAST-MODIFIED:20260128T175858Z
UID:10000077-1808040600-1808044200@jerusalembaptist.org
SUMMARY:JBC Kids Sunday Morning Bible Study
DESCRIPTION:
URL:https://jerusalembaptist.org/event/jbc-kids-sunday-morning-bible-study/2027-04-18/
LOCATION:Jerusalem Baptist Church\, 5424 Ox Rd\, Fairfax Station\, VA\, 22039\, United States
CATEGORIES:Kids Events
ATTACH;FMTTYPE=image/png:https://jerusalembaptist.org/wp-content/uploads/2025/10/4.png
ORGANIZER;CN="JBC Kids":MAILTO:jerusalembaptistchildren@gmail.com
END:VEVENT
BEGIN:VEVENT
DTSTART;TZID=America/New_York:20270418T110000
DTEND;TZID=America/New_York:20270418T121500
DTSTAMP:20260421T062303
CREATED:20260217T174642Z
LAST-MODIFIED:20260217T175139Z
UID:10002292-1808046000-1808050500@jerusalembaptist.org
SUMMARY:11 am Worship
DESCRIPTION:« All Events \nThis event has passed. \n11 am Worship\nFebruary 1\n@\n11:00 am\n–\n12:15 pm \nWorship with us on Sunday mornings! All are invited! For more details about the service\, check out our Plan Your Visit page! \n\nJerusalem Baptist Church \n5424 Ox RdFairfax Station\,\nVA\n22039\nUnited States \n\n+ Google Map \n  \n\n\n\n\nAdd to calendar \n  \n\nGoogle Calendar\niCalendar\nOutlook 365\nOutlook Live\n\nCategories:\nGeneral Events \n\n\n\nJBC Kids Sunday Morning Bible Study \n\nLocal Missions Saturday
URL:https://jerusalembaptist.org/event/sunday/2027-04-18/
LOCATION:Jerusalem Baptist Church\, 5424 Ox Rd\, Fairfax Station\, VA\, 22039\, United States
CATEGORIES:General Events
ATTACH;FMTTYPE=image/jpeg:https://jerusalembaptist.org/wp-content/uploads/2026/02/Worship-With-Us.jpg
END:VEVENT
BEGIN:VEVENT
DTSTART;TZID=America/New_York:20270421T180000
DTEND;TZID=America/New_York:20270421T190000
DTSTAMP:20260421T062303
CREATED:20260219T172728Z
LAST-MODIFIED:20260219T173006Z
UID:10002614-1808330400-1808334000@jerusalembaptist.org
SUMMARY:Wednesday Night Prayer Gathering
DESCRIPTION:« All Events \nThis event has passed. \nWednesday Night Prayer Gathering\nJanuary 7\n@\n6:00 pm\n–\n7:00 pm \nJoin us for our weekly prayer gathering on Wednesday nights! \n \n\nJerusalem Baptist Church \n5424 Ox RdFairfax Station\,\nVA\n22039\nUnited States \n\n+ Google Map \n  \n\n\n\n\nAdd to calendar \n  \n\nGoogle Calendar\niCalendar\nOutlook 365\nOutlook Live\n\nCategories:\nGeneral Events \n\n\n\nAwana Clubs \n\nAwana Clubs
URL:https://jerusalembaptist.org/event/wednesday-night-prayer/2027-04-21/
LOCATION:Jerusalem Baptist Church\, 5424 Ox Rd\, Fairfax Station\, VA\, 22039\, United States
CATEGORIES:General Events
ATTACH;FMTTYPE=image/png:https://jerusalembaptist.org/wp-content/uploads/2026/02/WednesdayNightPrayerFinal2025-1.png
END:VEVENT
BEGIN:VEVENT
DTSTART;TZID=America/New_York:20270425T093000
DTEND;TZID=America/New_York:20270425T103000
DTSTAMP:20260421T062303
CREATED:20260128T175858Z
LAST-MODIFIED:20260128T175858Z
UID:10000078-1808645400-1808649000@jerusalembaptist.org
SUMMARY:JBC Kids Sunday Morning Bible Study
DESCRIPTION:
URL:https://jerusalembaptist.org/event/jbc-kids-sunday-morning-bible-study/2027-04-25/
LOCATION:Jerusalem Baptist Church\, 5424 Ox Rd\, Fairfax Station\, VA\, 22039\, United States
CATEGORIES:Kids Events
ATTACH;FMTTYPE=image/png:https://jerusalembaptist.org/wp-content/uploads/2025/10/4.png
ORGANIZER;CN="JBC Kids":MAILTO:jerusalembaptistchildren@gmail.com
END:VEVENT
BEGIN:VEVENT
DTSTART;TZID=America/New_York:20270425T110000
DTEND;TZID=America/New_York:20270425T121500
DTSTAMP:20260421T062303
CREATED:20260217T174642Z
LAST-MODIFIED:20260217T175139Z
UID:10002293-1808650800-1808655300@jerusalembaptist.org
SUMMARY:11 am Worship
DESCRIPTION:« All Events \nThis event has passed. \n11 am Worship\nFebruary 1\n@\n11:00 am\n–\n12:15 pm \nWorship with us on Sunday mornings! All are invited! For more details about the service\, check out our Plan Your Visit page! \n\nJerusalem Baptist Church \n5424 Ox RdFairfax Station\,\nVA\n22039\nUnited States \n\n+ Google Map \n  \n\n\n\n\nAdd to calendar \n  \n\nGoogle Calendar\niCalendar\nOutlook 365\nOutlook Live\n\nCategories:\nGeneral Events \n\n\n\nJBC Kids Sunday Morning Bible Study \n\nLocal Missions Saturday
URL:https://jerusalembaptist.org/event/sunday/2027-04-25/
LOCATION:Jerusalem Baptist Church\, 5424 Ox Rd\, Fairfax Station\, VA\, 22039\, United States
CATEGORIES:General Events
ATTACH;FMTTYPE=image/jpeg:https://jerusalembaptist.org/wp-content/uploads/2026/02/Worship-With-Us.jpg
END:VEVENT
BEGIN:VEVENT
DTSTART;TZID=America/New_York:20270428T180000
DTEND;TZID=America/New_York:20270428T190000
DTSTAMP:20260421T062303
CREATED:20260219T172728Z
LAST-MODIFIED:20260219T173006Z
UID:10002615-1808935200-1808938800@jerusalembaptist.org
SUMMARY:Wednesday Night Prayer Gathering
DESCRIPTION:« All Events \nThis event has passed. \nWednesday Night Prayer Gathering\nJanuary 7\n@\n6:00 pm\n–\n7:00 pm \nJoin us for our weekly prayer gathering on Wednesday nights! \n \n\nJerusalem Baptist Church \n5424 Ox RdFairfax Station\,\nVA\n22039\nUnited States \n\n+ Google Map \n  \n\n\n\n\nAdd to calendar \n  \n\nGoogle Calendar\niCalendar\nOutlook 365\nOutlook Live\n\nCategories:\nGeneral Events \n\n\n\nAwana Clubs \n\nAwana Clubs
URL:https://jerusalembaptist.org/event/wednesday-night-prayer/2027-04-28/
LOCATION:Jerusalem Baptist Church\, 5424 Ox Rd\, Fairfax Station\, VA\, 22039\, United States
CATEGORIES:General Events
ATTACH;FMTTYPE=image/png:https://jerusalembaptist.org/wp-content/uploads/2026/02/WednesdayNightPrayerFinal2025-1.png
END:VEVENT
BEGIN:VEVENT
DTSTART;TZID=America/New_York:20270502T093000
DTEND;TZID=America/New_York:20270502T103000
DTSTAMP:20260421T062303
CREATED:20260128T175858Z
LAST-MODIFIED:20260128T175858Z
UID:10000079-1809250200-1809253800@jerusalembaptist.org
SUMMARY:JBC Kids Sunday Morning Bible Study
DESCRIPTION:
URL:https://jerusalembaptist.org/event/jbc-kids-sunday-morning-bible-study/2027-05-02/
LOCATION:Jerusalem Baptist Church\, 5424 Ox Rd\, Fairfax Station\, VA\, 22039\, United States
CATEGORIES:Kids Events
ATTACH;FMTTYPE=image/png:https://jerusalembaptist.org/wp-content/uploads/2025/10/4.png
ORGANIZER;CN="JBC Kids":MAILTO:jerusalembaptistchildren@gmail.com
END:VEVENT
BEGIN:VEVENT
DTSTART;TZID=America/New_York:20270502T110000
DTEND;TZID=America/New_York:20270502T121500
DTSTAMP:20260421T062303
CREATED:20260217T174642Z
LAST-MODIFIED:20260217T175139Z
UID:10002294-1809255600-1809260100@jerusalembaptist.org
SUMMARY:11 am Worship
DESCRIPTION:« All Events \nThis event has passed. \n11 am Worship\nFebruary 1\n@\n11:00 am\n–\n12:15 pm \nWorship with us on Sunday mornings! All are invited! For more details about the service\, check out our Plan Your Visit page! \n\nJerusalem Baptist Church \n5424 Ox RdFairfax Station\,\nVA\n22039\nUnited States \n\n+ Google Map \n  \n\n\n\n\nAdd to calendar \n  \n\nGoogle Calendar\niCalendar\nOutlook 365\nOutlook Live\n\nCategories:\nGeneral Events \n\n\n\nJBC Kids Sunday Morning Bible Study \n\nLocal Missions Saturday
URL:https://jerusalembaptist.org/event/sunday/2027-05-02/
LOCATION:Jerusalem Baptist Church\, 5424 Ox Rd\, Fairfax Station\, VA\, 22039\, United States
CATEGORIES:General Events
ATTACH;FMTTYPE=image/jpeg:https://jerusalembaptist.org/wp-content/uploads/2026/02/Worship-With-Us.jpg
END:VEVENT
BEGIN:VEVENT
DTSTART;TZID=America/New_York:20270505T180000
DTEND;TZID=America/New_York:20270505T190000
DTSTAMP:20260421T062303
CREATED:20260219T172728Z
LAST-MODIFIED:20260219T173006Z
UID:10002616-1809540000-1809543600@jerusalembaptist.org
SUMMARY:Wednesday Night Prayer Gathering
DESCRIPTION:« All Events \nThis event has passed. \nWednesday Night Prayer Gathering\nJanuary 7\n@\n6:00 pm\n–\n7:00 pm \nJoin us for our weekly prayer gathering on Wednesday nights! \n \n\nJerusalem Baptist Church \n5424 Ox RdFairfax Station\,\nVA\n22039\nUnited States \n\n+ Google Map \n  \n\n\n\n\nAdd to calendar \n  \n\nGoogle Calendar\niCalendar\nOutlook 365\nOutlook Live\n\nCategories:\nGeneral Events \n\n\n\nAwana Clubs \n\nAwana Clubs
URL:https://jerusalembaptist.org/event/wednesday-night-prayer/2027-05-05/
LOCATION:Jerusalem Baptist Church\, 5424 Ox Rd\, Fairfax Station\, VA\, 22039\, United States
CATEGORIES:General Events
ATTACH;FMTTYPE=image/png:https://jerusalembaptist.org/wp-content/uploads/2026/02/WednesdayNightPrayerFinal2025-1.png
END:VEVENT
BEGIN:VEVENT
DTSTART;TZID=America/New_York:20270509T093000
DTEND;TZID=America/New_York:20270509T103000
DTSTAMP:20260421T062303
CREATED:20260128T175858Z
LAST-MODIFIED:20260128T175858Z
UID:10000080-1809855000-1809858600@jerusalembaptist.org
SUMMARY:JBC Kids Sunday Morning Bible Study
DESCRIPTION:
URL:https://jerusalembaptist.org/event/jbc-kids-sunday-morning-bible-study/2027-05-09/
LOCATION:Jerusalem Baptist Church\, 5424 Ox Rd\, Fairfax Station\, VA\, 22039\, United States
CATEGORIES:Kids Events
ATTACH;FMTTYPE=image/png:https://jerusalembaptist.org/wp-content/uploads/2025/10/4.png
ORGANIZER;CN="JBC Kids":MAILTO:jerusalembaptistchildren@gmail.com
END:VEVENT
BEGIN:VEVENT
DTSTART;TZID=America/New_York:20270509T110000
DTEND;TZID=America/New_York:20270509T121500
DTSTAMP:20260421T062303
CREATED:20260217T174642Z
LAST-MODIFIED:20260217T175139Z
UID:10002295-1809860400-1809864900@jerusalembaptist.org
SUMMARY:11 am Worship
DESCRIPTION:« All Events \nThis event has passed. \n11 am Worship\nFebruary 1\n@\n11:00 am\n–\n12:15 pm \nWorship with us on Sunday mornings! All are invited! For more details about the service\, check out our Plan Your Visit page! \n\nJerusalem Baptist Church \n5424 Ox RdFairfax Station\,\nVA\n22039\nUnited States \n\n+ Google Map \n  \n\n\n\n\nAdd to calendar \n  \n\nGoogle Calendar\niCalendar\nOutlook 365\nOutlook Live\n\nCategories:\nGeneral Events \n\n\n\nJBC Kids Sunday Morning Bible Study \n\nLocal Missions Saturday
URL:https://jerusalembaptist.org/event/sunday/2027-05-09/
LOCATION:Jerusalem Baptist Church\, 5424 Ox Rd\, Fairfax Station\, VA\, 22039\, United States
CATEGORIES:General Events
ATTACH;FMTTYPE=image/jpeg:https://jerusalembaptist.org/wp-content/uploads/2026/02/Worship-With-Us.jpg
END:VEVENT
BEGIN:VEVENT
DTSTART;TZID=America/New_York:20270512T180000
DTEND;TZID=America/New_York:20270512T190000
DTSTAMP:20260421T062303
CREATED:20260219T172728Z
LAST-MODIFIED:20260219T173006Z
UID:10002617-1810144800-1810148400@jerusalembaptist.org
SUMMARY:Wednesday Night Prayer Gathering
DESCRIPTION:« All Events \nThis event has passed. \nWednesday Night Prayer Gathering\nJanuary 7\n@\n6:00 pm\n–\n7:00 pm \nJoin us for our weekly prayer gathering on Wednesday nights! \n \n\nJerusalem Baptist Church \n5424 Ox RdFairfax Station\,\nVA\n22039\nUnited States \n\n+ Google Map \n  \n\n\n\n\nAdd to calendar \n  \n\nGoogle Calendar\niCalendar\nOutlook 365\nOutlook Live\n\nCategories:\nGeneral Events \n\n\n\nAwana Clubs \n\nAwana Clubs
URL:https://jerusalembaptist.org/event/wednesday-night-prayer/2027-05-12/
LOCATION:Jerusalem Baptist Church\, 5424 Ox Rd\, Fairfax Station\, VA\, 22039\, United States
CATEGORIES:General Events
ATTACH;FMTTYPE=image/png:https://jerusalembaptist.org/wp-content/uploads/2026/02/WednesdayNightPrayerFinal2025-1.png
END:VEVENT
BEGIN:VEVENT
DTSTART;TZID=America/New_York:20270516T093000
DTEND;TZID=America/New_York:20270516T103000
DTSTAMP:20260421T062303
CREATED:20260128T175858Z
LAST-MODIFIED:20260128T175858Z
UID:10000081-1810459800-1810463400@jerusalembaptist.org
SUMMARY:JBC Kids Sunday Morning Bible Study
DESCRIPTION:
URL:https://jerusalembaptist.org/event/jbc-kids-sunday-morning-bible-study/2027-05-16/
LOCATION:Jerusalem Baptist Church\, 5424 Ox Rd\, Fairfax Station\, VA\, 22039\, United States
CATEGORIES:Kids Events
ATTACH;FMTTYPE=image/png:https://jerusalembaptist.org/wp-content/uploads/2025/10/4.png
ORGANIZER;CN="JBC Kids":MAILTO:jerusalembaptistchildren@gmail.com
END:VEVENT
BEGIN:VEVENT
DTSTART;TZID=America/New_York:20270516T110000
DTEND;TZID=America/New_York:20270516T121500
DTSTAMP:20260421T062303
CREATED:20260217T174642Z
LAST-MODIFIED:20260217T175139Z
UID:10002296-1810465200-1810469700@jerusalembaptist.org
SUMMARY:11 am Worship
DESCRIPTION:« All Events \nThis event has passed. \n11 am Worship\nFebruary 1\n@\n11:00 am\n–\n12:15 pm \nWorship with us on Sunday mornings! All are invited! For more details about the service\, check out our Plan Your Visit page! \n\nJerusalem Baptist Church \n5424 Ox RdFairfax Station\,\nVA\n22039\nUnited States \n\n+ Google Map \n  \n\n\n\n\nAdd to calendar \n  \n\nGoogle Calendar\niCalendar\nOutlook 365\nOutlook Live\n\nCategories:\nGeneral Events \n\n\n\nJBC Kids Sunday Morning Bible Study \n\nLocal Missions Saturday
URL:https://jerusalembaptist.org/event/sunday/2027-05-16/
LOCATION:Jerusalem Baptist Church\, 5424 Ox Rd\, Fairfax Station\, VA\, 22039\, United States
CATEGORIES:General Events
ATTACH;FMTTYPE=image/jpeg:https://jerusalembaptist.org/wp-content/uploads/2026/02/Worship-With-Us.jpg
END:VEVENT
BEGIN:VEVENT
DTSTART;TZID=America/New_York:20270519T180000
DTEND;TZID=America/New_York:20270519T190000
DTSTAMP:20260421T062303
CREATED:20260219T172728Z
LAST-MODIFIED:20260219T173006Z
UID:10002618-1810749600-1810753200@jerusalembaptist.org
SUMMARY:Wednesday Night Prayer Gathering
DESCRIPTION:« All Events \nThis event has passed. \nWednesday Night Prayer Gathering\nJanuary 7\n@\n6:00 pm\n–\n7:00 pm \nJoin us for our weekly prayer gathering on Wednesday nights! \n \n\nJerusalem Baptist Church \n5424 Ox RdFairfax Station\,\nVA\n22039\nUnited States \n\n+ Google Map \n  \n\n\n\n\nAdd to calendar \n  \n\nGoogle Calendar\niCalendar\nOutlook 365\nOutlook Live\n\nCategories:\nGeneral Events \n\n\n\nAwana Clubs \n\nAwana Clubs
URL:https://jerusalembaptist.org/event/wednesday-night-prayer/2027-05-19/
LOCATION:Jerusalem Baptist Church\, 5424 Ox Rd\, Fairfax Station\, VA\, 22039\, United States
CATEGORIES:General Events
ATTACH;FMTTYPE=image/png:https://jerusalembaptist.org/wp-content/uploads/2026/02/WednesdayNightPrayerFinal2025-1.png
END:VEVENT
BEGIN:VEVENT
DTSTART;TZID=America/New_York:20270523T093000
DTEND;TZID=America/New_York:20270523T103000
DTSTAMP:20260421T062303
CREATED:20260128T175858Z
LAST-MODIFIED:20260128T175858Z
UID:10000082-1811064600-1811068200@jerusalembaptist.org
SUMMARY:JBC Kids Sunday Morning Bible Study
DESCRIPTION:
URL:https://jerusalembaptist.org/event/jbc-kids-sunday-morning-bible-study/2027-05-23/
LOCATION:Jerusalem Baptist Church\, 5424 Ox Rd\, Fairfax Station\, VA\, 22039\, United States
CATEGORIES:Kids Events
ATTACH;FMTTYPE=image/png:https://jerusalembaptist.org/wp-content/uploads/2025/10/4.png
ORGANIZER;CN="JBC Kids":MAILTO:jerusalembaptistchildren@gmail.com
END:VEVENT
BEGIN:VEVENT
DTSTART;TZID=America/New_York:20270523T110000
DTEND;TZID=America/New_York:20270523T121500
DTSTAMP:20260421T062303
CREATED:20260217T174642Z
LAST-MODIFIED:20260217T175139Z
UID:10002297-1811070000-1811074500@jerusalembaptist.org
SUMMARY:11 am Worship
DESCRIPTION:« All Events \nThis event has passed. \n11 am Worship\nFebruary 1\n@\n11:00 am\n–\n12:15 pm \nWorship with us on Sunday mornings! All are invited! For more details about the service\, check out our Plan Your Visit page! \n\nJerusalem Baptist Church \n5424 Ox RdFairfax Station\,\nVA\n22039\nUnited States \n\n+ Google Map \n  \n\n\n\n\nAdd to calendar \n  \n\nGoogle Calendar\niCalendar\nOutlook 365\nOutlook Live\n\nCategories:\nGeneral Events \n\n\n\nJBC Kids Sunday Morning Bible Study \n\nLocal Missions Saturday
URL:https://jerusalembaptist.org/event/sunday/2027-05-23/
LOCATION:Jerusalem Baptist Church\, 5424 Ox Rd\, Fairfax Station\, VA\, 22039\, United States
CATEGORIES:General Events
ATTACH;FMTTYPE=image/jpeg:https://jerusalembaptist.org/wp-content/uploads/2026/02/Worship-With-Us.jpg
END:VEVENT
BEGIN:VEVENT
DTSTART;TZID=America/New_York:20270526T180000
DTEND;TZID=America/New_York:20270526T190000
DTSTAMP:20260421T062303
CREATED:20260219T172728Z
LAST-MODIFIED:20260219T173006Z
UID:10002619-1811354400-1811358000@jerusalembaptist.org
SUMMARY:Wednesday Night Prayer Gathering
DESCRIPTION:« All Events \nThis event has passed. \nWednesday Night Prayer Gathering\nJanuary 7\n@\n6:00 pm\n–\n7:00 pm \nJoin us for our weekly prayer gathering on Wednesday nights! \n \n\nJerusalem Baptist Church \n5424 Ox RdFairfax Station\,\nVA\n22039\nUnited States \n\n+ Google Map \n  \n\n\n\n\nAdd to calendar \n  \n\nGoogle Calendar\niCalendar\nOutlook 365\nOutlook Live\n\nCategories:\nGeneral Events \n\n\n\nAwana Clubs \n\nAwana Clubs
URL:https://jerusalembaptist.org/event/wednesday-night-prayer/2027-05-26/
LOCATION:Jerusalem Baptist Church\, 5424 Ox Rd\, Fairfax Station\, VA\, 22039\, United States
CATEGORIES:General Events
ATTACH;FMTTYPE=image/png:https://jerusalembaptist.org/wp-content/uploads/2026/02/WednesdayNightPrayerFinal2025-1.png
END:VEVENT
BEGIN:VEVENT
DTSTART;TZID=America/New_York:20270530T093000
DTEND;TZID=America/New_York:20270530T103000
DTSTAMP:20260421T062304
CREATED:20260128T175858Z
LAST-MODIFIED:20260128T175858Z
UID:10000083-1811669400-1811673000@jerusalembaptist.org
SUMMARY:JBC Kids Sunday Morning Bible Study
DESCRIPTION:
URL:https://jerusalembaptist.org/event/jbc-kids-sunday-morning-bible-study/2027-05-30/
LOCATION:Jerusalem Baptist Church\, 5424 Ox Rd\, Fairfax Station\, VA\, 22039\, United States
CATEGORIES:Kids Events
ATTACH;FMTTYPE=image/png:https://jerusalembaptist.org/wp-content/uploads/2025/10/4.png
ORGANIZER;CN="JBC Kids":MAILTO:jerusalembaptistchildren@gmail.com
END:VEVENT
END:VCALENDAR