BEGIN:VCALENDAR
VERSION:2.0
PRODID:-//Jerusalem Baptist Church, Fairfax Station, VA - ECPv6.15.20//NONSGML v1.0//EN
CALSCALE:GREGORIAN
METHOD:PUBLISH
X-WR-CALNAME:Jerusalem Baptist Church, Fairfax Station, VA
X-ORIGINAL-URL:https://jerusalembaptist.org
X-WR-CALDESC:Events for Jerusalem Baptist Church, Fairfax Station, VA
REFRESH-INTERVAL;VALUE=DURATION:PT1H
X-Robots-Tag:noindex
X-PUBLISHED-TTL:PT1H
BEGIN:VTIMEZONE
TZID:America/New_York
BEGIN:DAYLIGHT
TZOFFSETFROM:-0500
TZOFFSETTO:-0400
TZNAME:EDT
DTSTART:20290311T070000
END:DAYLIGHT
BEGIN:STANDARD
TZOFFSETFROM:-0400
TZOFFSETTO:-0500
TZNAME:EST
DTSTART:20291104T060000
END:STANDARD
BEGIN:DAYLIGHT
TZOFFSETFROM:-0500
TZOFFSETTO:-0400
TZNAME:EDT
DTSTART:20300310T070000
END:DAYLIGHT
BEGIN:STANDARD
TZOFFSETFROM:-0400
TZOFFSETTO:-0500
TZNAME:EST
DTSTART:20301103T060000
END:STANDARD
BEGIN:DAYLIGHT
TZOFFSETFROM:-0500
TZOFFSETTO:-0400
TZNAME:EDT
DTSTART:20310309T070000
END:DAYLIGHT
BEGIN:STANDARD
TZOFFSETFROM:-0400
TZOFFSETTO:-0500
TZNAME:EST
DTSTART:20311102T060000
END:STANDARD
END:VTIMEZONE
BEGIN:VEVENT
DTSTART;TZID=America/New_York:20300102T180000
DTEND;TZID=America/New_York:20300102T190000
DTSTAMP:20260424T080335
CREATED:20260219T172728Z
LAST-MODIFIED:20260219T173006Z
UID:10002755-1893607200-1893610800@jerusalembaptist.org
SUMMARY:Wednesday Night Prayer Gathering
DESCRIPTION:« All Events\n 				\n				\n					\n		\n				\n			\n							\n		\n				\n			\n						\n				\n									\n					\n						\n									RSVP\n					\n					\n				\n								\n				\n					\n		\n					\n		\n				\n						\n					\n			\n						\n				\n							\n			\n		\n						\n				\n				\n				\n					\n	Women’s Ministry Hike				\n				\n					\n		\n					\n		\n				\n						\n					\n			\n						\n				\n					\n		\n			May 16\n\n	\n\n	 @ \n\n\n9:00 am\n\n		\n\n\n\n	\n	 - \n\n11:00 am\n\n\n\n	\n				\n				\n					\n		\n					\n		\n				\n				\n									Ladies\, join us for a casual walk around Burke Lake Park! RSVP to let us know you’re coming! 								\n				\n				\n				\n					\n	\n				\n				\n				\n						\n					\n			\n						\n				\n					\n				\n				\n	\n			\n		Burke Lake Park			\n	\n	\n	\n\n7315 Ox Rd\n	\n		\n		Fairfax Station\,\n\n	VA\n\n	22039\n\n	United States\n\n\n\n\n	+ Google Map \n\n\n	\n					\n						\n	 \n\n\n\n	\n\n\n\n		\n	\n				\n				\n					\n		\n				\n			\n						\n				\n					\n	\n		\n\n	\n	Add to calendar	\n		\n	\n\n		\n			\n									\n	Google Calendar\n\n									\n	iCalendar\n\n									\n	Outlook 365\n\n									\n	Outlook Live\n\n							\n		\n\n		\n	\n\n				\n				\n				\n				\n					\n	\n\n	Categories:	\n		Women's Events	\n\n				\n				\n				\n				\n					\n	\n	Organizer\n			\n			JBC Women			\n	\n\n	\n	\n					\n			women@jerusalembaptist.org			\n	 \n\n\n\n				\n				\n					\n		\n					\n		\n				\n						\n					\n			\n						\n				\n					\n	\n		\n\n				Nim Small Group	\n\n\n		\n	\n		JBC Kids Sunday Morning Bible Study
URL:https://jerusalembaptist.org/event/wednesday-night-prayer/2030-01-02/
LOCATION:Jerusalem Baptist Church\, 5424 Ox Rd\, Fairfax Station\, VA\, 22039\, United States
CATEGORIES:General Events
ATTACH;FMTTYPE=image/png:https://jerusalembaptist.org/wp-content/uploads/2026/02/WednesdayNightPrayerFinal2025-1.png
END:VEVENT
BEGIN:VEVENT
DTSTART;TZID=America/New_York:20300106T093000
DTEND;TZID=America/New_York:20300106T103000
DTSTAMP:20260424T080335
CREATED:20260128T175858Z
LAST-MODIFIED:20260128T175858Z
UID:10000219-1893922200-1893925800@jerusalembaptist.org
SUMMARY:JBC Kids Sunday Morning Bible Study
DESCRIPTION:« All Events\n 				\n				\n					\n		\n				\n			\n							\n		\n				\n			\n						\n				\n									\n					\n						\n									RSVP\n					\n					\n				\n								\n				\n					\n		\n					\n		\n				\n						\n					\n			\n						\n				\n							\n			\n		\n						\n				\n				\n				\n					\n	Women’s Ministry Hike				\n				\n					\n		\n					\n		\n				\n						\n					\n			\n						\n				\n					\n		\n			May 16\n\n	\n\n	 @ \n\n\n9:00 am\n\n		\n\n\n\n	\n	 - \n\n11:00 am\n\n\n\n	\n				\n				\n					\n		\n					\n		\n				\n				\n									Ladies\, join us for a casual walk around Burke Lake Park! RSVP to let us know you’re coming! 								\n				\n				\n				\n					\n	\n				\n				\n				\n						\n					\n			\n						\n				\n					\n				\n				\n	\n			\n		Burke Lake Park			\n	\n	\n	\n\n7315 Ox Rd\n	\n		\n		Fairfax Station\,\n\n	VA\n\n	22039\n\n	United States\n\n\n\n\n	+ Google Map \n\n\n	\n					\n						\n	 \n\n\n\n	\n\n\n\n		\n	\n				\n				\n					\n		\n				\n			\n						\n				\n					\n	\n		\n\n	\n	Add to calendar	\n		\n	\n\n		\n			\n									\n	Google Calendar\n\n									\n	iCalendar\n\n									\n	Outlook 365\n\n									\n	Outlook Live\n\n							\n		\n\n		\n	\n\n				\n				\n				\n				\n					\n	\n\n	Categories:	\n		Women's Events	\n\n				\n				\n				\n				\n					\n	\n	Organizer\n			\n			JBC Women			\n	\n\n	\n	\n					\n			women@jerusalembaptist.org			\n	 \n\n\n\n				\n				\n					\n		\n					\n		\n				\n						\n					\n			\n						\n				\n					\n	\n		\n\n				Nim Small Group	\n\n\n		\n	\n		JBC Kids Sunday Morning Bible Study
URL:https://jerusalembaptist.org/event/jbc-kids-sunday-morning-bible-study/2030-01-06/
LOCATION:Jerusalem Baptist Church\, 5424 Ox Rd\, Fairfax Station\, VA\, 22039\, United States
CATEGORIES:Kids Events
ATTACH;FMTTYPE=image/png:https://jerusalembaptist.org/wp-content/uploads/2025/10/4.png
ORGANIZER;CN="JBC Kids":MAILTO:jerusalembaptistchildren@gmail.com
END:VEVENT
BEGIN:VEVENT
DTSTART;TZID=America/New_York:20300106T110000
DTEND;TZID=America/New_York:20300106T121500
DTSTAMP:20260424T080335
CREATED:20260217T174642Z
LAST-MODIFIED:20260217T175139Z
UID:10002434-1893927600-1893932100@jerusalembaptist.org
SUMMARY:11 am Worship
DESCRIPTION:« All Events\n 				\n				\n					\n		\n				\n			\n							\n		\n				\n			\n						\n				\n									\n					\n						\n									RSVP\n					\n					\n				\n								\n				\n					\n		\n					\n		\n				\n						\n					\n			\n						\n				\n							\n			\n		\n						\n				\n				\n				\n					\n	Women’s Ministry Hike				\n				\n					\n		\n					\n		\n				\n						\n					\n			\n						\n				\n					\n		\n			May 16\n\n	\n\n	 @ \n\n\n9:00 am\n\n		\n\n\n\n	\n	 - \n\n11:00 am\n\n\n\n	\n				\n				\n					\n		\n					\n		\n				\n				\n									Ladies\, join us for a casual walk around Burke Lake Park! RSVP to let us know you’re coming! 								\n				\n				\n				\n					\n	\n				\n				\n				\n						\n					\n			\n						\n				\n					\n				\n				\n	\n			\n		Burke Lake Park			\n	\n	\n	\n\n7315 Ox Rd\n	\n		\n		Fairfax Station\,\n\n	VA\n\n	22039\n\n	United States\n\n\n\n\n	+ Google Map \n\n\n	\n					\n						\n	 \n\n\n\n	\n\n\n\n		\n	\n				\n				\n					\n		\n				\n			\n						\n				\n					\n	\n		\n\n	\n	Add to calendar	\n		\n	\n\n		\n			\n									\n	Google Calendar\n\n									\n	iCalendar\n\n									\n	Outlook 365\n\n									\n	Outlook Live\n\n							\n		\n\n		\n	\n\n				\n				\n				\n				\n					\n	\n\n	Categories:	\n		Women's Events	\n\n				\n				\n				\n				\n					\n	\n	Organizer\n			\n			JBC Women			\n	\n\n	\n	\n					\n			women@jerusalembaptist.org			\n	 \n\n\n\n				\n				\n					\n		\n					\n		\n				\n						\n					\n			\n						\n				\n					\n	\n		\n\n				Nim Small Group	\n\n\n		\n	\n		JBC Kids Sunday Morning Bible Study
URL:https://jerusalembaptist.org/event/sunday/2030-01-06/
LOCATION:Jerusalem Baptist Church\, 5424 Ox Rd\, Fairfax Station\, VA\, 22039\, United States
CATEGORIES:General Events
ATTACH;FMTTYPE=image/jpeg:https://jerusalembaptist.org/wp-content/uploads/2026/02/Worship-With-Us.jpg
END:VEVENT
BEGIN:VEVENT
DTSTART;TZID=America/New_York:20300109T180000
DTEND;TZID=America/New_York:20300109T190000
DTSTAMP:20260424T080335
CREATED:20260219T172728Z
LAST-MODIFIED:20260219T173006Z
UID:10002756-1894212000-1894215600@jerusalembaptist.org
SUMMARY:Wednesday Night Prayer Gathering
DESCRIPTION:« All Events\n 				\n				\n					\n		\n				\n			\n							\n		\n				\n			\n						\n				\n									\n					\n						\n									RSVP\n					\n					\n				\n								\n				\n					\n		\n					\n		\n				\n						\n					\n			\n						\n				\n							\n			\n		\n						\n				\n				\n				\n					\n	Women’s Ministry Hike				\n				\n					\n		\n					\n		\n				\n						\n					\n			\n						\n				\n					\n		\n			May 16\n\n	\n\n	 @ \n\n\n9:00 am\n\n		\n\n\n\n	\n	 - \n\n11:00 am\n\n\n\n	\n				\n				\n					\n		\n					\n		\n				\n				\n									Ladies\, join us for a casual walk around Burke Lake Park! RSVP to let us know you’re coming! 								\n				\n				\n				\n					\n	\n				\n				\n				\n						\n					\n			\n						\n				\n					\n				\n				\n	\n			\n		Burke Lake Park			\n	\n	\n	\n\n7315 Ox Rd\n	\n		\n		Fairfax Station\,\n\n	VA\n\n	22039\n\n	United States\n\n\n\n\n	+ Google Map \n\n\n	\n					\n						\n	 \n\n\n\n	\n\n\n\n		\n	\n				\n				\n					\n		\n				\n			\n						\n				\n					\n	\n		\n\n	\n	Add to calendar	\n		\n	\n\n		\n			\n									\n	Google Calendar\n\n									\n	iCalendar\n\n									\n	Outlook 365\n\n									\n	Outlook Live\n\n							\n		\n\n		\n	\n\n				\n				\n				\n				\n					\n	\n\n	Categories:	\n		Women's Events	\n\n				\n				\n				\n				\n					\n	\n	Organizer\n			\n			JBC Women			\n	\n\n	\n	\n					\n			women@jerusalembaptist.org			\n	 \n\n\n\n				\n				\n					\n		\n					\n		\n				\n						\n					\n			\n						\n				\n					\n	\n		\n\n				Nim Small Group	\n\n\n		\n	\n		JBC Kids Sunday Morning Bible Study
URL:https://jerusalembaptist.org/event/wednesday-night-prayer/2030-01-09/
LOCATION:Jerusalem Baptist Church\, 5424 Ox Rd\, Fairfax Station\, VA\, 22039\, United States
CATEGORIES:General Events
ATTACH;FMTTYPE=image/png:https://jerusalembaptist.org/wp-content/uploads/2026/02/WednesdayNightPrayerFinal2025-1.png
END:VEVENT
BEGIN:VEVENT
DTSTART;TZID=America/New_York:20300113T093000
DTEND;TZID=America/New_York:20300113T103000
DTSTAMP:20260424T080336
CREATED:20260128T175858Z
LAST-MODIFIED:20260128T175858Z
UID:10000220-1894527000-1894530600@jerusalembaptist.org
SUMMARY:JBC Kids Sunday Morning Bible Study
DESCRIPTION:« All Events\n 				\n				\n					\n		\n				\n			\n							\n		\n				\n			\n						\n				\n									\n					\n						\n									RSVP\n					\n					\n				\n								\n				\n					\n		\n					\n		\n				\n						\n					\n			\n						\n				\n							\n			\n		\n						\n				\n				\n				\n					\n	Women’s Ministry Hike				\n				\n					\n		\n					\n		\n				\n						\n					\n			\n						\n				\n					\n		\n			May 16\n\n	\n\n	 @ \n\n\n9:00 am\n\n		\n\n\n\n	\n	 - \n\n11:00 am\n\n\n\n	\n				\n				\n					\n		\n					\n		\n				\n				\n									Ladies\, join us for a casual walk around Burke Lake Park! RSVP to let us know you’re coming! 								\n				\n				\n				\n					\n	\n				\n				\n				\n						\n					\n			\n						\n				\n					\n				\n				\n	\n			\n		Burke Lake Park			\n	\n	\n	\n\n7315 Ox Rd\n	\n		\n		Fairfax Station\,\n\n	VA\n\n	22039\n\n	United States\n\n\n\n\n	+ Google Map \n\n\n	\n					\n						\n	 \n\n\n\n	\n\n\n\n		\n	\n				\n				\n					\n		\n				\n			\n						\n				\n					\n	\n		\n\n	\n	Add to calendar	\n		\n	\n\n		\n			\n									\n	Google Calendar\n\n									\n	iCalendar\n\n									\n	Outlook 365\n\n									\n	Outlook Live\n\n							\n		\n\n		\n	\n\n				\n				\n				\n				\n					\n	\n\n	Categories:	\n		Women's Events	\n\n				\n				\n				\n				\n					\n	\n	Organizer\n			\n			JBC Women			\n	\n\n	\n	\n					\n			women@jerusalembaptist.org			\n	 \n\n\n\n				\n				\n					\n		\n					\n		\n				\n						\n					\n			\n						\n				\n					\n	\n		\n\n				Nim Small Group	\n\n\n		\n	\n		JBC Kids Sunday Morning Bible Study
URL:https://jerusalembaptist.org/event/jbc-kids-sunday-morning-bible-study/2030-01-13/
LOCATION:Jerusalem Baptist Church\, 5424 Ox Rd\, Fairfax Station\, VA\, 22039\, United States
CATEGORIES:Kids Events
ATTACH;FMTTYPE=image/png:https://jerusalembaptist.org/wp-content/uploads/2025/10/4.png
ORGANIZER;CN="JBC Kids":MAILTO:jerusalembaptistchildren@gmail.com
END:VEVENT
BEGIN:VEVENT
DTSTART;TZID=America/New_York:20300113T110000
DTEND;TZID=America/New_York:20300113T121500
DTSTAMP:20260424T080336
CREATED:20260217T174642Z
LAST-MODIFIED:20260217T175139Z
UID:10002435-1894532400-1894536900@jerusalembaptist.org
SUMMARY:11 am Worship
DESCRIPTION:« All Events\n 				\n				\n					\n		\n				\n			\n							\n		\n				\n			\n						\n				\n									\n					\n						\n									RSVP\n					\n					\n				\n								\n				\n					\n		\n					\n		\n				\n						\n					\n			\n						\n				\n							\n			\n		\n						\n				\n				\n				\n					\n	Women’s Ministry Hike				\n				\n					\n		\n					\n		\n				\n						\n					\n			\n						\n				\n					\n		\n			May 16\n\n	\n\n	 @ \n\n\n9:00 am\n\n		\n\n\n\n	\n	 - \n\n11:00 am\n\n\n\n	\n				\n				\n					\n		\n					\n		\n				\n				\n									Ladies\, join us for a casual walk around Burke Lake Park! RSVP to let us know you’re coming! 								\n				\n				\n				\n					\n	\n				\n				\n				\n						\n					\n			\n						\n				\n					\n				\n				\n	\n			\n		Burke Lake Park			\n	\n	\n	\n\n7315 Ox Rd\n	\n		\n		Fairfax Station\,\n\n	VA\n\n	22039\n\n	United States\n\n\n\n\n	+ Google Map \n\n\n	\n					\n						\n	 \n\n\n\n	\n\n\n\n		\n	\n				\n				\n					\n		\n				\n			\n						\n				\n					\n	\n		\n\n	\n	Add to calendar	\n		\n	\n\n		\n			\n									\n	Google Calendar\n\n									\n	iCalendar\n\n									\n	Outlook 365\n\n									\n	Outlook Live\n\n							\n		\n\n		\n	\n\n				\n				\n				\n				\n					\n	\n\n	Categories:	\n		Women's Events	\n\n				\n				\n				\n				\n					\n	\n	Organizer\n			\n			JBC Women			\n	\n\n	\n	\n					\n			women@jerusalembaptist.org			\n	 \n\n\n\n				\n				\n					\n		\n					\n		\n				\n						\n					\n			\n						\n				\n					\n	\n		\n\n				Nim Small Group	\n\n\n		\n	\n		JBC Kids Sunday Morning Bible Study
URL:https://jerusalembaptist.org/event/sunday/2030-01-13/
LOCATION:Jerusalem Baptist Church\, 5424 Ox Rd\, Fairfax Station\, VA\, 22039\, United States
CATEGORIES:General Events
ATTACH;FMTTYPE=image/jpeg:https://jerusalembaptist.org/wp-content/uploads/2026/02/Worship-With-Us.jpg
END:VEVENT
BEGIN:VEVENT
DTSTART;TZID=America/New_York:20300116T180000
DTEND;TZID=America/New_York:20300116T190000
DTSTAMP:20260424T080336
CREATED:20260219T172728Z
LAST-MODIFIED:20260219T173006Z
UID:10002757-1894816800-1894820400@jerusalembaptist.org
SUMMARY:Wednesday Night Prayer Gathering
DESCRIPTION:« All Events\n 				\n				\n					\n		\n				\n			\n							\n		\n				\n			\n						\n				\n									\n					\n						\n									RSVP\n					\n					\n				\n								\n				\n					\n		\n					\n		\n				\n						\n					\n			\n						\n				\n							\n			\n		\n						\n				\n				\n				\n					\n	Women’s Ministry Hike				\n				\n					\n		\n					\n		\n				\n						\n					\n			\n						\n				\n					\n		\n			May 16\n\n	\n\n	 @ \n\n\n9:00 am\n\n		\n\n\n\n	\n	 - \n\n11:00 am\n\n\n\n	\n				\n				\n					\n		\n					\n		\n				\n				\n									Ladies\, join us for a casual walk around Burke Lake Park! RSVP to let us know you’re coming! 								\n				\n				\n				\n					\n	\n				\n				\n				\n						\n					\n			\n						\n				\n					\n				\n				\n	\n			\n		Burke Lake Park			\n	\n	\n	\n\n7315 Ox Rd\n	\n		\n		Fairfax Station\,\n\n	VA\n\n	22039\n\n	United States\n\n\n\n\n	+ Google Map \n\n\n	\n					\n						\n	 \n\n\n\n	\n\n\n\n		\n	\n				\n				\n					\n		\n				\n			\n						\n				\n					\n	\n		\n\n	\n	Add to calendar	\n		\n	\n\n		\n			\n									\n	Google Calendar\n\n									\n	iCalendar\n\n									\n	Outlook 365\n\n									\n	Outlook Live\n\n							\n		\n\n		\n	\n\n				\n				\n				\n				\n					\n	\n\n	Categories:	\n		Women's Events	\n\n				\n				\n				\n				\n					\n	\n	Organizer\n			\n			JBC Women			\n	\n\n	\n	\n					\n			women@jerusalembaptist.org			\n	 \n\n\n\n				\n				\n					\n		\n					\n		\n				\n						\n					\n			\n						\n				\n					\n	\n		\n\n				Nim Small Group	\n\n\n		\n	\n		JBC Kids Sunday Morning Bible Study
URL:https://jerusalembaptist.org/event/wednesday-night-prayer/2030-01-16/
LOCATION:Jerusalem Baptist Church\, 5424 Ox Rd\, Fairfax Station\, VA\, 22039\, United States
CATEGORIES:General Events
ATTACH;FMTTYPE=image/png:https://jerusalembaptist.org/wp-content/uploads/2026/02/WednesdayNightPrayerFinal2025-1.png
END:VEVENT
BEGIN:VEVENT
DTSTART;TZID=America/New_York:20300120T093000
DTEND;TZID=America/New_York:20300120T103000
DTSTAMP:20260424T080336
CREATED:20260128T175858Z
LAST-MODIFIED:20260128T175858Z
UID:10000221-1895131800-1895135400@jerusalembaptist.org
SUMMARY:JBC Kids Sunday Morning Bible Study
DESCRIPTION:« All Events\n 				\n				\n					\n		\n				\n			\n							\n		\n				\n			\n						\n				\n									\n					\n						\n									RSVP\n					\n					\n				\n								\n				\n					\n		\n					\n		\n				\n						\n					\n			\n						\n				\n							\n			\n		\n						\n				\n				\n				\n					\n	Women’s Ministry Hike				\n				\n					\n		\n					\n		\n				\n						\n					\n			\n						\n				\n					\n		\n			May 16\n\n	\n\n	 @ \n\n\n9:00 am\n\n		\n\n\n\n	\n	 - \n\n11:00 am\n\n\n\n	\n				\n				\n					\n		\n					\n		\n				\n				\n									Ladies\, join us for a casual walk around Burke Lake Park! RSVP to let us know you’re coming! 								\n				\n				\n				\n					\n	\n				\n				\n				\n						\n					\n			\n						\n				\n					\n				\n				\n	\n			\n		Burke Lake Park			\n	\n	\n	\n\n7315 Ox Rd\n	\n		\n		Fairfax Station\,\n\n	VA\n\n	22039\n\n	United States\n\n\n\n\n	+ Google Map \n\n\n	\n					\n						\n	 \n\n\n\n	\n\n\n\n		\n	\n				\n				\n					\n		\n				\n			\n						\n				\n					\n	\n		\n\n	\n	Add to calendar	\n		\n	\n\n		\n			\n									\n	Google Calendar\n\n									\n	iCalendar\n\n									\n	Outlook 365\n\n									\n	Outlook Live\n\n							\n		\n\n		\n	\n\n				\n				\n				\n				\n					\n	\n\n	Categories:	\n		Women's Events	\n\n				\n				\n				\n				\n					\n	\n	Organizer\n			\n			JBC Women			\n	\n\n	\n	\n					\n			women@jerusalembaptist.org			\n	 \n\n\n\n				\n				\n					\n		\n					\n		\n				\n						\n					\n			\n						\n				\n					\n	\n		\n\n				Nim Small Group	\n\n\n		\n	\n		JBC Kids Sunday Morning Bible Study
URL:https://jerusalembaptist.org/event/jbc-kids-sunday-morning-bible-study/2030-01-20/
LOCATION:Jerusalem Baptist Church\, 5424 Ox Rd\, Fairfax Station\, VA\, 22039\, United States
CATEGORIES:Kids Events
ATTACH;FMTTYPE=image/png:https://jerusalembaptist.org/wp-content/uploads/2025/10/4.png
ORGANIZER;CN="JBC Kids":MAILTO:jerusalembaptistchildren@gmail.com
END:VEVENT
BEGIN:VEVENT
DTSTART;TZID=America/New_York:20300120T110000
DTEND;TZID=America/New_York:20300120T121500
DTSTAMP:20260424T080336
CREATED:20260217T174642Z
LAST-MODIFIED:20260217T175139Z
UID:10002436-1895137200-1895141700@jerusalembaptist.org
SUMMARY:11 am Worship
DESCRIPTION:« All Events\n 				\n				\n					\n		\n				\n			\n							\n		\n				\n			\n						\n				\n									\n					\n						\n									RSVP\n					\n					\n				\n								\n				\n					\n		\n					\n		\n				\n						\n					\n			\n						\n				\n							\n			\n		\n						\n				\n				\n				\n					\n	Women’s Ministry Hike				\n				\n					\n		\n					\n		\n				\n						\n					\n			\n						\n				\n					\n		\n			May 16\n\n	\n\n	 @ \n\n\n9:00 am\n\n		\n\n\n\n	\n	 - \n\n11:00 am\n\n\n\n	\n				\n				\n					\n		\n					\n		\n				\n				\n									Ladies\, join us for a casual walk around Burke Lake Park! RSVP to let us know you’re coming! 								\n				\n				\n				\n					\n	\n				\n				\n				\n						\n					\n			\n						\n				\n					\n				\n				\n	\n			\n		Burke Lake Park			\n	\n	\n	\n\n7315 Ox Rd\n	\n		\n		Fairfax Station\,\n\n	VA\n\n	22039\n\n	United States\n\n\n\n\n	+ Google Map \n\n\n	\n					\n						\n	 \n\n\n\n	\n\n\n\n		\n	\n				\n				\n					\n		\n				\n			\n						\n				\n					\n	\n		\n\n	\n	Add to calendar	\n		\n	\n\n		\n			\n									\n	Google Calendar\n\n									\n	iCalendar\n\n									\n	Outlook 365\n\n									\n	Outlook Live\n\n							\n		\n\n		\n	\n\n				\n				\n				\n				\n					\n	\n\n	Categories:	\n		Women's Events	\n\n				\n				\n				\n				\n					\n	\n	Organizer\n			\n			JBC Women			\n	\n\n	\n	\n					\n			women@jerusalembaptist.org			\n	 \n\n\n\n				\n				\n					\n		\n					\n		\n				\n						\n					\n			\n						\n				\n					\n	\n		\n\n				Nim Small Group	\n\n\n		\n	\n		JBC Kids Sunday Morning Bible Study
URL:https://jerusalembaptist.org/event/sunday/2030-01-20/
LOCATION:Jerusalem Baptist Church\, 5424 Ox Rd\, Fairfax Station\, VA\, 22039\, United States
CATEGORIES:General Events
ATTACH;FMTTYPE=image/jpeg:https://jerusalembaptist.org/wp-content/uploads/2026/02/Worship-With-Us.jpg
END:VEVENT
BEGIN:VEVENT
DTSTART;TZID=America/New_York:20300123T180000
DTEND;TZID=America/New_York:20300123T190000
DTSTAMP:20260424T080336
CREATED:20260219T172728Z
LAST-MODIFIED:20260219T173006Z
UID:10002758-1895421600-1895425200@jerusalembaptist.org
SUMMARY:Wednesday Night Prayer Gathering
DESCRIPTION:« All Events\n 				\n				\n					\n		\n				\n			\n							\n		\n				\n			\n						\n				\n									\n					\n						\n									RSVP\n					\n					\n				\n								\n				\n					\n		\n					\n		\n				\n						\n					\n			\n						\n				\n							\n			\n		\n						\n				\n				\n				\n					\n	Women’s Ministry Hike				\n				\n					\n		\n					\n		\n				\n						\n					\n			\n						\n				\n					\n		\n			May 16\n\n	\n\n	 @ \n\n\n9:00 am\n\n		\n\n\n\n	\n	 - \n\n11:00 am\n\n\n\n	\n				\n				\n					\n		\n					\n		\n				\n				\n									Ladies\, join us for a casual walk around Burke Lake Park! RSVP to let us know you’re coming! 								\n				\n				\n				\n					\n	\n				\n				\n				\n						\n					\n			\n						\n				\n					\n				\n				\n	\n			\n		Burke Lake Park			\n	\n	\n	\n\n7315 Ox Rd\n	\n		\n		Fairfax Station\,\n\n	VA\n\n	22039\n\n	United States\n\n\n\n\n	+ Google Map \n\n\n	\n					\n						\n	 \n\n\n\n	\n\n\n\n		\n	\n				\n				\n					\n		\n				\n			\n						\n				\n					\n	\n		\n\n	\n	Add to calendar	\n		\n	\n\n		\n			\n									\n	Google Calendar\n\n									\n	iCalendar\n\n									\n	Outlook 365\n\n									\n	Outlook Live\n\n							\n		\n\n		\n	\n\n				\n				\n				\n				\n					\n	\n\n	Categories:	\n		Women's Events	\n\n				\n				\n				\n				\n					\n	\n	Organizer\n			\n			JBC Women			\n	\n\n	\n	\n					\n			women@jerusalembaptist.org			\n	 \n\n\n\n				\n				\n					\n		\n					\n		\n				\n						\n					\n			\n						\n				\n					\n	\n		\n\n				Nim Small Group	\n\n\n		\n	\n		JBC Kids Sunday Morning Bible Study
URL:https://jerusalembaptist.org/event/wednesday-night-prayer/2030-01-23/
LOCATION:Jerusalem Baptist Church\, 5424 Ox Rd\, Fairfax Station\, VA\, 22039\, United States
CATEGORIES:General Events
ATTACH;FMTTYPE=image/png:https://jerusalembaptist.org/wp-content/uploads/2026/02/WednesdayNightPrayerFinal2025-1.png
END:VEVENT
BEGIN:VEVENT
DTSTART;TZID=America/New_York:20300127T093000
DTEND;TZID=America/New_York:20300127T103000
DTSTAMP:20260424T080336
CREATED:20260128T175858Z
LAST-MODIFIED:20260128T175858Z
UID:10000222-1895736600-1895740200@jerusalembaptist.org
SUMMARY:JBC Kids Sunday Morning Bible Study
DESCRIPTION:« All Events\n 				\n				\n					\n		\n				\n			\n							\n		\n				\n			\n						\n				\n									\n					\n						\n									RSVP\n					\n					\n				\n								\n				\n					\n		\n					\n		\n				\n						\n					\n			\n						\n				\n							\n			\n		\n						\n				\n				\n				\n					\n	Women’s Ministry Hike				\n				\n					\n		\n					\n		\n				\n						\n					\n			\n						\n				\n					\n		\n			May 16\n\n	\n\n	 @ \n\n\n9:00 am\n\n		\n\n\n\n	\n	 - \n\n11:00 am\n\n\n\n	\n				\n				\n					\n		\n					\n		\n				\n				\n									Ladies\, join us for a casual walk around Burke Lake Park! RSVP to let us know you’re coming! 								\n				\n				\n				\n					\n	\n				\n				\n				\n						\n					\n			\n						\n				\n					\n				\n				\n	\n			\n		Burke Lake Park			\n	\n	\n	\n\n7315 Ox Rd\n	\n		\n		Fairfax Station\,\n\n	VA\n\n	22039\n\n	United States\n\n\n\n\n	+ Google Map \n\n\n	\n					\n						\n	 \n\n\n\n	\n\n\n\n		\n	\n				\n				\n					\n		\n				\n			\n						\n				\n					\n	\n		\n\n	\n	Add to calendar	\n		\n	\n\n		\n			\n									\n	Google Calendar\n\n									\n	iCalendar\n\n									\n	Outlook 365\n\n									\n	Outlook Live\n\n							\n		\n\n		\n	\n\n				\n				\n				\n				\n					\n	\n\n	Categories:	\n		Women's Events	\n\n				\n				\n				\n				\n					\n	\n	Organizer\n			\n			JBC Women			\n	\n\n	\n	\n					\n			women@jerusalembaptist.org			\n	 \n\n\n\n				\n				\n					\n		\n					\n		\n				\n						\n					\n			\n						\n				\n					\n	\n		\n\n				Nim Small Group	\n\n\n		\n	\n		JBC Kids Sunday Morning Bible Study
URL:https://jerusalembaptist.org/event/jbc-kids-sunday-morning-bible-study/2030-01-27/
LOCATION:Jerusalem Baptist Church\, 5424 Ox Rd\, Fairfax Station\, VA\, 22039\, United States
CATEGORIES:Kids Events
ATTACH;FMTTYPE=image/png:https://jerusalembaptist.org/wp-content/uploads/2025/10/4.png
ORGANIZER;CN="JBC Kids":MAILTO:jerusalembaptistchildren@gmail.com
END:VEVENT
BEGIN:VEVENT
DTSTART;TZID=America/New_York:20300127T110000
DTEND;TZID=America/New_York:20300127T121500
DTSTAMP:20260424T080336
CREATED:20260217T174642Z
LAST-MODIFIED:20260217T175139Z
UID:10002437-1895742000-1895746500@jerusalembaptist.org
SUMMARY:11 am Worship
DESCRIPTION:« All Events\n 				\n				\n					\n		\n				\n			\n							\n		\n				\n			\n						\n				\n									\n					\n						\n									RSVP\n					\n					\n				\n								\n				\n					\n		\n					\n		\n				\n						\n					\n			\n						\n				\n							\n			\n		\n						\n				\n				\n				\n					\n	Women’s Ministry Hike				\n				\n					\n		\n					\n		\n				\n						\n					\n			\n						\n				\n					\n		\n			May 16\n\n	\n\n	 @ \n\n\n9:00 am\n\n		\n\n\n\n	\n	 - \n\n11:00 am\n\n\n\n	\n				\n				\n					\n		\n					\n		\n				\n				\n									Ladies\, join us for a casual walk around Burke Lake Park! RSVP to let us know you’re coming! 								\n				\n				\n				\n					\n	\n				\n				\n				\n						\n					\n			\n						\n				\n					\n				\n				\n	\n			\n		Burke Lake Park			\n	\n	\n	\n\n7315 Ox Rd\n	\n		\n		Fairfax Station\,\n\n	VA\n\n	22039\n\n	United States\n\n\n\n\n	+ Google Map \n\n\n	\n					\n						\n	 \n\n\n\n	\n\n\n\n		\n	\n				\n				\n					\n		\n				\n			\n						\n				\n					\n	\n		\n\n	\n	Add to calendar	\n		\n	\n\n		\n			\n									\n	Google Calendar\n\n									\n	iCalendar\n\n									\n	Outlook 365\n\n									\n	Outlook Live\n\n							\n		\n\n		\n	\n\n				\n				\n				\n				\n					\n	\n\n	Categories:	\n		Women's Events	\n\n				\n				\n				\n				\n					\n	\n	Organizer\n			\n			JBC Women			\n	\n\n	\n	\n					\n			women@jerusalembaptist.org			\n	 \n\n\n\n				\n				\n					\n		\n					\n		\n				\n						\n					\n			\n						\n				\n					\n	\n		\n\n				Nim Small Group	\n\n\n		\n	\n		JBC Kids Sunday Morning Bible Study
URL:https://jerusalembaptist.org/event/sunday/2030-01-27/
LOCATION:Jerusalem Baptist Church\, 5424 Ox Rd\, Fairfax Station\, VA\, 22039\, United States
CATEGORIES:General Events
ATTACH;FMTTYPE=image/jpeg:https://jerusalembaptist.org/wp-content/uploads/2026/02/Worship-With-Us.jpg
END:VEVENT
BEGIN:VEVENT
DTSTART;TZID=America/New_York:20300130T180000
DTEND;TZID=America/New_York:20300130T190000
DTSTAMP:20260424T080336
CREATED:20260219T172728Z
LAST-MODIFIED:20260219T173006Z
UID:10002759-1896026400-1896030000@jerusalembaptist.org
SUMMARY:Wednesday Night Prayer Gathering
DESCRIPTION:« All Events\n 				\n				\n					\n		\n				\n			\n							\n		\n				\n			\n						\n				\n									\n					\n						\n									RSVP\n					\n					\n				\n								\n				\n					\n		\n					\n		\n				\n						\n					\n			\n						\n				\n							\n			\n		\n						\n				\n				\n				\n					\n	Women’s Ministry Hike				\n				\n					\n		\n					\n		\n				\n						\n					\n			\n						\n				\n					\n		\n			May 16\n\n	\n\n	 @ \n\n\n9:00 am\n\n		\n\n\n\n	\n	 - \n\n11:00 am\n\n\n\n	\n				\n				\n					\n		\n					\n		\n				\n				\n									Ladies\, join us for a casual walk around Burke Lake Park! RSVP to let us know you’re coming! 								\n				\n				\n				\n					\n	\n				\n				\n				\n						\n					\n			\n						\n				\n					\n				\n				\n	\n			\n		Burke Lake Park			\n	\n	\n	\n\n7315 Ox Rd\n	\n		\n		Fairfax Station\,\n\n	VA\n\n	22039\n\n	United States\n\n\n\n\n	+ Google Map \n\n\n	\n					\n						\n	 \n\n\n\n	\n\n\n\n		\n	\n				\n				\n					\n		\n				\n			\n						\n				\n					\n	\n		\n\n	\n	Add to calendar	\n		\n	\n\n		\n			\n									\n	Google Calendar\n\n									\n	iCalendar\n\n									\n	Outlook 365\n\n									\n	Outlook Live\n\n							\n		\n\n		\n	\n\n				\n				\n				\n				\n					\n	\n\n	Categories:	\n		Women's Events	\n\n				\n				\n				\n				\n					\n	\n	Organizer\n			\n			JBC Women			\n	\n\n	\n	\n					\n			women@jerusalembaptist.org			\n	 \n\n\n\n				\n				\n					\n		\n					\n		\n				\n						\n					\n			\n						\n				\n					\n	\n		\n\n				Nim Small Group	\n\n\n		\n	\n		JBC Kids Sunday Morning Bible Study
URL:https://jerusalembaptist.org/event/wednesday-night-prayer/2030-01-30/
LOCATION:Jerusalem Baptist Church\, 5424 Ox Rd\, Fairfax Station\, VA\, 22039\, United States
CATEGORIES:General Events
ATTACH;FMTTYPE=image/png:https://jerusalembaptist.org/wp-content/uploads/2026/02/WednesdayNightPrayerFinal2025-1.png
END:VEVENT
END:VCALENDAR