BEGIN:VCALENDAR
VERSION:2.0
PRODID:-//Jerusalem Baptist Church, Fairfax Station, VA - ECPv6.15.20//NONSGML v1.0//EN
CALSCALE:GREGORIAN
METHOD:PUBLISH
X-ORIGINAL-URL:https://jerusalembaptist.org
X-WR-CALDESC:Events for Jerusalem Baptist Church, Fairfax Station, VA
REFRESH-INTERVAL;VALUE=DURATION:PT1H
X-Robots-Tag:noindex
X-PUBLISHED-TTL:PT1H
BEGIN:VTIMEZONE
TZID:America/New_York
BEGIN:DAYLIGHT
TZOFFSETFROM:-0500
TZOFFSETTO:-0400
TZNAME:EDT
DTSTART:20240310T070000
END:DAYLIGHT
BEGIN:STANDARD
TZOFFSETFROM:-0400
TZOFFSETTO:-0500
TZNAME:EST
DTSTART:20241103T060000
END:STANDARD
BEGIN:DAYLIGHT
TZOFFSETFROM:-0500
TZOFFSETTO:-0400
TZNAME:EDT
DTSTART:20250309T070000
END:DAYLIGHT
BEGIN:STANDARD
TZOFFSETFROM:-0400
TZOFFSETTO:-0500
TZNAME:EST
DTSTART:20251102T060000
END:STANDARD
BEGIN:DAYLIGHT
TZOFFSETFROM:-0500
TZOFFSETTO:-0400
TZNAME:EDT
DTSTART:20260308T070000
END:DAYLIGHT
BEGIN:STANDARD
TZOFFSETFROM:-0400
TZOFFSETTO:-0500
TZNAME:EST
DTSTART:20261101T060000
END:STANDARD
END:VTIMEZONE
BEGIN:VEVENT
DTSTART;TZID=America/New_York:20251001T183000
DTEND;TZID=America/New_York:20251001T200000
DTSTAMP:20260422T061914
CREATED:20260219T160944Z
LAST-MODIFIED:20260219T165601Z
UID:10002516-1759343400-1759348800@jerusalembaptist.org
SUMMARY:Awana Clubs
DESCRIPTION:« All Events\n 				\n				\n				\n						\n					\n			\n						\n				\n					\n	Wednesday Night Prayer Gathering				\n				\n					\n		\n					\n		\n				\n						\n					\n			\n						\n				\n					\n		\n			March 17\n\n	\n\n	 @ \n\n\n6:00 pm\n\n		\n\n\n\n	\n	 - \n\n7:00 pm\n\n\n\n	\n				\n				\n					\n		\n					\n		\n				\n				\n									Join us for our weekly prayer gathering on Wednesday nights! 								\n				\n				\n				\n					\n	\n				\n				\n				\n						\n					\n			\n						\n				\n					\n				\n				\n	\n			\n		Jerusalem Baptist Church			\n	\n	\n	\n\n5424 Ox Rd\n	\n		\n		Fairfax Station\,\n\n	VA\n\n	22039\n\n	United States\n\n\n\n\n	+ Google Map \n\n\n	\n					\n						\n	 \n\n\n\n	\n\n\n\n		\n	\n				\n				\n					\n		\n				\n			\n						\n				\n					\n	\n		\n\n	\n	Add to calendar	\n		\n	\n\n		\n			\n									\n	Google Calendar\n\n									\n	iCalendar\n\n									\n	Outlook 365\n\n									\n	Outlook Live\n\n							\n		\n\n		\n	\n\n				\n				\n				\n				\n					\n	\n\n	Categories:	\n		General Events	\n\n				\n				\n					\n		\n					\n		\n				\n						\n					\n			\n						\n				\n					\n	\n		\n\n				11 am Worship	\n\n\n		\n	\n		JBC Kids Sunday Morning Bible Study
URL:https://jerusalembaptist.org/event/awana-clubs/2025-10-01/
LOCATION:Jerusalem Baptist Church\, 5424 Ox Rd\, Fairfax Station\, VA\, 22039\, United States
CATEGORIES:Kids Events
ATTACH;FMTTYPE=image/png:https://jerusalembaptist.org/wp-content/uploads/2026/02/AwanaNoQRNoDate-1.png
END:VEVENT
BEGIN:VEVENT
DTSTART;TZID=America/New_York:20250924T183000
DTEND;TZID=America/New_York:20250924T200000
DTSTAMP:20260422T061914
CREATED:20260219T160944Z
LAST-MODIFIED:20260219T165601Z
UID:10002515-1758738600-1758744000@jerusalembaptist.org
SUMMARY:Awana Clubs
DESCRIPTION:« All Events\n 				\n				\n				\n						\n					\n			\n						\n				\n					\n	Wednesday Night Prayer Gathering				\n				\n					\n		\n					\n		\n				\n						\n					\n			\n						\n				\n					\n		\n			March 17\n\n	\n\n	 @ \n\n\n6:00 pm\n\n		\n\n\n\n	\n	 - \n\n7:00 pm\n\n\n\n	\n				\n				\n					\n		\n					\n		\n				\n				\n									Join us for our weekly prayer gathering on Wednesday nights! 								\n				\n				\n				\n					\n	\n				\n				\n				\n						\n					\n			\n						\n				\n					\n				\n				\n	\n			\n		Jerusalem Baptist Church			\n	\n	\n	\n\n5424 Ox Rd\n	\n		\n		Fairfax Station\,\n\n	VA\n\n	22039\n\n	United States\n\n\n\n\n	+ Google Map \n\n\n	\n					\n						\n	 \n\n\n\n	\n\n\n\n		\n	\n				\n				\n					\n		\n				\n			\n						\n				\n					\n	\n		\n\n	\n	Add to calendar	\n		\n	\n\n		\n			\n									\n	Google Calendar\n\n									\n	iCalendar\n\n									\n	Outlook 365\n\n									\n	Outlook Live\n\n							\n		\n\n		\n	\n\n				\n				\n				\n				\n					\n	\n\n	Categories:	\n		General Events	\n\n				\n				\n					\n		\n					\n		\n				\n						\n					\n			\n						\n				\n					\n	\n		\n\n				11 am Worship	\n\n\n		\n	\n		JBC Kids Sunday Morning Bible Study
URL:https://jerusalembaptist.org/event/awana-clubs/2025-09-24/
LOCATION:Jerusalem Baptist Church\, 5424 Ox Rd\, Fairfax Station\, VA\, 22039\, United States
CATEGORIES:Kids Events
ATTACH;FMTTYPE=image/png:https://jerusalembaptist.org/wp-content/uploads/2026/02/AwanaNoQRNoDate-1.png
END:VEVENT
BEGIN:VEVENT
DTSTART;TZID=America/New_York:20250917T183000
DTEND;TZID=America/New_York:20250917T200000
DTSTAMP:20260422T061914
CREATED:20260219T160944Z
LAST-MODIFIED:20260219T165601Z
UID:10002514-1758133800-1758139200@jerusalembaptist.org
SUMMARY:Awana Clubs
DESCRIPTION:« All Events\n 				\n				\n				\n						\n					\n			\n						\n				\n					\n	Wednesday Night Prayer Gathering				\n				\n					\n		\n					\n		\n				\n						\n					\n			\n						\n				\n					\n		\n			March 17\n\n	\n\n	 @ \n\n\n6:00 pm\n\n		\n\n\n\n	\n	 - \n\n7:00 pm\n\n\n\n	\n				\n				\n					\n		\n					\n		\n				\n				\n									Join us for our weekly prayer gathering on Wednesday nights! 								\n				\n				\n				\n					\n	\n				\n				\n				\n						\n					\n			\n						\n				\n					\n				\n				\n	\n			\n		Jerusalem Baptist Church			\n	\n	\n	\n\n5424 Ox Rd\n	\n		\n		Fairfax Station\,\n\n	VA\n\n	22039\n\n	United States\n\n\n\n\n	+ Google Map \n\n\n	\n					\n						\n	 \n\n\n\n	\n\n\n\n		\n	\n				\n				\n					\n		\n				\n			\n						\n				\n					\n	\n		\n\n	\n	Add to calendar	\n		\n	\n\n		\n			\n									\n	Google Calendar\n\n									\n	iCalendar\n\n									\n	Outlook 365\n\n									\n	Outlook Live\n\n							\n		\n\n		\n	\n\n				\n				\n				\n				\n					\n	\n\n	Categories:	\n		General Events	\n\n				\n				\n					\n		\n					\n		\n				\n						\n					\n			\n						\n				\n					\n	\n		\n\n				11 am Worship	\n\n\n		\n	\n		JBC Kids Sunday Morning Bible Study
URL:https://jerusalembaptist.org/event/awana-clubs/2025-09-17/
LOCATION:Jerusalem Baptist Church\, 5424 Ox Rd\, Fairfax Station\, VA\, 22039\, United States
CATEGORIES:Kids Events
ATTACH;FMTTYPE=image/png:https://jerusalembaptist.org/wp-content/uploads/2026/02/AwanaNoQRNoDate-1.png
END:VEVENT
BEGIN:VEVENT
DTSTART;TZID=America/New_York:20250910T183000
DTEND;TZID=America/New_York:20250910T200000
DTSTAMP:20260422T061914
CREATED:20260219T160944Z
LAST-MODIFIED:20260219T165601Z
UID:10002513-1757529000-1757534400@jerusalembaptist.org
SUMMARY:Awana Clubs
DESCRIPTION:« All Events\n 				\n				\n				\n						\n					\n			\n						\n				\n					\n	Wednesday Night Prayer Gathering				\n				\n					\n		\n					\n		\n				\n						\n					\n			\n						\n				\n					\n		\n			March 17\n\n	\n\n	 @ \n\n\n6:00 pm\n\n		\n\n\n\n	\n	 - \n\n7:00 pm\n\n\n\n	\n				\n				\n					\n		\n					\n		\n				\n				\n									Join us for our weekly prayer gathering on Wednesday nights! 								\n				\n				\n				\n					\n	\n				\n				\n				\n						\n					\n			\n						\n				\n					\n				\n				\n	\n			\n		Jerusalem Baptist Church			\n	\n	\n	\n\n5424 Ox Rd\n	\n		\n		Fairfax Station\,\n\n	VA\n\n	22039\n\n	United States\n\n\n\n\n	+ Google Map \n\n\n	\n					\n						\n	 \n\n\n\n	\n\n\n\n		\n	\n				\n				\n					\n		\n				\n			\n						\n				\n					\n	\n		\n\n	\n	Add to calendar	\n		\n	\n\n		\n			\n									\n	Google Calendar\n\n									\n	iCalendar\n\n									\n	Outlook 365\n\n									\n	Outlook Live\n\n							\n		\n\n		\n	\n\n				\n				\n				\n				\n					\n	\n\n	Categories:	\n		General Events	\n\n				\n				\n					\n		\n					\n		\n				\n						\n					\n			\n						\n				\n					\n	\n		\n\n				11 am Worship	\n\n\n		\n	\n		JBC Kids Sunday Morning Bible Study
URL:https://jerusalembaptist.org/event/awana-clubs/2025-09-10/
LOCATION:Jerusalem Baptist Church\, 5424 Ox Rd\, Fairfax Station\, VA\, 22039\, United States
CATEGORIES:Kids Events
ATTACH;FMTTYPE=image/png:https://jerusalembaptist.org/wp-content/uploads/2026/02/AwanaNoQRNoDate-1.png
END:VEVENT
BEGIN:VEVENT
DTSTART;TZID=America/New_York:20250903T183000
DTEND;TZID=America/New_York:20250903T200000
DTSTAMP:20260422T061914
CREATED:20260219T160944Z
LAST-MODIFIED:20260219T165601Z
UID:10002512-1756924200-1756929600@jerusalembaptist.org
SUMMARY:Awana Clubs
DESCRIPTION:« All Events\n 				\n				\n				\n						\n					\n			\n						\n				\n					\n	Wednesday Night Prayer Gathering				\n				\n					\n		\n					\n		\n				\n						\n					\n			\n						\n				\n					\n		\n			March 17\n\n	\n\n	 @ \n\n\n6:00 pm\n\n		\n\n\n\n	\n	 - \n\n7:00 pm\n\n\n\n	\n				\n				\n					\n		\n					\n		\n				\n				\n									Join us for our weekly prayer gathering on Wednesday nights! 								\n				\n				\n				\n					\n	\n				\n				\n				\n						\n					\n			\n						\n				\n					\n				\n				\n	\n			\n		Jerusalem Baptist Church			\n	\n	\n	\n\n5424 Ox Rd\n	\n		\n		Fairfax Station\,\n\n	VA\n\n	22039\n\n	United States\n\n\n\n\n	+ Google Map \n\n\n	\n					\n						\n	 \n\n\n\n	\n\n\n\n		\n	\n				\n				\n					\n		\n				\n			\n						\n				\n					\n	\n		\n\n	\n	Add to calendar	\n		\n	\n\n		\n			\n									\n	Google Calendar\n\n									\n	iCalendar\n\n									\n	Outlook 365\n\n									\n	Outlook Live\n\n							\n		\n\n		\n	\n\n				\n				\n				\n				\n					\n	\n\n	Categories:	\n		General Events	\n\n				\n				\n					\n		\n					\n		\n				\n						\n					\n			\n						\n				\n					\n	\n		\n\n				11 am Worship	\n\n\n		\n	\n		JBC Kids Sunday Morning Bible Study
URL:https://jerusalembaptist.org/event/awana-clubs/2025-09-03/
LOCATION:Jerusalem Baptist Church\, 5424 Ox Rd\, Fairfax Station\, VA\, 22039\, United States
CATEGORIES:Kids Events
ATTACH;FMTTYPE=image/png:https://jerusalembaptist.org/wp-content/uploads/2026/02/AwanaNoQRNoDate-1.png
END:VEVENT
BEGIN:VEVENT
DTSTART;TZID=America/New_York:20250827T183000
DTEND;TZID=America/New_York:20250827T200000
DTSTAMP:20260422T061915
CREATED:20260219T160944Z
LAST-MODIFIED:20260219T165601Z
UID:10002511-1756319400-1756324800@jerusalembaptist.org
SUMMARY:Awana Clubs
DESCRIPTION:« All Events\n 				\n				\n				\n						\n					\n			\n						\n				\n					\n	Wednesday Night Prayer Gathering				\n				\n					\n		\n					\n		\n				\n						\n					\n			\n						\n				\n					\n		\n			March 17\n\n	\n\n	 @ \n\n\n6:00 pm\n\n		\n\n\n\n	\n	 - \n\n7:00 pm\n\n\n\n	\n				\n				\n					\n		\n					\n		\n				\n				\n									Join us for our weekly prayer gathering on Wednesday nights! 								\n				\n				\n				\n					\n	\n				\n				\n				\n						\n					\n			\n						\n				\n					\n				\n				\n	\n			\n		Jerusalem Baptist Church			\n	\n	\n	\n\n5424 Ox Rd\n	\n		\n		Fairfax Station\,\n\n	VA\n\n	22039\n\n	United States\n\n\n\n\n	+ Google Map \n\n\n	\n					\n						\n	 \n\n\n\n	\n\n\n\n		\n	\n				\n				\n					\n		\n				\n			\n						\n				\n					\n	\n		\n\n	\n	Add to calendar	\n		\n	\n\n		\n			\n									\n	Google Calendar\n\n									\n	iCalendar\n\n									\n	Outlook 365\n\n									\n	Outlook Live\n\n							\n		\n\n		\n	\n\n				\n				\n				\n				\n					\n	\n\n	Categories:	\n		General Events	\n\n				\n				\n					\n		\n					\n		\n				\n						\n					\n			\n						\n				\n					\n	\n		\n\n				11 am Worship	\n\n\n		\n	\n		JBC Kids Sunday Morning Bible Study
URL:https://jerusalembaptist.org/event/awana-clubs/2025-08-27/
LOCATION:Jerusalem Baptist Church\, 5424 Ox Rd\, Fairfax Station\, VA\, 22039\, United States
CATEGORIES:Kids Events
ATTACH;FMTTYPE=image/png:https://jerusalembaptist.org/wp-content/uploads/2026/02/AwanaNoQRNoDate-1.png
END:VEVENT
END:VCALENDAR