BEGIN:VCALENDAR
VERSION:2.0
PRODID:-//Jerusalem Baptist Church, Fairfax Station, VA - ECPv6.15.20//NONSGML v1.0//EN
CALSCALE:GREGORIAN
METHOD:PUBLISH
X-ORIGINAL-URL:https://jerusalembaptist.org
X-WR-CALDESC:Events for Jerusalem Baptist Church, Fairfax Station, VA
REFRESH-INTERVAL;VALUE=DURATION:PT1H
X-Robots-Tag:noindex
X-PUBLISHED-TTL:PT1H
BEGIN:VTIMEZONE
TZID:America/New_York
BEGIN:DAYLIGHT
TZOFFSETFROM:-0500
TZOFFSETTO:-0400
TZNAME:EDT
DTSTART:20250309T070000
END:DAYLIGHT
BEGIN:STANDARD
TZOFFSETFROM:-0400
TZOFFSETTO:-0500
TZNAME:EST
DTSTART:20251102T060000
END:STANDARD
BEGIN:DAYLIGHT
TZOFFSETFROM:-0500
TZOFFSETTO:-0400
TZNAME:EDT
DTSTART:20260308T070000
END:DAYLIGHT
BEGIN:STANDARD
TZOFFSETFROM:-0400
TZOFFSETTO:-0500
TZNAME:EST
DTSTART:20261101T060000
END:STANDARD
BEGIN:DAYLIGHT
TZOFFSETFROM:-0500
TZOFFSETTO:-0400
TZNAME:EDT
DTSTART:20270314T070000
END:DAYLIGHT
BEGIN:STANDARD
TZOFFSETFROM:-0400
TZOFFSETTO:-0500
TZNAME:EST
DTSTART:20271107T060000
END:STANDARD
BEGIN:DAYLIGHT
TZOFFSETFROM:-0500
TZOFFSETTO:-0400
TZNAME:EDT
DTSTART:20280312T070000
END:DAYLIGHT
BEGIN:STANDARD
TZOFFSETFROM:-0400
TZOFFSETTO:-0500
TZNAME:EST
DTSTART:20281105T060000
END:STANDARD
END:VTIMEZONE
BEGIN:VEVENT
DTSTART;TZID=America/New_York:20261224T183000
DTEND;TZID=America/New_York:20261224T194500
DTSTAMP:20260421T130326
CREATED:20260216T200235Z
LAST-MODIFIED:20260216T200404Z
UID:10001684-1798137000-1798141500@jerusalembaptist.org
SUMMARY:Christmas Eve Candlelight Service
DESCRIPTION:« All Events\n 				\n				\n					\n		\n				\n			\n							\n		\n				\n			\n						\n				\n									\n					\n						\n									Register\n					\n					\n				\n								\n				\n					\n		\n					\n		\n				\n						\n					\n			\n						\n				\n					\n	Men’s Discipleship | The Gospel Way Catechism				\n				\n					\n		\n					\n		\n				\n						\n					\n			\n						\n				\n					\n		\n			May 27\n\n	\n\n	 @ \n\n\n7:10 pm\n\n		\n\n\n\n	\n	 - \n\n8:10 pm\n\n\n\n	\n				\n				\n					\n		\n					\n		\n				\n				\n									Join us for Men’s Discipleship on Wednesday nights! We are studying The Gospel Way Catechism by Trevin Wax and Thomas West. $5 for book. 								\n				\n				\n				\n					\n	\n				\n				\n				\n						\n					\n			\n						\n				\n					\n				\n				\n	\n			\n		Jerusalem Baptist Church			\n	\n	\n	\n\n5424 Ox Rd\n	\n		\n		Fairfax Station\,\n\n	VA\n\n	22039\n\n	United States\n\n\n\n\n	+ Google Map \n\n\n	\n					\n						\n	 \n\n\n\n	\n\n\n\n		\n	\n				\n				\n					\n		\n				\n			\n						\n				\n					\n	\n		\n\n	\n	Add to calendar	\n		\n	\n\n		\n			\n									\n	Google Calendar\n\n									\n	iCalendar\n\n									\n	Outlook 365\n\n									\n	Outlook Live\n\n							\n		\n\n		\n	\n\n				\n				\n				\n				\n					\n	\n\n	Categories:	\n		Men's Events	\n\n				\n				\n					\n		\n					\n		\n				\n						\n					\n			\n						\n				\n					\n	\n		\n\n				Wednesday Night Prayer Gathering	\n\n\n		\n	\n		JBC Kids Sunday Morning Bible Study
URL:https://jerusalembaptist.org/event/christmas-eve-2026/
LOCATION:Jerusalem Baptist Church\, 5424 Ox Rd\, Fairfax Station\, VA\, 22039\, United States
CATEGORIES:General Events
ATTACH;FMTTYPE=image/webp:https://jerusalembaptist.org/wp-content/uploads/2026/02/ChristmasEve.webp
END:VEVENT
BEGIN:VEVENT
DTSTART;TZID=America/New_York:20270102T093000
DTEND;TZID=America/New_York:20270102T110000
DTSTAMP:20260421T130326
CREATED:20260203T170033Z
LAST-MODIFIED:20260302T172049Z
UID:10000548-1798882200-1798887600@jerusalembaptist.org
SUMMARY:Local Missions Saturday
DESCRIPTION:« All Events\n 				\n				\n					\n		\n				\n			\n							\n		\n				\n			\n						\n				\n									\n					\n						\n									Register\n					\n					\n				\n								\n				\n					\n		\n					\n		\n				\n						\n					\n			\n						\n				\n					\n	Men’s Discipleship | The Gospel Way Catechism				\n				\n					\n		\n					\n		\n				\n						\n					\n			\n						\n				\n					\n		\n			May 27\n\n	\n\n	 @ \n\n\n7:10 pm\n\n		\n\n\n\n	\n	 - \n\n8:10 pm\n\n\n\n	\n				\n				\n					\n		\n					\n		\n				\n				\n									Join us for Men’s Discipleship on Wednesday nights! We are studying The Gospel Way Catechism by Trevin Wax and Thomas West. $5 for book. 								\n				\n				\n				\n					\n	\n				\n				\n				\n						\n					\n			\n						\n				\n					\n				\n				\n	\n			\n		Jerusalem Baptist Church			\n	\n	\n	\n\n5424 Ox Rd\n	\n		\n		Fairfax Station\,\n\n	VA\n\n	22039\n\n	United States\n\n\n\n\n	+ Google Map \n\n\n	\n					\n						\n	 \n\n\n\n	\n\n\n\n		\n	\n				\n				\n					\n		\n				\n			\n						\n				\n					\n	\n		\n\n	\n	Add to calendar	\n		\n	\n\n		\n			\n									\n	Google Calendar\n\n									\n	iCalendar\n\n									\n	Outlook 365\n\n									\n	Outlook Live\n\n							\n		\n\n		\n	\n\n				\n				\n				\n				\n					\n	\n\n	Categories:	\n		Men's Events	\n\n				\n				\n					\n		\n					\n		\n				\n						\n					\n			\n						\n				\n					\n	\n		\n\n				Wednesday Night Prayer Gathering	\n\n\n		\n	\n		JBC Kids Sunday Morning Bible Study
URL:https://jerusalembaptist.org/event/local-missions-saturday/2027-01-02/
LOCATION:Jerusalem Baptist Church\, 5424 Ox Rd\, Fairfax Station\, VA\, 22039\, United States
CATEGORIES:General Events
ATTACH;FMTTYPE=image/jpeg:https://jerusalembaptist.org/wp-content/uploads/2026/02/Local-Missions-Saturdays-1.jpg
ORGANIZER;CN="Jerusalem Baptist Church":MAILTO:office@jerusalembaptist.com
END:VEVENT
BEGIN:VEVENT
DTSTART;TZID=America/New_York:20270206T093000
DTEND;TZID=America/New_York:20270206T110000
DTSTAMP:20260421T130326
CREATED:20260203T170033Z
LAST-MODIFIED:20260302T172049Z
UID:10000549-1801906200-1801911600@jerusalembaptist.org
SUMMARY:Local Missions Saturday
DESCRIPTION:« All Events\n 				\n				\n					\n		\n				\n			\n							\n		\n				\n			\n						\n				\n									\n					\n						\n									Register\n					\n					\n				\n								\n				\n					\n		\n					\n		\n				\n						\n					\n			\n						\n				\n					\n	Men’s Discipleship | The Gospel Way Catechism				\n				\n					\n		\n					\n		\n				\n						\n					\n			\n						\n				\n					\n		\n			May 27\n\n	\n\n	 @ \n\n\n7:10 pm\n\n		\n\n\n\n	\n	 - \n\n8:10 pm\n\n\n\n	\n				\n				\n					\n		\n					\n		\n				\n				\n									Join us for Men’s Discipleship on Wednesday nights! We are studying The Gospel Way Catechism by Trevin Wax and Thomas West. $5 for book. 								\n				\n				\n				\n					\n	\n				\n				\n				\n						\n					\n			\n						\n				\n					\n				\n				\n	\n			\n		Jerusalem Baptist Church			\n	\n	\n	\n\n5424 Ox Rd\n	\n		\n		Fairfax Station\,\n\n	VA\n\n	22039\n\n	United States\n\n\n\n\n	+ Google Map \n\n\n	\n					\n						\n	 \n\n\n\n	\n\n\n\n		\n	\n				\n				\n					\n		\n				\n			\n						\n				\n					\n	\n		\n\n	\n	Add to calendar	\n		\n	\n\n		\n			\n									\n	Google Calendar\n\n									\n	iCalendar\n\n									\n	Outlook 365\n\n									\n	Outlook Live\n\n							\n		\n\n		\n	\n\n				\n				\n				\n				\n					\n	\n\n	Categories:	\n		Men's Events	\n\n				\n				\n					\n		\n					\n		\n				\n						\n					\n			\n						\n				\n					\n	\n		\n\n				Wednesday Night Prayer Gathering	\n\n\n		\n	\n		JBC Kids Sunday Morning Bible Study
URL:https://jerusalembaptist.org/event/local-missions-saturday/2027-02-06/
LOCATION:Jerusalem Baptist Church\, 5424 Ox Rd\, Fairfax Station\, VA\, 22039\, United States
CATEGORIES:General Events
ATTACH;FMTTYPE=image/jpeg:https://jerusalembaptist.org/wp-content/uploads/2026/02/Local-Missions-Saturdays-1.jpg
ORGANIZER;CN="Jerusalem Baptist Church":MAILTO:office@jerusalembaptist.com
END:VEVENT
END:VCALENDAR