BEGIN:VCALENDAR
VERSION:2.0
PRODID:-//Jerusalem Baptist Church, Fairfax Station, VA - ECPv6.15.20//NONSGML v1.0//EN
CALSCALE:GREGORIAN
METHOD:PUBLISH
X-WR-CALNAME:Jerusalem Baptist Church, Fairfax Station, VA
X-ORIGINAL-URL:https://jerusalembaptist.org
X-WR-CALDESC:Events for Jerusalem Baptist Church, Fairfax Station, VA
REFRESH-INTERVAL;VALUE=DURATION:PT1H
X-Robots-Tag:noindex
X-PUBLISHED-TTL:PT1H
BEGIN:VTIMEZONE
TZID:America/New_York
BEGIN:DAYLIGHT
TZOFFSETFROM:-0500
TZOFFSETTO:-0400
TZNAME:EDT
DTSTART:20250309T070000
END:DAYLIGHT
BEGIN:STANDARD
TZOFFSETFROM:-0400
TZOFFSETTO:-0500
TZNAME:EST
DTSTART:20251102T060000
END:STANDARD
BEGIN:DAYLIGHT
TZOFFSETFROM:-0500
TZOFFSETTO:-0400
TZNAME:EDT
DTSTART:20260308T070000
END:DAYLIGHT
BEGIN:STANDARD
TZOFFSETFROM:-0400
TZOFFSETTO:-0500
TZNAME:EST
DTSTART:20261101T060000
END:STANDARD
BEGIN:DAYLIGHT
TZOFFSETFROM:-0500
TZOFFSETTO:-0400
TZNAME:EDT
DTSTART:20270314T070000
END:DAYLIGHT
BEGIN:STANDARD
TZOFFSETFROM:-0400
TZOFFSETTO:-0500
TZNAME:EST
DTSTART:20271107T060000
END:STANDARD
END:VTIMEZONE
BEGIN:VEVENT
DTSTART;TZID=America/New_York:20260405T110000
DTEND;TZID=America/New_York:20260405T121500
DTSTAMP:20260421T155301
CREATED:20260216T184431Z
LAST-MODIFIED:20260310T171331Z
UID:10001679-1775386800-1775391300@jerusalembaptist.org
SUMMARY:Easter Sunday Worship
DESCRIPTION:« All Events\n 				\n				\n					\n		\n				\n			\n							\n		\n				\n			\n						\n				\n									\n					\n						\n									Sign Up\n					\n					\n				\n								\n				\n					\n		\n					\n		\n				\n				\n					This event has passed. \n				\n				\n				\n						\n					\n			\n						\n				\n					\n	Moon / Reeping Small Group				\n				\n					\n		\n					\n		\n				\n						\n					\n			\n						\n				\n					\n		\n			March 30\n\n	\n\n	 @ \n\n\n7:00 pm\n\n		\n\n\n\n	\n	 - \n\n9:00 pm\n\n\n\n	\n				\n				\n					\n		\n					\n		\n				\n				\n									We are a small group with a format catered to young couples/families with children. We meet weekly on Mondays from 7:00 u2013 9:00 pm to encourage\, connect\, read scripture\, pray and do life with one another. 								\n				\n				\n				\n					\n	\n				\n				\n				\n						\n					\n			\n						\n				\n					\n	\n		\n\n	\n	Add to calendar	\n		\n	\n\n		\n			\n									\n	Google Calendar\n\n									\n	iCalendar\n\n									\n	Outlook 365\n\n									\n	Outlook Live\n\n							\n		\n\n		\n	\n\n				\n				\n				\n				\n					\n	\n\n	Categories:	\n		General Events\, Small Groups	\n\n				\n				\n					\n		\n					\n		\n				\n						\n					\n			\n						\n				\n					\n	\n		\n\n				Gallagher / Correll Small Group	\n\n\n		\n	\n		Wednesday Night Prayer Gathering
URL:https://jerusalembaptist.org/event/easter-sunday-worship/
LOCATION:Jerusalem Baptist Church\, 5424 Ox Rd\, Fairfax Station\, VA\, 22039\, United States
CATEGORIES:General Events
ATTACH;FMTTYPE=image/png:https://jerusalembaptist.org/wp-content/uploads/2026/02/EasterSundayWorship.png
END:VEVENT
BEGIN:VEVENT
DTSTART;TZID=America/New_York:20260404T093000
DTEND;TZID=America/New_York:20260404T110000
DTSTAMP:20260421T155301
CREATED:20260203T170033Z
LAST-MODIFIED:20260302T172049Z
UID:10002493-1775295000-1775300400@jerusalembaptist.org
SUMMARY:Local Missions Saturday
DESCRIPTION:« All Events\n 				\n				\n					\n		\n				\n			\n							\n		\n				\n			\n						\n				\n									\n					\n						\n									Sign Up\n					\n					\n				\n								\n				\n					\n		\n					\n		\n				\n				\n					This event has passed. \n				\n				\n				\n						\n					\n			\n						\n				\n					\n	Moon / Reeping Small Group				\n				\n					\n		\n					\n		\n				\n						\n					\n			\n						\n				\n					\n		\n			March 30\n\n	\n\n	 @ \n\n\n7:00 pm\n\n		\n\n\n\n	\n	 - \n\n9:00 pm\n\n\n\n	\n				\n				\n					\n		\n					\n		\n				\n				\n									We are a small group with a format catered to young couples/families with children. We meet weekly on Mondays from 7:00 u2013 9:00 pm to encourage\, connect\, read scripture\, pray and do life with one another. 								\n				\n				\n				\n					\n	\n				\n				\n				\n						\n					\n			\n						\n				\n					\n	\n		\n\n	\n	Add to calendar	\n		\n	\n\n		\n			\n									\n	Google Calendar\n\n									\n	iCalendar\n\n									\n	Outlook 365\n\n									\n	Outlook Live\n\n							\n		\n\n		\n	\n\n				\n				\n				\n				\n					\n	\n\n	Categories:	\n		General Events\, Small Groups	\n\n				\n				\n					\n		\n					\n		\n				\n						\n					\n			\n						\n				\n					\n	\n		\n\n				Gallagher / Correll Small Group	\n\n\n		\n	\n		Wednesday Night Prayer Gathering
URL:https://jerusalembaptist.org/event/local-missions-saturday/2026-04-04/
LOCATION:Jerusalem Baptist Church\, 5424 Ox Rd\, Fairfax Station\, VA\, 22039\, United States
CATEGORIES:General Events
ATTACH;FMTTYPE=image/jpeg:https://jerusalembaptist.org/wp-content/uploads/2026/02/Local-Missions-Saturdays-1.jpg
ORGANIZER;CN="Jerusalem Baptist Church":MAILTO:office@jerusalembaptist.com
END:VEVENT
BEGIN:VEVENT
DTSTART;TZID=America/New_York:20260403T190000
DTEND;TZID=America/New_York:20260403T201500
DTSTAMP:20260421T155301
CREATED:20260216T183450Z
LAST-MODIFIED:20260302T170156Z
UID:10001678-1775242800-1775247300@jerusalembaptist.org
SUMMARY:Good Friday Worship
DESCRIPTION:« All Events\n 				\n				\n					\n		\n				\n			\n							\n		\n				\n			\n						\n				\n									\n					\n						\n									Sign Up\n					\n					\n				\n								\n				\n					\n		\n					\n		\n				\n				\n					This event has passed. \n				\n				\n				\n						\n					\n			\n						\n				\n					\n	Moon / Reeping Small Group				\n				\n					\n		\n					\n		\n				\n						\n					\n			\n						\n				\n					\n		\n			March 30\n\n	\n\n	 @ \n\n\n7:00 pm\n\n		\n\n\n\n	\n	 - \n\n9:00 pm\n\n\n\n	\n				\n				\n					\n		\n					\n		\n				\n				\n									We are a small group with a format catered to young couples/families with children. We meet weekly on Mondays from 7:00 u2013 9:00 pm to encourage\, connect\, read scripture\, pray and do life with one another. 								\n				\n				\n				\n					\n	\n				\n				\n				\n						\n					\n			\n						\n				\n					\n	\n		\n\n	\n	Add to calendar	\n		\n	\n\n		\n			\n									\n	Google Calendar\n\n									\n	iCalendar\n\n									\n	Outlook 365\n\n									\n	Outlook Live\n\n							\n		\n\n		\n	\n\n				\n				\n				\n				\n					\n	\n\n	Categories:	\n		General Events\, Small Groups	\n\n				\n				\n					\n		\n					\n		\n				\n						\n					\n			\n						\n				\n					\n	\n		\n\n				Gallagher / Correll Small Group	\n\n\n		\n	\n		Wednesday Night Prayer Gathering
URL:https://jerusalembaptist.org/event/good-friday-worship/
LOCATION:Jerusalem Baptist Church\, 5424 Ox Rd\, Fairfax Station\, VA\, 22039\, United States
CATEGORIES:General Events
ATTACH;FMTTYPE=image/png:https://jerusalembaptist.org/wp-content/uploads/2026/02/GoodFridayWorship.png
END:VEVENT
BEGIN:VEVENT
DTSTART;TZID=America/New_York:20260322T121500
DTEND;TZID=America/New_York:20260322T130000
DTSTAMP:20260421T155301
CREATED:20260312T145526Z
LAST-MODIFIED:20260312T145718Z
UID:10003592-1774181700-1774184400@jerusalembaptist.org
SUMMARY:Japan Mission Trip Meeting
DESCRIPTION:« All Events\n 				\n				\n					\n		\n				\n			\n							\n		\n				\n			\n						\n				\n									\n					\n						\n									Sign Up\n					\n					\n				\n								\n				\n					\n		\n					\n		\n				\n				\n					This event has passed. \n				\n				\n				\n						\n					\n			\n						\n				\n					\n	Moon / Reeping Small Group				\n				\n					\n		\n					\n		\n				\n						\n					\n			\n						\n				\n					\n		\n			March 30\n\n	\n\n	 @ \n\n\n7:00 pm\n\n		\n\n\n\n	\n	 - \n\n9:00 pm\n\n\n\n	\n				\n				\n					\n		\n					\n		\n				\n				\n									We are a small group with a format catered to young couples/families with children. We meet weekly on Mondays from 7:00 u2013 9:00 pm to encourage\, connect\, read scripture\, pray and do life with one another. 								\n				\n				\n				\n					\n	\n				\n				\n				\n						\n					\n			\n						\n				\n					\n	\n		\n\n	\n	Add to calendar	\n		\n	\n\n		\n			\n									\n	Google Calendar\n\n									\n	iCalendar\n\n									\n	Outlook 365\n\n									\n	Outlook Live\n\n							\n		\n\n		\n	\n\n				\n				\n				\n				\n					\n	\n\n	Categories:	\n		General Events\, Small Groups	\n\n				\n				\n					\n		\n					\n		\n				\n						\n					\n			\n						\n				\n					\n	\n		\n\n				Gallagher / Correll Small Group	\n\n\n		\n	\n		Wednesday Night Prayer Gathering
URL:https://jerusalembaptist.org/event/japan-mission-trip-meeting/
LOCATION:Jerusalem Baptist Church\, 5424 Ox Rd\, Fairfax Station\, VA\, 22039\, United States
CATEGORIES:General Events
ATTACH;FMTTYPE=image/png:https://jerusalembaptist.org/wp-content/uploads/2026/03/PeruTrip-3.png
END:VEVENT
BEGIN:VEVENT
DTSTART;TZID=America/New_York:20260314T090000
DTEND;TZID=America/New_York:20260314T120000
DTSTAMP:20260421T155301
CREATED:20260226T174646Z
LAST-MODIFIED:20260416T182400Z
UID:10003351-1773478800-1773489600@jerusalembaptist.org
SUMMARY:Creative Brunch
DESCRIPTION:« All Events\n 				\n				\n					\n		\n				\n			\n							\n		\n				\n			\n						\n				\n									\n					\n						\n									Sign Up\n					\n					\n				\n								\n				\n					\n		\n					\n		\n				\n				\n					This event has passed. \n				\n				\n				\n						\n					\n			\n						\n				\n					\n	Moon / Reeping Small Group				\n				\n					\n		\n					\n		\n				\n						\n					\n			\n						\n				\n					\n		\n			March 30\n\n	\n\n	 @ \n\n\n7:00 pm\n\n		\n\n\n\n	\n	 - \n\n9:00 pm\n\n\n\n	\n				\n				\n					\n		\n					\n		\n				\n				\n									We are a small group with a format catered to young couples/families with children. We meet weekly on Mondays from 7:00 u2013 9:00 pm to encourage\, connect\, read scripture\, pray and do life with one another. 								\n				\n				\n				\n					\n	\n				\n				\n				\n						\n					\n			\n						\n				\n					\n	\n		\n\n	\n	Add to calendar	\n		\n	\n\n		\n			\n									\n	Google Calendar\n\n									\n	iCalendar\n\n									\n	Outlook 365\n\n									\n	Outlook Live\n\n							\n		\n\n		\n	\n\n				\n				\n				\n				\n					\n	\n\n	Categories:	\n		General Events\, Small Groups	\n\n				\n				\n					\n		\n					\n		\n				\n						\n					\n			\n						\n				\n					\n	\n		\n\n				Gallagher / Correll Small Group	\n\n\n		\n	\n		Wednesday Night Prayer Gathering
URL:https://jerusalembaptist.org/event/creative-brunch-3-14/
LOCATION:Jerusalem Baptist Church\, 5424 Ox Rd\, Fairfax Station\, VA\, 22039\, United States
CATEGORIES:Women's Events
ATTACH;FMTTYPE=image/png:https://jerusalembaptist.org/wp-content/uploads/2026/02/Creative-Brunch.png
ORGANIZER;CN="JBC Women":MAILTO:women@jerusalembaptist.org
END:VEVENT
BEGIN:VEVENT
DTSTART;TZID=America/New_York:20260307T093000
DTEND;TZID=America/New_York:20260307T110000
DTSTAMP:20260421T155301
CREATED:20260203T170033Z
LAST-MODIFIED:20260302T172049Z
UID:10000538-1772875800-1772881200@jerusalembaptist.org
SUMMARY:Local Missions Saturday
DESCRIPTION:« All Events\n 				\n				\n					\n		\n				\n			\n							\n		\n				\n			\n						\n				\n									\n					\n						\n									Sign Up\n					\n					\n				\n								\n				\n					\n		\n					\n		\n				\n				\n					This event has passed. \n				\n				\n				\n						\n					\n			\n						\n				\n					\n	Moon / Reeping Small Group				\n				\n					\n		\n					\n		\n				\n						\n					\n			\n						\n				\n					\n		\n			March 30\n\n	\n\n	 @ \n\n\n7:00 pm\n\n		\n\n\n\n	\n	 - \n\n9:00 pm\n\n\n\n	\n				\n				\n					\n		\n					\n		\n				\n				\n									We are a small group with a format catered to young couples/families with children. We meet weekly on Mondays from 7:00 u2013 9:00 pm to encourage\, connect\, read scripture\, pray and do life with one another. 								\n				\n				\n				\n					\n	\n				\n				\n				\n						\n					\n			\n						\n				\n					\n	\n		\n\n	\n	Add to calendar	\n		\n	\n\n		\n			\n									\n	Google Calendar\n\n									\n	iCalendar\n\n									\n	Outlook 365\n\n									\n	Outlook Live\n\n							\n		\n\n		\n	\n\n				\n				\n				\n				\n					\n	\n\n	Categories:	\n		General Events\, Small Groups	\n\n				\n				\n					\n		\n					\n		\n				\n						\n					\n			\n						\n				\n					\n	\n		\n\n				Gallagher / Correll Small Group	\n\n\n		\n	\n		Wednesday Night Prayer Gathering
URL:https://jerusalembaptist.org/event/local-missions-saturday/2026-03-07/
LOCATION:Jerusalem Baptist Church\, 5424 Ox Rd\, Fairfax Station\, VA\, 22039\, United States
CATEGORIES:General Events
ATTACH;FMTTYPE=image/jpeg:https://jerusalembaptist.org/wp-content/uploads/2026/02/Local-Missions-Saturdays-1.jpg
ORGANIZER;CN="Jerusalem Baptist Church":MAILTO:office@jerusalembaptist.com
END:VEVENT
BEGIN:VEVENT
DTSTART;TZID=America/New_York:20260303T100000
DTEND;TZID=America/New_York:20260303T123000
DTSTAMP:20260421T155301
CREATED:20260215T132750Z
LAST-MODIFIED:20260225T182418Z
UID:10001121-1772532000-1772541000@jerusalembaptist.org
SUMMARY:SBCV | A Simple Plan to Reach Anyone With the Gospel
DESCRIPTION:« All Events\n 				\n				\n					\n		\n				\n			\n							\n		\n				\n			\n						\n				\n									\n					\n						\n									Sign Up\n					\n					\n				\n								\n				\n					\n		\n					\n		\n				\n				\n					This event has passed. \n				\n				\n				\n						\n					\n			\n						\n				\n					\n	Moon / Reeping Small Group				\n				\n					\n		\n					\n		\n				\n						\n					\n			\n						\n				\n					\n		\n			March 30\n\n	\n\n	 @ \n\n\n7:00 pm\n\n		\n\n\n\n	\n	 - \n\n9:00 pm\n\n\n\n	\n				\n				\n					\n		\n					\n		\n				\n				\n									We are a small group with a format catered to young couples/families with children. We meet weekly on Mondays from 7:00 u2013 9:00 pm to encourage\, connect\, read scripture\, pray and do life with one another. 								\n				\n				\n				\n					\n	\n				\n				\n				\n						\n					\n			\n						\n				\n					\n	\n		\n\n	\n	Add to calendar	\n		\n	\n\n		\n			\n									\n	Google Calendar\n\n									\n	iCalendar\n\n									\n	Outlook 365\n\n									\n	Outlook Live\n\n							\n		\n\n		\n	\n\n				\n				\n				\n				\n					\n	\n\n	Categories:	\n		General Events\, Small Groups	\n\n				\n				\n					\n		\n					\n		\n				\n						\n					\n			\n						\n				\n					\n	\n		\n\n				Gallagher / Correll Small Group	\n\n\n		\n	\n		Wednesday Night Prayer Gathering
URL:https://jerusalembaptist.org/event/sbcv-a-simple-plan/
LOCATION:Jerusalem Baptist Church\, 5424 Ox Rd\, Fairfax Station\, VA\, 22039\, United States
CATEGORIES:General Events
ATTACH;FMTTYPE=image/jpeg:https://jerusalembaptist.org/wp-content/uploads/2026/02/HouseOfPrayerSummit.jpg
END:VEVENT
BEGIN:VEVENT
DTSTART;TZID=America/New_York:20260228T093000
DTEND;TZID=America/New_York:20260228T143000
DTSTAMP:20260421T155301
CREATED:20260127T200039Z
LAST-MODIFIED:20260225T185032Z
UID:10000010-1772271000-1772289000@jerusalembaptist.org
SUMMARY:2026 Refresh Women's Conference
DESCRIPTION:« All Events\n 				\n				\n					\n		\n				\n			\n							\n		\n				\n			\n						\n				\n									\n					\n						\n									Sign Up\n					\n					\n				\n								\n				\n					\n		\n					\n		\n				\n				\n					This event has passed. \n				\n				\n				\n						\n					\n			\n						\n				\n					\n	Moon / Reeping Small Group				\n				\n					\n		\n					\n		\n				\n						\n					\n			\n						\n				\n					\n		\n			March 30\n\n	\n\n	 @ \n\n\n7:00 pm\n\n		\n\n\n\n	\n	 - \n\n9:00 pm\n\n\n\n	\n				\n				\n					\n		\n					\n		\n				\n				\n									We are a small group with a format catered to young couples/families with children. We meet weekly on Mondays from 7:00 u2013 9:00 pm to encourage\, connect\, read scripture\, pray and do life with one another. 								\n				\n				\n				\n					\n	\n				\n				\n				\n						\n					\n			\n						\n				\n					\n	\n		\n\n	\n	Add to calendar	\n		\n	\n\n		\n			\n									\n	Google Calendar\n\n									\n	iCalendar\n\n									\n	Outlook 365\n\n									\n	Outlook Live\n\n							\n		\n\n		\n	\n\n				\n				\n				\n				\n					\n	\n\n	Categories:	\n		General Events\, Small Groups	\n\n				\n				\n					\n		\n					\n		\n				\n						\n					\n			\n						\n				\n					\n	\n		\n\n				Gallagher / Correll Small Group	\n\n\n		\n	\n		Wednesday Night Prayer Gathering
URL:https://jerusalembaptist.org/event/refresh2026/
LOCATION:First Baptist Church of Woodbridge\, 13600 Minnieville Rd\, Woodbridge\, VA\, 22139
CATEGORIES:Women's Events
ATTACH;FMTTYPE=image/jpeg:https://jerusalembaptist.org/wp-content/uploads/2026/01/Refresh2026.jpg
END:VEVENT
BEGIN:VEVENT
DTSTART;TZID=America/New_York:20260207T093000
DTEND;TZID=America/New_York:20260207T110000
DTSTAMP:20260421T155302
CREATED:20260203T170033Z
LAST-MODIFIED:20260302T172049Z
UID:10000537-1770456600-1770462000@jerusalembaptist.org
SUMMARY:Local Missions Saturday
DESCRIPTION:« All Events\n 				\n				\n					\n		\n				\n			\n							\n		\n				\n			\n						\n				\n									\n					\n						\n									Sign Up\n					\n					\n				\n								\n				\n					\n		\n					\n		\n				\n				\n					This event has passed. \n				\n				\n				\n						\n					\n			\n						\n				\n					\n	Moon / Reeping Small Group				\n				\n					\n		\n					\n		\n				\n						\n					\n			\n						\n				\n					\n		\n			March 30\n\n	\n\n	 @ \n\n\n7:00 pm\n\n		\n\n\n\n	\n	 - \n\n9:00 pm\n\n\n\n	\n				\n				\n					\n		\n					\n		\n				\n				\n									We are a small group with a format catered to young couples/families with children. We meet weekly on Mondays from 7:00 u2013 9:00 pm to encourage\, connect\, read scripture\, pray and do life with one another. 								\n				\n				\n				\n					\n	\n				\n				\n				\n						\n					\n			\n						\n				\n					\n	\n		\n\n	\n	Add to calendar	\n		\n	\n\n		\n			\n									\n	Google Calendar\n\n									\n	iCalendar\n\n									\n	Outlook 365\n\n									\n	Outlook Live\n\n							\n		\n\n		\n	\n\n				\n				\n				\n				\n					\n	\n\n	Categories:	\n		General Events\, Small Groups	\n\n				\n				\n					\n		\n					\n		\n				\n						\n					\n			\n						\n				\n					\n	\n		\n\n				Gallagher / Correll Small Group	\n\n\n		\n	\n		Wednesday Night Prayer Gathering
URL:https://jerusalembaptist.org/event/local-missions-saturday/2026-02-07/
LOCATION:Jerusalem Baptist Church\, 5424 Ox Rd\, Fairfax Station\, VA\, 22039\, United States
CATEGORIES:General Events
ATTACH;FMTTYPE=image/jpeg:https://jerusalembaptist.org/wp-content/uploads/2026/02/Local-Missions-Saturdays-1.jpg
ORGANIZER;CN="Jerusalem Baptist Church":MAILTO:office@jerusalembaptist.com
END:VEVENT
BEGIN:VEVENT
DTSTART;TZID=America/New_York:20260201T110000
DTEND;TZID=America/New_York:20260201T123000
DTSTAMP:20260421T155302
CREATED:20260128T173817Z
LAST-MODIFIED:20260129T144521Z
UID:10000013-1769943600-1769949000@jerusalembaptist.org
SUMMARY:Mosaic Virginia 2026 Baby Bottle Campaign In-Gathering
DESCRIPTION:« All Events\n 				\n				\n					\n		\n				\n			\n							\n		\n				\n			\n						\n				\n									\n					\n						\n									Sign Up\n					\n					\n				\n								\n				\n					\n		\n					\n		\n				\n				\n					This event has passed. \n				\n				\n				\n						\n					\n			\n						\n				\n					\n	Moon / Reeping Small Group				\n				\n					\n		\n					\n		\n				\n						\n					\n			\n						\n				\n					\n		\n			March 30\n\n	\n\n	 @ \n\n\n7:00 pm\n\n		\n\n\n\n	\n	 - \n\n9:00 pm\n\n\n\n	\n				\n				\n					\n		\n					\n		\n				\n				\n									We are a small group with a format catered to young couples/families with children. We meet weekly on Mondays from 7:00 u2013 9:00 pm to encourage\, connect\, read scripture\, pray and do life with one another. 								\n				\n				\n				\n					\n	\n				\n				\n				\n						\n					\n			\n						\n				\n					\n	\n		\n\n	\n	Add to calendar	\n		\n	\n\n		\n			\n									\n	Google Calendar\n\n									\n	iCalendar\n\n									\n	Outlook 365\n\n									\n	Outlook Live\n\n							\n		\n\n		\n	\n\n				\n				\n				\n				\n					\n	\n\n	Categories:	\n		General Events\, Small Groups	\n\n				\n				\n					\n		\n					\n		\n				\n						\n					\n			\n						\n				\n					\n	\n		\n\n				Gallagher / Correll Small Group	\n\n\n		\n	\n		Wednesday Night Prayer Gathering
URL:https://jerusalembaptist.org/event/mosaic-virginia-2026-baby-bottle-campaign-in-gathering/
LOCATION:Jerusalem Baptist Church\, 5424 Ox Rd\, Fairfax Station\, VA\, 22039\, United States
CATEGORIES:General Events
ATTACH;FMTTYPE=image/png:https://jerusalembaptist.org/wp-content/uploads/2026/02/baby-bottle-campaign-3.png
ORGANIZER;CN="Jerusalem Baptist Church":MAILTO:office@jerusalembaptist.com
END:VEVENT
END:VCALENDAR