BEGIN:VCALENDAR
VERSION:2.0
PRODID:-//Jerusalem Baptist Church, Fairfax Station, VA - ECPv6.15.20//NONSGML v1.0//EN
CALSCALE:GREGORIAN
METHOD:PUBLISH
X-ORIGINAL-URL:https://jerusalembaptist.org
X-WR-CALDESC:Events for Jerusalem Baptist Church, Fairfax Station, VA
REFRESH-INTERVAL;VALUE=DURATION:PT1H
X-Robots-Tag:noindex
X-PUBLISHED-TTL:PT1H
BEGIN:VTIMEZONE
TZID:America/New_York
BEGIN:DAYLIGHT
TZOFFSETFROM:-0500
TZOFFSETTO:-0400
TZNAME:EDT
DTSTART:20250309T070000
END:DAYLIGHT
BEGIN:STANDARD
TZOFFSETFROM:-0400
TZOFFSETTO:-0500
TZNAME:EST
DTSTART:20251102T060000
END:STANDARD
BEGIN:DAYLIGHT
TZOFFSETFROM:-0500
TZOFFSETTO:-0400
TZNAME:EDT
DTSTART:20260308T070000
END:DAYLIGHT
BEGIN:STANDARD
TZOFFSETFROM:-0400
TZOFFSETTO:-0500
TZNAME:EST
DTSTART:20261101T060000
END:STANDARD
BEGIN:DAYLIGHT
TZOFFSETFROM:-0500
TZOFFSETTO:-0400
TZNAME:EDT
DTSTART:20270314T070000
END:DAYLIGHT
BEGIN:STANDARD
TZOFFSETFROM:-0400
TZOFFSETTO:-0500
TZNAME:EST
DTSTART:20271107T060000
END:STANDARD
END:VTIMEZONE
BEGIN:VEVENT
DTSTART;TZID=America/New_York:20260704T093000
DTEND;TZID=America/New_York:20260704T110000
DTSTAMP:20260421T093336
CREATED:20260203T170033Z
LAST-MODIFIED:20260302T172049Z
UID:10000542-1783157400-1783162800@jerusalembaptist.org
SUMMARY:Local Missions Saturday
DESCRIPTION:« All Events\n 				\n				\n				\n						\n					\n			\n						\n				\n					\n	Creative Brunch				\n				\n					\n		\n					\n		\n				\n						\n					\n			\n						\n				\n					\n		\n			June 20\n\n	\n\n	 @ \n\n\n9:00 am\n\n		\n\n\n\n	\n	 - \n\n12:00 pm\n\n\n\n	\n				\n				\n					\n		\n					\n		\n				\n				\n									Join us for a relaxed and inspiring morning where you can bring your own planner\, journal\, hobby\, or craft to enjoy alongside brunch with other women. Whether you’re goal-setting\, stitching\, lettering\, scrapbooking\, working on business ideas\, or just sipping coffee\, this is your time to slow down\, connect\, and create—together. Come for all or part of the morning. It’s like co-working\, but for your creative soul. 								\n				\n				\n				\n					\n	\n				\n				\n				\n						\n					\n			\n						\n				\n					\n				\n				\n	\n			\n		Jerusalem Baptist Church			\n	\n	\n	\n\n5424 Ox Rd\n	\n		\n		Fairfax Station\,\n\n	VA\n\n	22039\n\n	United States\n\n\n\n\n	+ Google Map \n\n\n	\n					\n						\n	 \n\n\n\n	\n\n\n\n		\n	\n				\n				\n					\n		\n				\n			\n						\n				\n					\n	\n		\n\n	\n	Add to calendar	\n		\n	\n\n		\n			\n									\n	Google Calendar\n\n									\n	iCalendar\n\n									\n	Outlook 365\n\n									\n	Outlook Live\n\n							\n		\n\n		\n	\n\n				\n				\n				\n				\n					\n	\n\n	Categories:	\n		Women's Events	\n\n				\n				\n					\n		\n					\n		\n				\n						\n					\n			\n						\n				\n					\n	\n		\n\n				Men's Discipleship | The Gospel Way Catechism	\n\n\n		\n	\n		JBC Kids Sunday Morning Bible Study
URL:https://jerusalembaptist.org/event/local-missions-saturday/2026-07-04/
LOCATION:Jerusalem Baptist Church\, 5424 Ox Rd\, Fairfax Station\, VA\, 22039\, United States
CATEGORIES:General Events
ATTACH;FMTTYPE=image/jpeg:https://jerusalembaptist.org/wp-content/uploads/2026/02/Local-Missions-Saturdays-1.jpg
ORGANIZER;CN="Jerusalem Baptist Church":MAILTO:office@jerusalembaptist.com
END:VEVENT
BEGIN:VEVENT
DTSTART;VALUE=DATE:20260706
DTEND;VALUE=DATE:20260713
DTSTAMP:20260421T093336
CREATED:20260216T200627Z
LAST-MODIFIED:20260216T201410Z
UID:10001685-1783296000-1783900799@jerusalembaptist.org
SUMMARY:Local Mission Week 2026
DESCRIPTION:« All Events\n 				\n				\n				\n						\n					\n			\n						\n				\n					\n	Creative Brunch				\n				\n					\n		\n					\n		\n				\n						\n					\n			\n						\n				\n					\n		\n			June 20\n\n	\n\n	 @ \n\n\n9:00 am\n\n		\n\n\n\n	\n	 - \n\n12:00 pm\n\n\n\n	\n				\n				\n					\n		\n					\n		\n				\n				\n									Join us for a relaxed and inspiring morning where you can bring your own planner\, journal\, hobby\, or craft to enjoy alongside brunch with other women. Whether you’re goal-setting\, stitching\, lettering\, scrapbooking\, working on business ideas\, or just sipping coffee\, this is your time to slow down\, connect\, and create—together. Come for all or part of the morning. It’s like co-working\, but for your creative soul. 								\n				\n				\n				\n					\n	\n				\n				\n				\n						\n					\n			\n						\n				\n					\n				\n				\n	\n			\n		Jerusalem Baptist Church			\n	\n	\n	\n\n5424 Ox Rd\n	\n		\n		Fairfax Station\,\n\n	VA\n\n	22039\n\n	United States\n\n\n\n\n	+ Google Map \n\n\n	\n					\n						\n	 \n\n\n\n	\n\n\n\n		\n	\n				\n				\n					\n		\n				\n			\n						\n				\n					\n	\n		\n\n	\n	Add to calendar	\n		\n	\n\n		\n			\n									\n	Google Calendar\n\n									\n	iCalendar\n\n									\n	Outlook 365\n\n									\n	Outlook Live\n\n							\n		\n\n		\n	\n\n				\n				\n				\n				\n					\n	\n\n	Categories:	\n		Women's Events	\n\n				\n				\n					\n		\n					\n		\n				\n						\n					\n			\n						\n				\n					\n	\n		\n\n				Men's Discipleship | The Gospel Way Catechism	\n\n\n		\n	\n		JBC Kids Sunday Morning Bible Study
URL:https://jerusalembaptist.org/event/local-mission-week-2026/
LOCATION:Jerusalem Baptist Church\, 5424 Ox Rd\, Fairfax Station\, VA\, 22039\, United States
CATEGORIES:General Events
ATTACH;FMTTYPE=image/jpeg:https://jerusalembaptist.org/wp-content/uploads/2026/01/LMW2026.jpg
ORGANIZER;CN="Jerusalem Baptist Church":MAILTO:office@jerusalembaptist.com
END:VEVENT
BEGIN:VEVENT
DTSTART;VALUE=DATE:20260706
DTEND;VALUE=DATE:20260713
DTSTAMP:20260421T093336
CREATED:20260307T143821Z
LAST-MODIFIED:20260413T142546Z
UID:10003590-1783296000-1783900799@jerusalembaptist.org
SUMMARY:Illumination Station VBS 2026
DESCRIPTION:« All Events\n 				\n				\n				\n						\n					\n			\n						\n				\n					\n	Creative Brunch				\n				\n					\n		\n					\n		\n				\n						\n					\n			\n						\n				\n					\n		\n			June 20\n\n	\n\n	 @ \n\n\n9:00 am\n\n		\n\n\n\n	\n	 - \n\n12:00 pm\n\n\n\n	\n				\n				\n					\n		\n					\n		\n				\n				\n									Join us for a relaxed and inspiring morning where you can bring your own planner\, journal\, hobby\, or craft to enjoy alongside brunch with other women. Whether you’re goal-setting\, stitching\, lettering\, scrapbooking\, working on business ideas\, or just sipping coffee\, this is your time to slow down\, connect\, and create—together. Come for all or part of the morning. It’s like co-working\, but for your creative soul. 								\n				\n				\n				\n					\n	\n				\n				\n				\n						\n					\n			\n						\n				\n					\n				\n				\n	\n			\n		Jerusalem Baptist Church			\n	\n	\n	\n\n5424 Ox Rd\n	\n		\n		Fairfax Station\,\n\n	VA\n\n	22039\n\n	United States\n\n\n\n\n	+ Google Map \n\n\n	\n					\n						\n	 \n\n\n\n	\n\n\n\n		\n	\n				\n				\n					\n		\n				\n			\n						\n				\n					\n	\n		\n\n	\n	Add to calendar	\n		\n	\n\n		\n			\n									\n	Google Calendar\n\n									\n	iCalendar\n\n									\n	Outlook 365\n\n									\n	Outlook Live\n\n							\n		\n\n		\n	\n\n				\n				\n				\n				\n					\n	\n\n	Categories:	\n		Women's Events	\n\n				\n				\n					\n		\n					\n		\n				\n						\n					\n			\n						\n				\n					\n	\n		\n\n				Men's Discipleship | The Gospel Way Catechism	\n\n\n		\n	\n		JBC Kids Sunday Morning Bible Study
URL:https://jerusalembaptist.org/event/vbs/
LOCATION:Jerusalem Baptist Church\, 5424 Ox Rd\, Fairfax Station\, VA\, 22039\, United States
CATEGORIES:Kids Events
ATTACH;FMTTYPE=image/png:https://jerusalembaptist.org/wp-content/uploads/2026/03/VBS2026.png
ORGANIZER;CN="JBC Kids":MAILTO:jerusalembaptistchildren@gmail.com
END:VEVENT
BEGIN:VEVENT
DTSTART;VALUE=DATE:20260720
DTEND;VALUE=DATE:20260729
DTSTAMP:20260421T093336
CREATED:20260415T174009Z
LAST-MODIFIED:20260415T174411Z
UID:10003780-1784505600-1785283199@jerusalembaptist.org
SUMMARY:Japan 2026 Mission Trip
DESCRIPTION:« All Events\n 				\n				\n				\n						\n					\n			\n						\n				\n					\n	Creative Brunch				\n				\n					\n		\n					\n		\n				\n						\n					\n			\n						\n				\n					\n		\n			June 20\n\n	\n\n	 @ \n\n\n9:00 am\n\n		\n\n\n\n	\n	 - \n\n12:00 pm\n\n\n\n	\n				\n				\n					\n		\n					\n		\n				\n				\n									Join us for a relaxed and inspiring morning where you can bring your own planner\, journal\, hobby\, or craft to enjoy alongside brunch with other women. Whether you’re goal-setting\, stitching\, lettering\, scrapbooking\, working on business ideas\, or just sipping coffee\, this is your time to slow down\, connect\, and create—together. Come for all or part of the morning. It’s like co-working\, but for your creative soul. 								\n				\n				\n				\n					\n	\n				\n				\n				\n						\n					\n			\n						\n				\n					\n				\n				\n	\n			\n		Jerusalem Baptist Church			\n	\n	\n	\n\n5424 Ox Rd\n	\n		\n		Fairfax Station\,\n\n	VA\n\n	22039\n\n	United States\n\n\n\n\n	+ Google Map \n\n\n	\n					\n						\n	 \n\n\n\n	\n\n\n\n		\n	\n				\n				\n					\n		\n				\n			\n						\n				\n					\n	\n		\n\n	\n	Add to calendar	\n		\n	\n\n		\n			\n									\n	Google Calendar\n\n									\n	iCalendar\n\n									\n	Outlook 365\n\n									\n	Outlook Live\n\n							\n		\n\n		\n	\n\n				\n				\n				\n				\n					\n	\n\n	Categories:	\n		Women's Events	\n\n				\n				\n					\n		\n					\n		\n				\n						\n					\n			\n						\n				\n					\n	\n		\n\n				Men's Discipleship | The Gospel Way Catechism	\n\n\n		\n	\n		JBC Kids Sunday Morning Bible Study
URL:https://jerusalembaptist.org/event/japan-2026/
LOCATION:VA
CATEGORIES:All-Church/Combined Events,General Events,Missions
ATTACH;FMTTYPE=image/png:https://jerusalembaptist.org/wp-content/uploads/2026/04/Peru-2026-5.png
ORGANIZER;CN="Jerusalem Baptist Church":MAILTO:office@jerusalembaptist.com
END:VEVENT
END:VCALENDAR