BEGIN:VCALENDAR
VERSION:2.0
PRODID:-//Jerusalem Baptist Church, Fairfax Station, VA - ECPv6.15.20//NONSGML v1.0//EN
CALSCALE:GREGORIAN
METHOD:PUBLISH
X-WR-CALNAME:Jerusalem Baptist Church, Fairfax Station, VA
X-ORIGINAL-URL:https://jerusalembaptist.org
X-WR-CALDESC:Events for Jerusalem Baptist Church, Fairfax Station, VA
REFRESH-INTERVAL;VALUE=DURATION:PT1H
X-Robots-Tag:noindex
X-PUBLISHED-TTL:PT1H
BEGIN:VTIMEZONE
TZID:America/New_York
BEGIN:DAYLIGHT
TZOFFSETFROM:-0500
TZOFFSETTO:-0400
TZNAME:EDT
DTSTART:20250309T070000
END:DAYLIGHT
BEGIN:STANDARD
TZOFFSETFROM:-0400
TZOFFSETTO:-0500
TZNAME:EST
DTSTART:20251102T060000
END:STANDARD
BEGIN:DAYLIGHT
TZOFFSETFROM:-0500
TZOFFSETTO:-0400
TZNAME:EDT
DTSTART:20260308T070000
END:DAYLIGHT
BEGIN:STANDARD
TZOFFSETFROM:-0400
TZOFFSETTO:-0500
TZNAME:EST
DTSTART:20261101T060000
END:STANDARD
BEGIN:DAYLIGHT
TZOFFSETFROM:-0500
TZOFFSETTO:-0400
TZNAME:EDT
DTSTART:20270314T070000
END:DAYLIGHT
BEGIN:STANDARD
TZOFFSETFROM:-0400
TZOFFSETTO:-0500
TZNAME:EST
DTSTART:20271107T060000
END:STANDARD
END:VTIMEZONE
BEGIN:VEVENT
DTSTART;TZID=America/New_York:20260419T093000
DTEND;TZID=America/New_York:20260419T103000
DTSTAMP:20260419T081514
CREATED:20260128T175858Z
LAST-MODIFIED:20260128T175858Z
UID:10000026-1776591000-1776594600@jerusalembaptist.org
SUMMARY:JBC Kids Sunday Morning Bible Study
DESCRIPTION:« All Events\n 				\n				\n				\n						\n					\n			\n						\n				\n					\n	Creative Brunch				\n				\n					\n		\n					\n		\n				\n						\n					\n			\n						\n				\n					\n		\n			June 20\n\n	\n\n	 @ \n\n\n9:00 am\n\n		\n\n\n\n	\n	 - \n\n12:00 pm\n\n\n\n	\n				\n				\n					\n		\n					\n		\n				\n				\n									Join us for a relaxed and inspiring morning where you can bring your own planner\, journal\, hobby\, or craft to enjoy alongside brunch with other women. Whether you’re goal-setting\, stitching\, lettering\, scrapbooking\, working on business ideas\, or just sipping coffee\, this is your time to slow down\, connect\, and create—together. Come for all or part of the morning. It’s like co-working\, but for your creative soul. 								\n				\n				\n				\n					\n	\n				\n				\n				\n						\n					\n			\n						\n				\n					\n				\n				\n	\n			\n		Jerusalem Baptist Church			\n	\n	\n	\n\n5424 Ox Rd\n	\n		\n		Fairfax Station\,\n\n	VA\n\n	22039\n\n	United States\n\n\n\n\n	+ Google Map \n\n\n	\n					\n						\n	 \n\n\n\n	\n\n\n\n		\n	\n				\n				\n					\n		\n				\n			\n						\n				\n					\n	\n		\n\n	\n	Add to calendar	\n		\n	\n\n		\n			\n									\n	Google Calendar\n\n									\n	iCalendar\n\n									\n	Outlook 365\n\n									\n	Outlook Live\n\n							\n		\n\n		\n	\n\n				\n				\n				\n				\n					\n	\n\n	Categories:	\n		Women's Events	\n\n				\n				\n					\n		\n					\n		\n				\n						\n					\n			\n						\n				\n					\n	\n		\n\n				Men's Discipleship | The Gospel Way Catechism	\n\n\n		\n	\n		JBC Kids Sunday Morning Bible Study
URL:https://jerusalembaptist.org/event/jbc-kids-sunday-morning-bible-study/2026-04-19/
LOCATION:Jerusalem Baptist Church\, 5424 Ox Rd\, Fairfax Station\, VA\, 22039\, United States
CATEGORIES:Kids Events
ATTACH;FMTTYPE=image/png:https://jerusalembaptist.org/wp-content/uploads/2025/10/4.png
ORGANIZER;CN="JBC Kids":MAILTO:jerusalembaptistchildren@gmail.com
END:VEVENT
BEGIN:VEVENT
DTSTART;TZID=America/New_York:20260419T093000
DTEND;TZID=America/New_York:20260419T104500
DTSTAMP:20260419T081514
CREATED:20260217T145104Z
LAST-MODIFIED:20260415T180731Z
UID:10001695-1776591000-1776595500@jerusalembaptist.org
SUMMARY:Ladies' Book Study - Spiritual Disciplines
DESCRIPTION:« All Events\n 				\n				\n				\n						\n					\n			\n						\n				\n					\n	Creative Brunch				\n				\n					\n		\n					\n		\n				\n						\n					\n			\n						\n				\n					\n		\n			June 20\n\n	\n\n	 @ \n\n\n9:00 am\n\n		\n\n\n\n	\n	 - \n\n12:00 pm\n\n\n\n	\n				\n				\n					\n		\n					\n		\n				\n				\n									Join us for a relaxed and inspiring morning where you can bring your own planner\, journal\, hobby\, or craft to enjoy alongside brunch with other women. Whether you’re goal-setting\, stitching\, lettering\, scrapbooking\, working on business ideas\, or just sipping coffee\, this is your time to slow down\, connect\, and create—together. Come for all or part of the morning. It’s like co-working\, but for your creative soul. 								\n				\n				\n				\n					\n	\n				\n				\n				\n						\n					\n			\n						\n				\n					\n				\n				\n	\n			\n		Jerusalem Baptist Church			\n	\n	\n	\n\n5424 Ox Rd\n	\n		\n		Fairfax Station\,\n\n	VA\n\n	22039\n\n	United States\n\n\n\n\n	+ Google Map \n\n\n	\n					\n						\n	 \n\n\n\n	\n\n\n\n		\n	\n				\n				\n					\n		\n				\n			\n						\n				\n					\n	\n		\n\n	\n	Add to calendar	\n		\n	\n\n		\n			\n									\n	Google Calendar\n\n									\n	iCalendar\n\n									\n	Outlook 365\n\n									\n	Outlook Live\n\n							\n		\n\n		\n	\n\n				\n				\n				\n				\n					\n	\n\n	Categories:	\n		Women's Events	\n\n				\n				\n					\n		\n					\n		\n				\n						\n					\n			\n						\n				\n					\n	\n		\n\n				Men's Discipleship | The Gospel Way Catechism	\n\n\n		\n	\n		JBC Kids Sunday Morning Bible Study
URL:https://jerusalembaptist.org/event/ladies-book-study-spiritual-disciplines/2026-04-19/
LOCATION:Jerusalem Baptist Church\, 5424 Ox Rd\, Fairfax Station\, VA\, 22039\, United States
CATEGORIES:Women's Events
ATTACH;FMTTYPE=image/png:https://jerusalembaptist.org/wp-content/uploads/2026/02/Ladies-Book-Study-2.png
ORGANIZER;CN="JBC Women":MAILTO:women@jerusalembaptist.org
END:VEVENT
BEGIN:VEVENT
DTSTART;TZID=America/New_York:20260419T093000
DTEND;TZID=America/New_York:20260419T104500
DTSTAMP:20260419T081514
CREATED:20260219T183324Z
LAST-MODIFIED:20260330T171546Z
UID:10003097-1776591000-1776595500@jerusalembaptist.org
SUMMARY:Tozier/Andrews Small Group
DESCRIPTION:« All Events\n 				\n				\n				\n						\n					\n			\n						\n				\n					\n	Creative Brunch				\n				\n					\n		\n					\n		\n				\n						\n					\n			\n						\n				\n					\n		\n			June 20\n\n	\n\n	 @ \n\n\n9:00 am\n\n		\n\n\n\n	\n	 - \n\n12:00 pm\n\n\n\n	\n				\n				\n					\n		\n					\n		\n				\n				\n									Join us for a relaxed and inspiring morning where you can bring your own planner\, journal\, hobby\, or craft to enjoy alongside brunch with other women. Whether you’re goal-setting\, stitching\, lettering\, scrapbooking\, working on business ideas\, or just sipping coffee\, this is your time to slow down\, connect\, and create—together. Come for all or part of the morning. It’s like co-working\, but for your creative soul. 								\n				\n				\n				\n					\n	\n				\n				\n				\n						\n					\n			\n						\n				\n					\n				\n				\n	\n			\n		Jerusalem Baptist Church			\n	\n	\n	\n\n5424 Ox Rd\n	\n		\n		Fairfax Station\,\n\n	VA\n\n	22039\n\n	United States\n\n\n\n\n	+ Google Map \n\n\n	\n					\n						\n	 \n\n\n\n	\n\n\n\n		\n	\n				\n				\n					\n		\n				\n			\n						\n				\n					\n	\n		\n\n	\n	Add to calendar	\n		\n	\n\n		\n			\n									\n	Google Calendar\n\n									\n	iCalendar\n\n									\n	Outlook 365\n\n									\n	Outlook Live\n\n							\n		\n\n		\n	\n\n				\n				\n				\n				\n					\n	\n\n	Categories:	\n		Women's Events	\n\n				\n				\n					\n		\n					\n		\n				\n						\n					\n			\n						\n				\n					\n	\n		\n\n				Men's Discipleship | The Gospel Way Catechism	\n\n\n		\n	\n		JBC Kids Sunday Morning Bible Study
URL:https://jerusalembaptist.org/event/tozier-andrews-small-group/2026-04-19/
LOCATION:Jerusalem Baptist Church\, 5424 Ox Rd\, Fairfax Station\, VA\, 22039\, United States
CATEGORIES:Small Groups
ATTACH;FMTTYPE=image/jpeg:https://jerusalembaptist.org/wp-content/uploads/2025/09/TozierAndrews-e1769624143483.jpg
END:VEVENT
BEGIN:VEVENT
DTSTART;TZID=America/New_York:20260419T094500
DTEND;TZID=America/New_York:20260419T104500
DTSTAMP:20260419T081514
CREATED:20260219T185707Z
LAST-MODIFIED:20260330T175414Z
UID:10003365-1776591900-1776595500@jerusalembaptist.org
SUMMARY:Woods/Gholson Small Group
DESCRIPTION:« All Events\n 				\n				\n				\n						\n					\n			\n						\n				\n					\n	Creative Brunch				\n				\n					\n		\n					\n		\n				\n						\n					\n			\n						\n				\n					\n		\n			June 20\n\n	\n\n	 @ \n\n\n9:00 am\n\n		\n\n\n\n	\n	 - \n\n12:00 pm\n\n\n\n	\n				\n				\n					\n		\n					\n		\n				\n				\n									Join us for a relaxed and inspiring morning where you can bring your own planner\, journal\, hobby\, or craft to enjoy alongside brunch with other women. Whether you’re goal-setting\, stitching\, lettering\, scrapbooking\, working on business ideas\, or just sipping coffee\, this is your time to slow down\, connect\, and create—together. Come for all or part of the morning. It’s like co-working\, but for your creative soul. 								\n				\n				\n				\n					\n	\n				\n				\n				\n						\n					\n			\n						\n				\n					\n				\n				\n	\n			\n		Jerusalem Baptist Church			\n	\n	\n	\n\n5424 Ox Rd\n	\n		\n		Fairfax Station\,\n\n	VA\n\n	22039\n\n	United States\n\n\n\n\n	+ Google Map \n\n\n	\n					\n						\n	 \n\n\n\n	\n\n\n\n		\n	\n				\n				\n					\n		\n				\n			\n						\n				\n					\n	\n		\n\n	\n	Add to calendar	\n		\n	\n\n		\n			\n									\n	Google Calendar\n\n									\n	iCalendar\n\n									\n	Outlook 365\n\n									\n	Outlook Live\n\n							\n		\n\n		\n	\n\n				\n				\n				\n				\n					\n	\n\n	Categories:	\n		Women's Events	\n\n				\n				\n					\n		\n					\n		\n				\n						\n					\n			\n						\n				\n					\n	\n		\n\n				Men's Discipleship | The Gospel Way Catechism	\n\n\n		\n	\n		JBC Kids Sunday Morning Bible Study
URL:https://jerusalembaptist.org/event/woods-gholson-small-group/2026-04-19/
LOCATION:Jerusalem Baptist Church\, 5424 Ox Rd\, Fairfax Station\, VA\, 22039\, United States
CATEGORIES:Small Groups
ATTACH;FMTTYPE=image/png:https://jerusalembaptist.org/wp-content/uploads/2026/01/WOODSGHOLSON-e1769703301907.png
END:VEVENT
BEGIN:VEVENT
DTSTART;TZID=America/New_York:20260419T110000
DTEND;TZID=America/New_York:20260419T121500
DTSTAMP:20260419T081515
CREATED:20260217T174642Z
LAST-MODIFIED:20260217T175139Z
UID:10002240-1776596400-1776600900@jerusalembaptist.org
SUMMARY:11 am Worship
DESCRIPTION:« All Events\n 				\n				\n				\n						\n					\n			\n						\n				\n					\n	Creative Brunch				\n				\n					\n		\n					\n		\n				\n						\n					\n			\n						\n				\n					\n		\n			June 20\n\n	\n\n	 @ \n\n\n9:00 am\n\n		\n\n\n\n	\n	 - \n\n12:00 pm\n\n\n\n	\n				\n				\n					\n		\n					\n		\n				\n				\n									Join us for a relaxed and inspiring morning where you can bring your own planner\, journal\, hobby\, or craft to enjoy alongside brunch with other women. Whether you’re goal-setting\, stitching\, lettering\, scrapbooking\, working on business ideas\, or just sipping coffee\, this is your time to slow down\, connect\, and create—together. Come for all or part of the morning. It’s like co-working\, but for your creative soul. 								\n				\n				\n				\n					\n	\n				\n				\n				\n						\n					\n			\n						\n				\n					\n				\n				\n	\n			\n		Jerusalem Baptist Church			\n	\n	\n	\n\n5424 Ox Rd\n	\n		\n		Fairfax Station\,\n\n	VA\n\n	22039\n\n	United States\n\n\n\n\n	+ Google Map \n\n\n	\n					\n						\n	 \n\n\n\n	\n\n\n\n		\n	\n				\n				\n					\n		\n				\n			\n						\n				\n					\n	\n		\n\n	\n	Add to calendar	\n		\n	\n\n		\n			\n									\n	Google Calendar\n\n									\n	iCalendar\n\n									\n	Outlook 365\n\n									\n	Outlook Live\n\n							\n		\n\n		\n	\n\n				\n				\n				\n				\n					\n	\n\n	Categories:	\n		Women's Events	\n\n				\n				\n					\n		\n					\n		\n				\n						\n					\n			\n						\n				\n					\n	\n		\n\n				Men's Discipleship | The Gospel Way Catechism	\n\n\n		\n	\n		JBC Kids Sunday Morning Bible Study
URL:https://jerusalembaptist.org/event/sunday/2026-04-19/
LOCATION:Jerusalem Baptist Church\, 5424 Ox Rd\, Fairfax Station\, VA\, 22039\, United States
CATEGORIES:General Events
ATTACH;FMTTYPE=image/jpeg:https://jerusalembaptist.org/wp-content/uploads/2026/02/Worship-With-Us.jpg
END:VEVENT
BEGIN:VEVENT
DTSTART;TZID=America/New_York:20260419T121500
DTEND;TZID=America/New_York:20260419T131500
DTSTAMP:20260419T081515
CREATED:20260415T165918Z
LAST-MODIFIED:20260415T173515Z
UID:10003778-1776600900-1776604500@jerusalembaptist.org
SUMMARY:Japan 2026 Mission Trip Interest Meeting - 4/19
DESCRIPTION:« All Events\n 				\n				\n				\n						\n					\n			\n						\n				\n					\n	Creative Brunch				\n				\n					\n		\n					\n		\n				\n						\n					\n			\n						\n				\n					\n		\n			June 20\n\n	\n\n	 @ \n\n\n9:00 am\n\n		\n\n\n\n	\n	 - \n\n12:00 pm\n\n\n\n	\n				\n				\n					\n		\n					\n		\n				\n				\n									Join us for a relaxed and inspiring morning where you can bring your own planner\, journal\, hobby\, or craft to enjoy alongside brunch with other women. Whether you’re goal-setting\, stitching\, lettering\, scrapbooking\, working on business ideas\, or just sipping coffee\, this is your time to slow down\, connect\, and create—together. Come for all or part of the morning. It’s like co-working\, but for your creative soul. 								\n				\n				\n				\n					\n	\n				\n				\n				\n						\n					\n			\n						\n				\n					\n				\n				\n	\n			\n		Jerusalem Baptist Church			\n	\n	\n	\n\n5424 Ox Rd\n	\n		\n		Fairfax Station\,\n\n	VA\n\n	22039\n\n	United States\n\n\n\n\n	+ Google Map \n\n\n	\n					\n						\n	 \n\n\n\n	\n\n\n\n		\n	\n				\n				\n					\n		\n				\n			\n						\n				\n					\n	\n		\n\n	\n	Add to calendar	\n		\n	\n\n		\n			\n									\n	Google Calendar\n\n									\n	iCalendar\n\n									\n	Outlook 365\n\n									\n	Outlook Live\n\n							\n		\n\n		\n	\n\n				\n				\n				\n				\n					\n	\n\n	Categories:	\n		Women's Events	\n\n				\n				\n					\n		\n					\n		\n				\n						\n					\n			\n						\n				\n					\n	\n		\n\n				Men's Discipleship | The Gospel Way Catechism	\n\n\n		\n	\n		JBC Kids Sunday Morning Bible Study
URL:https://jerusalembaptist.org/event/japan-2026-mission-trip-interest-meeting-4-19/
LOCATION:Jerusalem Baptist Church\, 5424 Ox Rd\, Fairfax Station\, VA\, 22039\, United States
CATEGORIES:General Events
ATTACH;FMTTYPE=image/png:https://jerusalembaptist.org/wp-content/uploads/2026/04/Peru-2026-4.png
END:VEVENT
BEGIN:VEVENT
DTSTART;TZID=America/New_York:20260419T123000
DTEND;TZID=America/New_York:20260419T133000
DTSTAMP:20260419T081515
CREATED:20260226T193847Z
LAST-MODIFIED:20260330T175543Z
UID:10003424-1776601800-1776605400@jerusalembaptist.org
SUMMARY:Moon / Rhodes Small Group
DESCRIPTION:« All Events\n 				\n				\n				\n						\n					\n			\n						\n				\n					\n	Creative Brunch				\n				\n					\n		\n					\n		\n				\n						\n					\n			\n						\n				\n					\n		\n			June 20\n\n	\n\n	 @ \n\n\n9:00 am\n\n		\n\n\n\n	\n	 - \n\n12:00 pm\n\n\n\n	\n				\n				\n					\n		\n					\n		\n				\n				\n									Join us for a relaxed and inspiring morning where you can bring your own planner\, journal\, hobby\, or craft to enjoy alongside brunch with other women. Whether you’re goal-setting\, stitching\, lettering\, scrapbooking\, working on business ideas\, or just sipping coffee\, this is your time to slow down\, connect\, and create—together. Come for all or part of the morning. It’s like co-working\, but for your creative soul. 								\n				\n				\n				\n					\n	\n				\n				\n				\n						\n					\n			\n						\n				\n					\n				\n				\n	\n			\n		Jerusalem Baptist Church			\n	\n	\n	\n\n5424 Ox Rd\n	\n		\n		Fairfax Station\,\n\n	VA\n\n	22039\n\n	United States\n\n\n\n\n	+ Google Map \n\n\n	\n					\n						\n	 \n\n\n\n	\n\n\n\n		\n	\n				\n				\n					\n		\n				\n			\n						\n				\n					\n	\n		\n\n	\n	Add to calendar	\n		\n	\n\n		\n			\n									\n	Google Calendar\n\n									\n	iCalendar\n\n									\n	Outlook 365\n\n									\n	Outlook Live\n\n							\n		\n\n		\n	\n\n				\n				\n				\n				\n					\n	\n\n	Categories:	\n		Women's Events	\n\n				\n				\n					\n		\n					\n		\n				\n						\n					\n			\n						\n				\n					\n	\n		\n\n				Men's Discipleship | The Gospel Way Catechism	\n\n\n		\n	\n		JBC Kids Sunday Morning Bible Study
URL:https://jerusalembaptist.org/event/moon-rhodes-small-group/2026-04-19/
LOCATION:VA
CATEGORIES:General Events,Small Groups
ATTACH;FMTTYPE=image/png:https://jerusalembaptist.org/wp-content/uploads/2025/09/MOONRHODES-768x510-1-e1769703331278.png
END:VEVENT
BEGIN:VEVENT
DTSTART;TZID=America/New_York:20260419T140000
DTEND;TZID=America/New_York:20260419T150000
DTSTAMP:20260419T081515
CREATED:20260216T180903Z
LAST-MODIFIED:20260216T181618Z
UID:10001657-1776607200-1776610800@jerusalembaptist.org
SUMMARY:Sunrise Senior Living Visit
DESCRIPTION:« All Events\n 				\n				\n				\n						\n					\n			\n						\n				\n					\n	Creative Brunch				\n				\n					\n		\n					\n		\n				\n						\n					\n			\n						\n				\n					\n		\n			June 20\n\n	\n\n	 @ \n\n\n9:00 am\n\n		\n\n\n\n	\n	 - \n\n12:00 pm\n\n\n\n	\n				\n				\n					\n		\n					\n		\n				\n				\n									Join us for a relaxed and inspiring morning where you can bring your own planner\, journal\, hobby\, or craft to enjoy alongside brunch with other women. Whether you’re goal-setting\, stitching\, lettering\, scrapbooking\, working on business ideas\, or just sipping coffee\, this is your time to slow down\, connect\, and create—together. Come for all or part of the morning. It’s like co-working\, but for your creative soul. 								\n				\n				\n				\n					\n	\n				\n				\n				\n						\n					\n			\n						\n				\n					\n				\n				\n	\n			\n		Jerusalem Baptist Church			\n	\n	\n	\n\n5424 Ox Rd\n	\n		\n		Fairfax Station\,\n\n	VA\n\n	22039\n\n	United States\n\n\n\n\n	+ Google Map \n\n\n	\n					\n						\n	 \n\n\n\n	\n\n\n\n		\n	\n				\n				\n					\n		\n				\n			\n						\n				\n					\n	\n		\n\n	\n	Add to calendar	\n		\n	\n\n		\n			\n									\n	Google Calendar\n\n									\n	iCalendar\n\n									\n	Outlook 365\n\n									\n	Outlook Live\n\n							\n		\n\n		\n	\n\n				\n				\n				\n				\n					\n	\n\n	Categories:	\n		Women's Events	\n\n				\n				\n					\n		\n					\n		\n				\n						\n					\n			\n						\n				\n					\n	\n		\n\n				Men's Discipleship | The Gospel Way Catechism	\n\n\n		\n	\n		JBC Kids Sunday Morning Bible Study
URL:https://jerusalembaptist.org/event/sunrise/2026-04-19/
LOCATION:Sunrise Senior Living\, 9207 Arlington Blvd\, Fairfax\, VA\, 22031\, United States
CATEGORIES:General Events
ATTACH;FMTTYPE=image/webp:https://jerusalembaptist.org/wp-content/uploads/2026/02/SunriseNov16.webp
ORGANIZER;CN="Jerusalem Baptist Church":MAILTO:office@jerusalembaptist.com
END:VEVENT
END:VCALENDAR